Back to Multiple platform build/check report for BioC 3.14
A[B]CDEFGHIJKLMNOPQRSTUVWXYZ

This page was generated on 2021-10-25 14:06:50 -0400 (Mon, 25 Oct 2021).

CHECK results for BiocVersion on merida1

To the developers/maintainers of the BiocVersion package:
- Please allow up to 24 hours (and sometimes 48 hours) for your latest push to git@git.bioconductor.org:packages/BiocVersion.git to
reflect on this report. See How and When does the builder pull? When will my changes propagate? here for more information.
- Make sure to use the following settings in order to reproduce any error or warning you see on this page.

raw results

Package 172/2083HostnameOS / ArchINSTALLBUILDCHECKBUILD BIN
BiocVersion 3.14.0  (landing page)
Bioconductor Package Maintainer
Snapshot Date: 2021-10-24 14:50:04 -0400 (Sun, 24 Oct 2021)
git_url: https://git.bioconductor.org/packages/BiocVersion
git_branch: master
git_last_commit: aa56d93
git_last_commit_date: 2021-05-19 12:35:54 -0400 (Wed, 19 May 2021)
nebbiolo2Linux (Ubuntu 20.04.2 LTS) / x86_64  OK    OK    OK  UNNEEDED, same version is already published
riesling1Windows Server 2019 Standard / x64  OK    OK    OK    OK  UNNEEDED, same version is already published
merida1macOS 10.14.6 Mojave / x86_64  OK    OK    OK    OK  UNNEEDED, same version is already published
machv2macOS 10.14.6 Mojave / x86_64  OK    OK    OK    OK  

Summary

Package: BiocVersion
Version: 3.14.0
Command: /Library/Frameworks/R.framework/Resources/bin/R CMD check --install=check:BiocVersion.install-out.txt --library=/Library/Frameworks/R.framework/Resources/library --no-vignettes --timings BiocVersion_3.14.0.tar.gz
StartedAt: 2021-10-25 01:06:25 -0400 (Mon, 25 Oct 2021)
EndedAt: 2021-10-25 01:06:58 -0400 (Mon, 25 Oct 2021)
EllapsedTime: 32.9 seconds
RetCode: 0
Status:   OK  
CheckDir: BiocVersion.Rcheck
Warnings: 0

Command output

##############################################################################
##############################################################################
###
### Running command:
###
###   /Library/Frameworks/R.framework/Resources/bin/R CMD check --install=check:BiocVersion.install-out.txt --library=/Library/Frameworks/R.framework/Resources/library --no-vignettes --timings BiocVersion_3.14.0.tar.gz
###
##############################################################################
##############################################################################


* using log directory ‘/Users/biocbuild/bbs-3.14-bioc/meat/BiocVersion.Rcheck’
* using R version 4.1.1 Patched (2021-08-22 r80813)
* using platform: x86_64-apple-darwin17.0 (64-bit)
* using session charset: UTF-8
* using option ‘--no-vignettes’
* checking for file ‘BiocVersion/DESCRIPTION’ ... OK
* this is package ‘BiocVersion’ version ‘3.14.0’
* package encoding: UTF-8
* checking package namespace information ... OK
* checking package dependencies ... OK
* checking if this is a source package ... OK
* checking if there is a namespace ... OK
* checking for hidden files and directories ... OK
* checking for portable file names ... OK
* checking for sufficient/correct file permissions ... OK
* checking whether package ‘BiocVersion’ can be installed ... OK
* checking installed package size ... OK
* checking package directory ... OK
* checking DESCRIPTION meta-information ... OK
* checking top-level files ... OK
* checking for left-over files ... OK
* checking index information ... OK
* checking package subdirectories ... OK
* checking whether the package can be loaded ... OK
* checking whether the package can be loaded with stated dependencies ... OK
* checking whether the package can be unloaded cleanly ... OK
* checking whether the namespace can be loaded with stated dependencies ... OK
* checking whether the namespace can be unloaded cleanly ... OK
* checking Rd files ... OK
* checking Rd metadata ... OK
* checking Rd cross-references ... OK
* checking for code/documentation mismatches ... OK
* checking Rd \usage sections ... OK
* checking Rd contents ... OK
* checking for unstated dependencies in examples ... OK
* checking examples ... OK
* checking PDF version of manual ... OK
* DONE

Status: OK


Installation output

BiocVersion.Rcheck/00install.out

##############################################################################
##############################################################################
###
### Running command:
###
###   /Library/Frameworks/R.framework/Resources/bin/R CMD INSTALL BiocVersion
###
##############################################################################
##############################################################################


* installing to library ‘/Library/Frameworks/R.framework/Versions/4.1/Resources/library’
* installing *source* package ‘BiocVersion’ ...
** using staged installation
** help
*** installing help indices
** building package indices
** testing if installed package can be loaded from temporary location
** testing if installed package can be loaded from final location
** testing if installed package keeps a record of temporary installation path
* DONE (BiocVersion)

Tests output


Example timings

BiocVersion.Rcheck/BiocVersion-Ex.timings

nameusersystemelapsed
BiocVersion-pkg0.0010.0000.002