Back to Multiple platform build/check report for BioC 3.14
A[B]CDEFGHIJKLMNOPQRSTUVWXYZ

This page was generated on 2022-01-24 13:05:56 -0500 (Mon, 24 Jan 2022).

HostnameOSArch (*)R versionInstalled pkgs
nebbiolo2Linux (Ubuntu 20.04.4 LTS)x86_644.1.2 (2021-11-01) -- "Bird Hippie" 4329
tokay2Windows Server 2012 R2 Standardx644.1.2 (2021-11-01) -- "Bird Hippie" 4080
machv2macOS 10.14.6 Mojavex86_644.1.2 (2021-11-01) -- "Bird Hippie" 4141
Click on any hostname to see more info about the system (e.g. compilers)      (*) as reported by 'uname -p', except on Windows and Mac OS X

CHECK results for BiocStyle on tokay2


To the developers/maintainers of the BiocStyle package:
- Please allow up to 24 hours (and sometimes 48 hours) for your latest push to git@git.bioconductor.org:packages/BiocStyle.git to
reflect on this report. See How and When does the builder pull? When will my changes propagate? here for more information.
- Make sure to use the following settings in order to reproduce any error or warning you see on this page.

raw results

Package 170/2083HostnameOS / ArchINSTALLBUILDCHECKBUILD BIN
BiocStyle 2.22.0  (landing page)
Bioconductor Package
Snapshot Date: 2022-01-23 01:55:04 -0500 (Sun, 23 Jan 2022)
git_url: https://git.bioconductor.org/packages/BiocStyle
git_branch: RELEASE_3_14
git_last_commit: 86250b6
git_last_commit_date: 2021-10-26 12:08:44 -0500 (Tue, 26 Oct 2021)
nebbiolo2Linux (Ubuntu 20.04.4 LTS) / x86_64  OK    OK    OK  UNNEEDED, same version is already published
tokay2Windows Server 2012 R2 Standard / x64  OK    OK    OK    OK  UNNEEDED, same version is already published
machv2macOS 10.14.6 Mojave / x86_64  OK    OK    OK    OK  UNNEEDED, same version is already published

Summary

Package: BiocStyle
Version: 2.22.0
Command: C:\Users\biocbuild\bbs-3.14-bioc\R\bin\R.exe CMD check --force-multiarch --install=check:BiocStyle.install-out.txt --library=C:\Users\biocbuild\bbs-3.14-bioc\R\library --no-vignettes --timings BiocStyle_2.22.0.tar.gz
StartedAt: 2022-01-23 16:00:21 -0500 (Sun, 23 Jan 2022)
EndedAt: 2022-01-23 16:03:15 -0500 (Sun, 23 Jan 2022)
EllapsedTime: 174.3 seconds
RetCode: 0
Status:   OK  
CheckDir: BiocStyle.Rcheck
Warnings: 0

Command output

##############################################################################
##############################################################################
###
### Running command:
###
###   C:\Users\biocbuild\bbs-3.14-bioc\R\bin\R.exe CMD check --force-multiarch --install=check:BiocStyle.install-out.txt --library=C:\Users\biocbuild\bbs-3.14-bioc\R\library --no-vignettes --timings BiocStyle_2.22.0.tar.gz
###
##############################################################################
##############################################################################


* using log directory 'C:/Users/biocbuild/bbs-3.14-bioc/meat/BiocStyle.Rcheck'
* using R version 4.1.2 (2021-11-01)
* using platform: x86_64-w64-mingw32 (64-bit)
* using session charset: ISO8859-1
* using option '--no-vignettes'
* checking for file 'BiocStyle/DESCRIPTION' ... OK
* this is package 'BiocStyle' version '2.22.0'
* package encoding: UTF-8
* checking package namespace information ... OK
* checking package dependencies ... OK
* checking if this is a source package ... OK
* checking if there is a namespace ... OK
* checking for hidden files and directories ... OK
* checking for portable file names ... OK
* checking whether package 'BiocStyle' can be installed ... OK
* checking installed package size ... OK
* checking package directory ... OK
* checking 'build' directory ... OK
* checking DESCRIPTION meta-information ... OK
* checking top-level files ... OK
* checking for left-over files ... OK
* checking index information ... OK
* checking package subdirectories ... OK
* checking R files for non-ASCII characters ... OK
* checking R files for syntax errors ... OK
* loading checks for arch 'i386'
** checking whether the package can be loaded ... OK
** checking whether the package can be loaded with stated dependencies ... OK
** checking whether the package can be unloaded cleanly ... OK
** checking whether the namespace can be loaded with stated dependencies ... OK
** checking whether the namespace can be unloaded cleanly ... OK
* loading checks for arch 'x64'
** checking whether the package can be loaded ... OK
** checking whether the package can be loaded with stated dependencies ... OK
** checking whether the package can be unloaded cleanly ... OK
** checking whether the namespace can be loaded with stated dependencies ... OK
** checking whether the namespace can be unloaded cleanly ... OK
* checking dependencies in R code ... NOTE
Unexported object imported by a ':::' call: 'rmarkdown:::partition_yaml_front_matter'
  See the note in ?`:::` about the use of this operator.
* checking S3 generic/method consistency ... OK
* checking replacement functions ... OK
* checking foreign function calls ... OK
* checking R code for possible problems ... OK
* checking Rd files ... OK
* checking Rd metadata ... OK
* checking Rd cross-references ... OK
* checking for missing documentation entries ... OK
* checking for code/documentation mismatches ... OK
* checking Rd \usage sections ... OK
* checking Rd contents ... OK
* checking for unstated dependencies in examples ... OK
* checking files in 'vignettes' ... OK
* checking examples ...
** running examples for arch 'i386' ... OK
** running examples for arch 'x64' ... OK
* checking for unstated dependencies in 'tests' ... OK
* checking tests ...
** running tests for arch 'i386' ...
  Running 'run_tests.R'
 OK
** running tests for arch 'x64' ...
  Running 'run_tests.R'
 OK
* checking for unstated dependencies in vignettes ... OK
* checking package vignettes in 'inst/doc' ... OK
* checking running R code from vignettes ... SKIPPED
* checking re-building of vignette outputs ... SKIPPED
* checking PDF version of manual ... OK
* DONE

Status: 1 NOTE
See
  'C:/Users/biocbuild/bbs-3.14-bioc/meat/BiocStyle.Rcheck/00check.log'
for details.



Installation output

BiocStyle.Rcheck/00install.out

##############################################################################
##############################################################################
###
### Running command:
###
###   C:\cygwin\bin\curl.exe -O http://155.52.207.166/BBS/3.14/bioc/src/contrib/BiocStyle_2.22.0.tar.gz && rm -rf BiocStyle.buildbin-libdir && mkdir BiocStyle.buildbin-libdir && C:\Users\biocbuild\bbs-3.14-bioc\R\bin\R.exe CMD INSTALL --merge-multiarch --build --library=BiocStyle.buildbin-libdir BiocStyle_2.22.0.tar.gz && C:\Users\biocbuild\bbs-3.14-bioc\R\bin\R.exe CMD INSTALL BiocStyle_2.22.0.zip && rm BiocStyle_2.22.0.tar.gz BiocStyle_2.22.0.zip
###
##############################################################################
##############################################################################


  % Total    % Received % Xferd  Average Speed   Time    Time     Time  Current
                                 Dload  Upload   Total   Spent    Left  Speed

  0     0    0     0    0     0      0      0 --:--:-- --:--:-- --:--:--     0
100 63259  100 63259    0     0   408k      0 --:--:-- --:--:-- --:--:--  411k

install for i386

* installing *source* package 'BiocStyle' ...
** using staged installation
** R
** inst
** byte-compile and prepare package for lazy loading
** help
*** installing help indices
  converting help for package 'BiocStyle'
    finding HTML links ... done
    BiocStyle-defunct                       html  
    helpers                                 html  
    html_document                           html  
    latex                                   html  
    macros                                  html  
    markdown                                html  
    md_document                             html  
    output                                  html  
    pdf_document                            html  
    finding level-2 HTML links ... done

    use_vignette                            html  
** building package indices
** installing vignettes
** testing if installed package can be loaded from temporary location
** testing if installed package can be loaded from final location
** testing if installed package keeps a record of temporary installation path

install for x64

* installing *source* package 'BiocStyle' ...
** testing if installed package can be loaded
* MD5 sums
packaged installation of 'BiocStyle' as BiocStyle_2.22.0.zip
* DONE (BiocStyle)
* installing to library 'C:/Users/biocbuild/bbs-3.14-bioc/R/library'
package 'BiocStyle' successfully unpacked and MD5 sums checked

Tests output

BiocStyle.Rcheck/tests_i386/run_tests.Rout


R version 4.1.2 (2021-11-01) -- "Bird Hippie"
Copyright (C) 2021 The R Foundation for Statistical Computing
Platform: i386-w64-mingw32/i386 (32-bit)

R is free software and comes with ABSOLUTELY NO WARRANTY.
You are welcome to redistribute it under certain conditions.
Type 'license()' or 'licence()' for distribution details.

R is a collaborative project with many contributors.
Type 'contributors()' for more information and
'citation()' on how to cite R or R packages in publications.

Type 'demo()' for some demos, 'help()' for on-line help, or
'help.start()' for an HTML browser interface to help.
Type 'q()' to quit R.

> BiocGenerics:::testPackage("BiocStyle")
Writing to file maketitle_test_1.tex
Processing code chunks with options ...
 1 : keep.source term tex (label = style, maketitle_test_1.Rnw:5)

You can now run (pdf)latex on 'maketitle_test_1.tex'
Writing to file maketitle_test_2.tex
Processing code chunks with options ...
 1 : keep.source term tex (label = style, maketitle_test_2.Rnw:5)

You can now run (pdf)latex on 'maketitle_test_2.tex'
Writing to file maketitle_test_3.tex
Processing code chunks with options ...
 1 : keep.source term tex (label = style, maketitle_test_3.Rnw:5)

You can now run (pdf)latex on 'maketitle_test_3.tex'
Writing to file maketitle_test_4.tex
Processing code chunks with options ...
 1 : keep.source term tex (label = style, maketitle_test_4.Rnw:5)

You can now run (pdf)latex on 'maketitle_test_4.tex'
Writing to file maketitle_test_5.tex
Processing code chunks with options ...
 1 : keep.source term tex (label = style, maketitle_test_5.Rnw:5)

You can now run (pdf)latex on 'maketitle_test_5.tex'


processing file: file110c3c85c17.Rmd
   inline R code fragments

label: plot (with options) 
List of 2
 $ fig.cap: chr "Regular figure. The first sentence of the figure caption is automatically emphasized to serve as figure title."
 $ echo   : logi FALSE

  ordinary text without R code

label: small (with options) 
List of 3
 $ fig.cap  : chr "Small figure. A plot produced by a code chunk with option `fig.small = TRUE`."
 $ fig.small: logi TRUE
 $ echo     : logi FALSE

  ordinary text without R code

label: wide (with options) 
List of 3
 $ fig.cap : chr "Wide figure. A plot produced by a code chunk with option `fig.wide = TRUE`."
 $ fig.wide: logi TRUE
 $ echo    : logi FALSE

  ordinary text without R code

label: sessionInfo (with options) 
List of 1
 $ echo: logi FALSE

output file: file110c3c85c17.knit.md

"C:/PROGRA~1/Pandoc/pandoc" +RTS -K512m -RTS file110c3c85c17.knit.md --to latex --from markdown+autolink_bare_uris+tex_math_single_backslash --output file110c3c85c17.tex --lua-filter "C:\Users\biocbuild\bbs-3.14-bioc\R\library\bookdown\rmarkdown\lua\custom-environment.lua" --lua-filter "C:\Users\biocbuild\bbs-3.14-bioc\R\library\rmarkdown\rmarkdown\lua\pagebreak.lua" --lua-filter "C:\Users\biocbuild\bbs-3.14-bioc\R\library\rmarkdown\rmarkdown\lua\latex-div.lua" --self-contained --table-of-contents --toc-depth 2 --number-sections --highlight-style tango --pdf-engine pdflatex --include-in-header "C:\Users\biocbuild\bbs-3.14-bioc\tmpdir\RtmpI95mCB\110c3052349d.tex" --variable graphics --wrap preserve --variable subparagraph --template "C:\Users\biocbuild\bbs-3.14-bioc\tmpdir\RtmpI95mCB/BiocStyle/template.tex" --variable tables=yes --standalone --variable "compact-title:yes" 
Warning: LaTeX Warning: You have requested package `C:/Users/biocbuild/bbs-3.14-bioc/R/l
Warning: ibrary/BiocStyle/resources/tex/Bioconductor',
Warning:                but the package provides `Bioconductor'.
Warning: Package geometry Warning: Over-specification in `h'-direction.
Warning:     `width' (384.1122pt) is ignored.
Warning: Package Fancyhdr Warning: \fancyhead's `E' option without twoside option is use
Warning: less on input line 162.

Output created: file110c3c85c17.pdf


RUNIT TEST PROTOCOL -- Sun Jan 23 16:02:04 2022 
*********************************************** 
Number of test functions: 3 
Number of errors: 0 
Number of failures: 0 

 
1 Test Suite : 
BiocStyle RUnit Tests - 3 test functions, 0 errors, 0 failures
Number of test functions: 3 
Number of errors: 0 
Number of failures: 0 
> 
> proc.time()
   user  system elapsed 
   6.98    0.81   72.81 

BiocStyle.Rcheck/tests_x64/run_tests.Rout


R version 4.1.2 (2021-11-01) -- "Bird Hippie"
Copyright (C) 2021 The R Foundation for Statistical Computing
Platform: x86_64-w64-mingw32/x64 (64-bit)

R is free software and comes with ABSOLUTELY NO WARRANTY.
You are welcome to redistribute it under certain conditions.
Type 'license()' or 'licence()' for distribution details.

R is a collaborative project with many contributors.
Type 'contributors()' for more information and
'citation()' on how to cite R or R packages in publications.

Type 'demo()' for some demos, 'help()' for on-line help, or
'help.start()' for an HTML browser interface to help.
Type 'q()' to quit R.

> BiocGenerics:::testPackage("BiocStyle")
Writing to file maketitle_test_1.tex
Processing code chunks with options ...
 1 : keep.source term tex (label = style, maketitle_test_1.Rnw:5)

You can now run (pdf)latex on 'maketitle_test_1.tex'
Writing to file maketitle_test_2.tex
Processing code chunks with options ...
 1 : keep.source term tex (label = style, maketitle_test_2.Rnw:5)

You can now run (pdf)latex on 'maketitle_test_2.tex'
Writing to file maketitle_test_3.tex
Processing code chunks with options ...
 1 : keep.source term tex (label = style, maketitle_test_3.Rnw:5)

You can now run (pdf)latex on 'maketitle_test_3.tex'
Writing to file maketitle_test_4.tex
Processing code chunks with options ...
 1 : keep.source term tex (label = style, maketitle_test_4.Rnw:5)

You can now run (pdf)latex on 'maketitle_test_4.tex'
Writing to file maketitle_test_5.tex
Processing code chunks with options ...
 1 : keep.source term tex (label = style, maketitle_test_5.Rnw:5)

You can now run (pdf)latex on 'maketitle_test_5.tex'


processing file: filee8c44c7431b.Rmd
   inline R code fragments

label: plot (with options) 
List of 2
 $ fig.cap: chr "Regular figure. The first sentence of the figure caption is automatically emphasized to serve as figure title."
 $ echo   : logi FALSE

  ordinary text without R code

label: small (with options) 
List of 3
 $ fig.cap  : chr "Small figure. A plot produced by a code chunk with option `fig.small = TRUE`."
 $ fig.small: logi TRUE
 $ echo     : logi FALSE

  ordinary text without R code

label: wide (with options) 
List of 3
 $ fig.cap : chr "Wide figure. A plot produced by a code chunk with option `fig.wide = TRUE`."
 $ fig.wide: logi TRUE
 $ echo    : logi FALSE

  ordinary text without R code

label: sessionInfo (with options) 
List of 1
 $ echo: logi FALSE

output file: filee8c44c7431b.knit.md

"C:/PROGRA~1/Pandoc/pandoc" +RTS -K512m -RTS filee8c44c7431b.knit.md --to latex --from markdown+autolink_bare_uris+tex_math_single_backslash --output filee8c44c7431b.tex --lua-filter "C:\Users\biocbuild\bbs-3.14-bioc\R\library\bookdown\rmarkdown\lua\custom-environment.lua" --lua-filter "C:\Users\biocbuild\bbs-3.14-bioc\R\library\rmarkdown\rmarkdown\lua\pagebreak.lua" --lua-filter "C:\Users\biocbuild\bbs-3.14-bioc\R\library\rmarkdown\rmarkdown\lua\latex-div.lua" --self-contained --table-of-contents --toc-depth 2 --number-sections --highlight-style tango --pdf-engine pdflatex --include-in-header "C:\Users\biocbuild\bbs-3.14-bioc\tmpdir\RtmpOO77Ii\e8c520a2a9a.tex" --variable graphics --wrap preserve --variable subparagraph --template "C:\Users\biocbuild\bbs-3.14-bioc\tmpdir\RtmpOO77Ii/BiocStyle/template.tex" --variable tables=yes --standalone --variable "compact-title:yes" 
Warning: LaTeX Warning: You have requested package `C:/Users/biocbuild/bbs-3.14-bioc/R/l
Warning: ibrary/BiocStyle/resources/tex/Bioconductor',
Warning:                but the package provides `Bioconductor'.
Warning: Package geometry Warning: Over-specification in `h'-direction.
Warning:     `width' (384.1122pt) is ignored.
Warning: Package Fancyhdr Warning: \fancyhead's `E' option without twoside option is use
Warning: less on input line 162.

Output created: filee8c44c7431b.pdf


RUNIT TEST PROTOCOL -- Sun Jan 23 16:02:54 2022 
*********************************************** 
Number of test functions: 3 
Number of errors: 0 
Number of failures: 0 

 
1 Test Suite : 
BiocStyle RUnit Tests - 3 test functions, 0 errors, 0 failures
Number of test functions: 3 
Number of errors: 0 
Number of failures: 0 
> 
> proc.time()
   user  system elapsed 
   6.21    0.70   48.12 

Example timings

BiocStyle.Rcheck/examples_i386/BiocStyle-Ex.timings

nameusersystemelapsed
helpers000
html_document000
latex000
macros000
markdown0.020.000.02
md_document000
output000
pdf_document000
use_vignette0.000.010.01

BiocStyle.Rcheck/examples_x64/BiocStyle-Ex.timings

nameusersystemelapsed
helpers000
html_document000
latex000
macros0.010.000.01
markdown000
md_document000
output000
pdf_document000
use_vignette000