Back to Multiple platform build/check report for BioC 3.14
A[B]CDEFGHIJKLMNOPQRSTUVWXYZ

This page was generated on 2021-10-18 12:03:59 -0400 (Mon, 18 Oct 2021).

CHECK results for BiocStyle on riesling1

To the developers/maintainers of the BiocStyle package:
- Please allow up to 24 hours (and sometimes 48 hours) for your latest push to git@git.bioconductor.org:packages/BiocStyle.git to
reflect on this report. See How and When does the builder pull? When will my changes propagate? here for more information.
- Make sure to use the following settings in order to reproduce any error or warning you see on this page.

raw results

Package 169/2060HostnameOS / ArchINSTALLBUILDCHECKBUILD BIN
BiocStyle 2.21.4  (landing page)
Bioconductor Package
Snapshot Date: 2021-10-17 14:50:03 -0400 (Sun, 17 Oct 2021)
git_url: https://git.bioconductor.org/packages/BiocStyle
git_branch: master
git_last_commit: 1548555
git_last_commit_date: 2021-10-12 12:55:32 -0400 (Tue, 12 Oct 2021)
nebbiolo2Linux (Ubuntu 20.04.2 LTS) / x86_64  OK    OK    OK  UNNEEDED, same version is already published
riesling1Windows Server 2019 Standard / x64  OK    OK    OK    OK  UNNEEDED, same version is already published
merida1macOS 10.14.6 Mojave / x86_64  OK    OK    OK    OK  UNNEEDED, same version is already published

Summary

Package: BiocStyle
Version: 2.21.4
Command: D:\biocbuild\bbs-3.14-bioc\R\bin\R.exe CMD check --force-multiarch --install=check:BiocStyle.install-out.txt --library=D:\biocbuild\bbs-3.14-bioc\R\library --no-vignettes --timings BiocStyle_2.21.4.tar.gz
StartedAt: 2021-10-18 00:01:41 -0400 (Mon, 18 Oct 2021)
EndedAt: 2021-10-18 00:05:19 -0400 (Mon, 18 Oct 2021)
EllapsedTime: 217.6 seconds
RetCode: 0
Status:   OK  
CheckDir: BiocStyle.Rcheck
Warnings: 0

Command output

##############################################################################
##############################################################################
###
### Running command:
###
###   D:\biocbuild\bbs-3.14-bioc\R\bin\R.exe CMD check --force-multiarch --install=check:BiocStyle.install-out.txt --library=D:\biocbuild\bbs-3.14-bioc\R\library --no-vignettes --timings BiocStyle_2.21.4.tar.gz
###
##############################################################################
##############################################################################


* using log directory 'D:/biocbuild/bbs-3.14-bioc/meat/BiocStyle.Rcheck'
* using R version 4.1.1 (2021-08-10)
* using platform: x86_64-w64-mingw32 (64-bit)
* using session charset: ISO8859-1
* using option '--no-vignettes'
* checking for file 'BiocStyle/DESCRIPTION' ... OK
* this is package 'BiocStyle' version '2.21.4'
* package encoding: UTF-8
* checking package namespace information ... OK
* checking package dependencies ... OK
* checking if this is a source package ... OK
* checking if there is a namespace ... OK
* checking for hidden files and directories ... OK
* checking for portable file names ... OK
* checking whether package 'BiocStyle' can be installed ... OK
* checking installed package size ... OK
* checking package directory ... OK
* checking 'build' directory ... OK
* checking DESCRIPTION meta-information ... OK
* checking top-level files ... OK
* checking for left-over files ... OK
* checking index information ... OK
* checking package subdirectories ... OK
* checking R files for non-ASCII characters ... OK
* checking R files for syntax errors ... OK
* loading checks for arch 'i386'
** checking whether the package can be loaded ... OK
** checking whether the package can be loaded with stated dependencies ... OK
** checking whether the package can be unloaded cleanly ... OK
** checking whether the namespace can be loaded with stated dependencies ... OK
** checking whether the namespace can be unloaded cleanly ... OK
* loading checks for arch 'x64'
** checking whether the package can be loaded ... OK
** checking whether the package can be loaded with stated dependencies ... OK
** checking whether the package can be unloaded cleanly ... OK
** checking whether the namespace can be loaded with stated dependencies ... OK
** checking whether the namespace can be unloaded cleanly ... OK
* checking dependencies in R code ... NOTE
Unexported object imported by a ':::' call: 'rmarkdown:::partition_yaml_front_matter'
  See the note in ?`:::` about the use of this operator.
* checking S3 generic/method consistency ... OK
* checking replacement functions ... OK
* checking foreign function calls ... OK
* checking R code for possible problems ... OK
* checking Rd files ... OK
* checking Rd metadata ... OK
* checking Rd cross-references ... OK
* checking for missing documentation entries ... OK
* checking for code/documentation mismatches ... OK
* checking Rd \usage sections ... OK
* checking Rd contents ... OK
* checking for unstated dependencies in examples ... OK
* checking files in 'vignettes' ... OK
* checking examples ...
** running examples for arch 'i386' ... OK
** running examples for arch 'x64' ... OK
* checking for unstated dependencies in 'tests' ... OK
* checking tests ...
** running tests for arch 'i386' ...
  Running 'run_tests.R'
 OK
** running tests for arch 'x64' ...
  Running 'run_tests.R'
 OK
* checking for unstated dependencies in vignettes ... OK
* checking package vignettes in 'inst/doc' ... OK
* checking running R code from vignettes ... SKIPPED
* checking re-building of vignette outputs ... SKIPPED
* checking PDF version of manual ... OK
* DONE

Status: 1 NOTE
See
  'D:/biocbuild/bbs-3.14-bioc/meat/BiocStyle.Rcheck/00check.log'
for details.



Installation output

BiocStyle.Rcheck/00install.out

##############################################################################
##############################################################################
###
### Running command:
###
###   C:\cygwin\bin\curl.exe -O http://155.52.207.166/BBS/3.14/bioc/src/contrib/BiocStyle_2.21.4.tar.gz && rm -rf BiocStyle.buildbin-libdir && mkdir BiocStyle.buildbin-libdir && D:\biocbuild\bbs-3.14-bioc\R\bin\R.exe CMD INSTALL --merge-multiarch --build --library=BiocStyle.buildbin-libdir BiocStyle_2.21.4.tar.gz && D:\biocbuild\bbs-3.14-bioc\R\bin\R.exe CMD INSTALL BiocStyle_2.21.4.zip && rm BiocStyle_2.21.4.tar.gz BiocStyle_2.21.4.zip
###
##############################################################################
##############################################################################


  % Total    % Received % Xferd  Average Speed   Time    Time     Time  Current
                                 Dload  Upload   Total   Spent    Left  Speed

  0     0    0     0    0     0      0      0 --:--:-- --:--:-- --:--:--     0
100 63296  100 63296    0     0   143k      0 --:--:-- --:--:-- --:--:--  143k
100 63296  100 63296    0     0   143k      0 --:--:-- --:--:-- --:--:--  143k

install for i386

* installing *source* package 'BiocStyle' ...
** using staged installation
** R
** inst
** byte-compile and prepare package for lazy loading
** help
*** installing help indices
  converting help for package 'BiocStyle'
    finding HTML links ... done
    BiocStyle-defunct                       html  
    helpers                                 html  
    html_document                           html  
    latex                                   html  
    macros                                  html  
    markdown                                html  
    md_document                             html  
    output                                  html  
    pdf_document                            html  
    finding level-2 HTML links ... done

    use_vignette                            html  
** building package indices
** installing vignettes
** testing if installed package can be loaded from temporary location
** testing if installed package can be loaded from final location
** testing if installed package keeps a record of temporary installation path

install for x64

* installing *source* package 'BiocStyle' ...
** testing if installed package can be loaded
* MD5 sums
packaged installation of 'BiocStyle' as BiocStyle_2.21.4.zip
* DONE (BiocStyle)
* installing to library 'D:/biocbuild/bbs-3.14-bioc/R/library'
package 'BiocStyle' successfully unpacked and MD5 sums checked

Tests output

BiocStyle.Rcheck/tests_i386/run_tests.Rout


R version 4.1.1 (2021-08-10) -- "Kick Things"
Copyright (C) 2021 The R Foundation for Statistical Computing
Platform: i386-w64-mingw32/i386 (32-bit)

R is free software and comes with ABSOLUTELY NO WARRANTY.
You are welcome to redistribute it under certain conditions.
Type 'license()' or 'licence()' for distribution details.

R is a collaborative project with many contributors.
Type 'contributors()' for more information and
'citation()' on how to cite R or R packages in publications.

Type 'demo()' for some demos, 'help()' for on-line help, or
'help.start()' for an HTML browser interface to help.
Type 'q()' to quit R.

> BiocGenerics:::testPackage("BiocStyle")
Writing to file maketitle_test_1.tex
Processing code chunks with options ...
 1 : keep.source term tex (label = style, maketitle_test_1.Rnw:5)

You can now run (pdf)latex on 'maketitle_test_1.tex'
Writing to file maketitle_test_2.tex
Processing code chunks with options ...
 1 : keep.source term tex (label = style, maketitle_test_2.Rnw:5)

You can now run (pdf)latex on 'maketitle_test_2.tex'
Writing to file maketitle_test_3.tex
Processing code chunks with options ...
 1 : keep.source term tex (label = style, maketitle_test_3.Rnw:5)

You can now run (pdf)latex on 'maketitle_test_3.tex'
Writing to file maketitle_test_4.tex
Processing code chunks with options ...
 1 : keep.source term tex (label = style, maketitle_test_4.Rnw:5)

You can now run (pdf)latex on 'maketitle_test_4.tex'
Writing to file maketitle_test_5.tex
Processing code chunks with options ...
 1 : keep.source term tex (label = style, maketitle_test_5.Rnw:5)

You can now run (pdf)latex on 'maketitle_test_5.tex'


processing file: file12a4641223ee.Rmd
   inline R code fragments

label: plot (with options) 
List of 2
 $ fig.cap: chr "Regular figure. The first sentence of the figure caption is automatically emphasized to serve as figure title."
 $ echo   : logi FALSE

  ordinary text without R code

label: small (with options) 
List of 3
 $ fig.cap  : chr "Small figure. A plot produced by a code chunk with option `fig.small = TRUE`."
 $ fig.small: logi TRUE
 $ echo     : logi FALSE

  ordinary text without R code

label: wide (with options) 
List of 3
 $ fig.cap : chr "Wide figure. A plot produced by a code chunk with option `fig.wide = TRUE`."
 $ fig.wide: logi TRUE
 $ echo    : logi FALSE

  ordinary text without R code

label: sessionInfo (with options) 
List of 1
 $ echo: logi FALSE

output file: file12a4641223ee.knit.md

"C:/PROGRA~1/Pandoc/pandoc" +RTS -K512m -RTS file12a4641223ee.knit.md --to latex --from markdown+autolink_bare_uris+tex_math_single_backslash --output file12a4641223ee.tex --lua-filter "D:\biocbuild\bbs-3.14-bioc\R\library\bookdown\rmarkdown\lua\custom-environment.lua" --lua-filter "D:\biocbuild\bbs-3.14-bioc\R\library\rmarkdown\rmarkdown\lua\pagebreak.lua" --lua-filter "D:\biocbuild\bbs-3.14-bioc\R\library\rmarkdown\rmarkdown\lua\latex-div.lua" --self-contained --table-of-contents --toc-depth 2 --number-sections --highlight-style tango --pdf-engine pdflatex --include-in-header "D:\biocbuild\bbs-3.14-bioc\tmpdir\Rtmpcf9bGm\12a44d3b1c92.tex" --variable graphics --wrap preserve --variable subparagraph --template "D:\biocbuild\bbs-3.14-bioc\tmpdir\Rtmpcf9bGm/BiocStyle/template.tex" --variable tables=yes --standalone --variable "compact-title:yes" 
Warning: LaTeX Warning: You have requested package `D:/biocbuild/bbs-3.14-bioc/R/library
Warning: /BiocStyle/resources/tex/Bioconductor',
Warning:                but the package provides `Bioconductor'.
Warning: Package geometry Warning: Over-specification in `h'-direction.
Warning:     `width' (384.1122pt) is ignored.
Warning: Package Fancyhdr Warning: \fancyhead's `E' option without twoside option is use
Warning: less on input line 162.

Output created: file12a4641223ee.pdf


RUNIT TEST PROTOCOL -- Mon Oct 18 00:02:48 2021 
*********************************************** 
Number of test functions: 3 
Number of errors: 0 
Number of failures: 0 

 
1 Test Suite : 
BiocStyle RUnit Tests - 3 test functions, 0 errors, 0 failures
Number of test functions: 3 
Number of errors: 0 
Number of failures: 0 
> 
> proc.time()
   user  system elapsed 
   4.92    0.75   48.39 

BiocStyle.Rcheck/tests_x64/run_tests.Rout


R version 4.1.1 (2021-08-10) -- "Kick Things"
Copyright (C) 2021 The R Foundation for Statistical Computing
Platform: x86_64-w64-mingw32/x64 (64-bit)

R is free software and comes with ABSOLUTELY NO WARRANTY.
You are welcome to redistribute it under certain conditions.
Type 'license()' or 'licence()' for distribution details.

R is a collaborative project with many contributors.
Type 'contributors()' for more information and
'citation()' on how to cite R or R packages in publications.

Type 'demo()' for some demos, 'help()' for on-line help, or
'help.start()' for an HTML browser interface to help.
Type 'q()' to quit R.

> BiocGenerics:::testPackage("BiocStyle")
Writing to file maketitle_test_1.tex
Processing code chunks with options ...
 1 : keep.source term tex (label = style, maketitle_test_1.Rnw:5)

You can now run (pdf)latex on 'maketitle_test_1.tex'
Writing to file maketitle_test_2.tex
Processing code chunks with options ...
 1 : keep.source term tex (label = style, maketitle_test_2.Rnw:5)

You can now run (pdf)latex on 'maketitle_test_2.tex'
Writing to file maketitle_test_3.tex
Processing code chunks with options ...
 1 : keep.source term tex (label = style, maketitle_test_3.Rnw:5)

You can now run (pdf)latex on 'maketitle_test_3.tex'
Writing to file maketitle_test_4.tex
Processing code chunks with options ...
 1 : keep.source term tex (label = style, maketitle_test_4.Rnw:5)

You can now run (pdf)latex on 'maketitle_test_4.tex'
Writing to file maketitle_test_5.tex
Processing code chunks with options ...
 1 : keep.source term tex (label = style, maketitle_test_5.Rnw:5)

You can now run (pdf)latex on 'maketitle_test_5.tex'


processing file: file11a44b512a4f.Rmd
   inline R code fragments

label: plot (with options) 
List of 2
 $ fig.cap: chr "Regular figure. The first sentence of the figure caption is automatically emphasized to serve as figure title."
 $ echo   : logi FALSE

  ordinary text without R code

label: small (with options) 
List of 3
 $ fig.cap  : chr "Small figure. A plot produced by a code chunk with option `fig.small = TRUE`."
 $ fig.small: logi TRUE
 $ echo     : logi FALSE

  ordinary text without R code

label: wide (with options) 
List of 3
 $ fig.cap : chr "Wide figure. A plot produced by a code chunk with option `fig.wide = TRUE`."
 $ fig.wide: logi TRUE
 $ echo    : logi FALSE

  ordinary text without R code

label: sessionInfo (with options) 
List of 1
 $ echo: logi FALSE

output file: file11a44b512a4f.knit.md

"C:/PROGRA~1/Pandoc/pandoc" +RTS -K512m -RTS file11a44b512a4f.knit.md --to latex --from markdown+autolink_bare_uris+tex_math_single_backslash --output file11a44b512a4f.tex --lua-filter "D:\biocbuild\bbs-3.14-bioc\R\library\bookdown\rmarkdown\lua\custom-environment.lua" --lua-filter "D:\biocbuild\bbs-3.14-bioc\R\library\rmarkdown\rmarkdown\lua\pagebreak.lua" --lua-filter "D:\biocbuild\bbs-3.14-bioc\R\library\rmarkdown\rmarkdown\lua\latex-div.lua" --self-contained --table-of-contents --toc-depth 2 --number-sections --highlight-style tango --pdf-engine pdflatex --include-in-header "D:\biocbuild\bbs-3.14-bioc\tmpdir\RtmpMrw3yQ\11a4358b40fe.tex" --variable graphics --wrap preserve --variable subparagraph --template "D:\biocbuild\bbs-3.14-bioc\tmpdir\RtmpMrw3yQ/BiocStyle/template.tex" --variable tables=yes --standalone --variable "compact-title:yes" 
Warning: LaTeX Warning: You have requested package `D:/biocbuild/bbs-3.14-bioc/R/library
Warning: /BiocStyle/resources/tex/Bioconductor',
Warning:                but the package provides `Bioconductor'.
Warning: Package geometry Warning: Over-specification in `h'-direction.
Warning:     `width' (384.1122pt) is ignored.
Warning: Package Fancyhdr Warning: \fancyhead's `E' option without twoside option is use
Warning: less on input line 162.

Output created: file11a44b512a4f.pdf


RUNIT TEST PROTOCOL -- Mon Oct 18 00:03:33 2021 
*********************************************** 
Number of test functions: 3 
Number of errors: 0 
Number of failures: 0 

 
1 Test Suite : 
BiocStyle RUnit Tests - 3 test functions, 0 errors, 0 failures
Number of test functions: 3 
Number of errors: 0 
Number of failures: 0 
> 
> proc.time()
   user  system elapsed 
   3.14    0.76   43.90 

Example timings

BiocStyle.Rcheck/examples_i386/BiocStyle-Ex.timings

nameusersystemelapsed
helpers000
html_document000
latex000
macros000
markdown000
md_document000
output000
pdf_document000
use_vignette0.000.000.01

BiocStyle.Rcheck/examples_x64/BiocStyle-Ex.timings

nameusersystemelapsed
helpers000
html_document000
latex000
macros000
markdown000
md_document000
output000
pdf_document000
use_vignette000