Back to Multiple platform build/check report for BioC 3.14
A[B]CDEFGHIJKLMNOPQRSTUVWXYZ

This page was generated on 2021-10-20 12:04:37 -0400 (Wed, 20 Oct 2021).

CHECK results for BiocStyle on nebbiolo2

To the developers/maintainers of the BiocStyle package:
- Please allow up to 24 hours (and sometimes 48 hours) for your latest push to git@git.bioconductor.org:packages/BiocStyle.git to
reflect on this report. See How and When does the builder pull? When will my changes propagate? here for more information.
- Make sure to use the following settings in order to reproduce any error or warning you see on this page.

raw results

Package 170/2072HostnameOS / ArchINSTALLBUILDCHECKBUILD BIN
BiocStyle 2.21.4  (landing page)
Bioconductor Package
Snapshot Date: 2021-10-19 14:50:04 -0400 (Tue, 19 Oct 2021)
git_url: https://git.bioconductor.org/packages/BiocStyle
git_branch: master
git_last_commit: 1548555
git_last_commit_date: 2021-10-12 12:55:32 -0400 (Tue, 12 Oct 2021)
nebbiolo2Linux (Ubuntu 20.04.2 LTS) / x86_64  OK    OK    OK  UNNEEDED, same version is already published
riesling1Windows Server 2019 Standard / x64  OK    OK    OK    OK  UNNEEDED, same version is already published
merida1macOS 10.14.6 Mojave / x86_64  OK    OK    OK    OK  UNNEEDED, same version is already published

Summary

Package: BiocStyle
Version: 2.21.4
Command: /home/biocbuild/bbs-3.14-bioc/R/bin/R CMD check --install=check:BiocStyle.install-out.txt --library=/home/biocbuild/bbs-3.14-bioc/R/library --no-vignettes --timings BiocStyle_2.21.4.tar.gz
StartedAt: 2021-10-19 19:14:45 -0400 (Tue, 19 Oct 2021)
EndedAt: 2021-10-19 19:15:18 -0400 (Tue, 19 Oct 2021)
EllapsedTime: 32.5 seconds
RetCode: 0
Status:   OK  
CheckDir: BiocStyle.Rcheck
Warnings: 0

Command output

##############################################################################
##############################################################################
###
### Running command:
###
###   /home/biocbuild/bbs-3.14-bioc/R/bin/R CMD check --install=check:BiocStyle.install-out.txt --library=/home/biocbuild/bbs-3.14-bioc/R/library --no-vignettes --timings BiocStyle_2.21.4.tar.gz
###
##############################################################################
##############################################################################


* using log directory ‘/home/biocbuild/bbs-3.14-bioc/meat/BiocStyle.Rcheck’
* using R version 4.1.1 (2021-08-10)
* using platform: x86_64-pc-linux-gnu (64-bit)
* using session charset: UTF-8
* using option ‘--no-vignettes’
* checking for file ‘BiocStyle/DESCRIPTION’ ... OK
* this is package ‘BiocStyle’ version ‘2.21.4’
* package encoding: UTF-8
* checking package namespace information ... OK
* checking package dependencies ... OK
* checking if this is a source package ... OK
* checking if there is a namespace ... OK
* checking for hidden files and directories ... OK
* checking for portable file names ... OK
* checking for sufficient/correct file permissions ... OK
* checking whether package ‘BiocStyle’ can be installed ... OK
* checking installed package size ... OK
* checking package directory ... OK
* checking ‘build’ directory ... OK
* checking DESCRIPTION meta-information ... OK
* checking top-level files ... OK
* checking for left-over files ... OK
* checking index information ... OK
* checking package subdirectories ... OK
* checking R files for non-ASCII characters ... OK
* checking R files for syntax errors ... OK
* checking whether the package can be loaded ... OK
* checking whether the package can be loaded with stated dependencies ... OK
* checking whether the package can be unloaded cleanly ... OK
* checking whether the namespace can be loaded with stated dependencies ... OK
* checking whether the namespace can be unloaded cleanly ... OK
* checking dependencies in R code ... NOTE
Unexported object imported by a ':::' call: ‘rmarkdown:::partition_yaml_front_matter’
  See the note in ?`:::` about the use of this operator.
* checking S3 generic/method consistency ... OK
* checking replacement functions ... OK
* checking foreign function calls ... OK
* checking R code for possible problems ... OK
* checking Rd files ... OK
* checking Rd metadata ... OK
* checking Rd cross-references ... OK
* checking for missing documentation entries ... OK
* checking for code/documentation mismatches ... OK
* checking Rd \usage sections ... OK
* checking Rd contents ... OK
* checking for unstated dependencies in examples ... OK
* checking files in ‘vignettes’ ... OK
* checking examples ... OK
* checking for unstated dependencies in ‘tests’ ... OK
* checking tests ...
  Running ‘run_tests.R’
 OK
* checking for unstated dependencies in vignettes ... OK
* checking package vignettes in ‘inst/doc’ ... OK
* checking running R code from vignettes ... SKIPPED
* checking re-building of vignette outputs ... SKIPPED
* checking PDF version of manual ... OK
* DONE

Status: 1 NOTE
See
  ‘/home/biocbuild/bbs-3.14-bioc/meat/BiocStyle.Rcheck/00check.log’
for details.



Installation output

BiocStyle.Rcheck/00install.out

##############################################################################
##############################################################################
###
### Running command:
###
###   /home/biocbuild/bbs-3.14-bioc/R/bin/R CMD INSTALL BiocStyle
###
##############################################################################
##############################################################################


* installing to library ‘/home/biocbuild/bbs-3.14-bioc/R/library’
* installing *source* package ‘BiocStyle’ ...
** using staged installation
** R
** inst
** byte-compile and prepare package for lazy loading
** help
*** installing help indices
** building package indices
** installing vignettes
** testing if installed package can be loaded from temporary location
** testing if installed package can be loaded from final location
** testing if installed package keeps a record of temporary installation path
* DONE (BiocStyle)

Tests output

BiocStyle.Rcheck/tests/run_tests.Rout


R version 4.1.1 (2021-08-10) -- "Kick Things"
Copyright (C) 2021 The R Foundation for Statistical Computing
Platform: x86_64-pc-linux-gnu (64-bit)

R is free software and comes with ABSOLUTELY NO WARRANTY.
You are welcome to redistribute it under certain conditions.
Type 'license()' or 'licence()' for distribution details.

R is a collaborative project with many contributors.
Type 'contributors()' for more information and
'citation()' on how to cite R or R packages in publications.

Type 'demo()' for some demos, 'help()' for on-line help, or
'help.start()' for an HTML browser interface to help.
Type 'q()' to quit R.

> BiocGenerics:::testPackage("BiocStyle")
Writing to file maketitle_test_1.tex
Processing code chunks with options ...
 1 : keep.source term tex (label = style, maketitle_test_1.Rnw:5)

You can now run (pdf)latex on 'maketitle_test_1.tex'
Writing to file maketitle_test_2.tex
Processing code chunks with options ...
 1 : keep.source term tex (label = style, maketitle_test_2.Rnw:5)

You can now run (pdf)latex on 'maketitle_test_2.tex'
Writing to file maketitle_test_3.tex
Processing code chunks with options ...
 1 : keep.source term tex (label = style, maketitle_test_3.Rnw:5)

You can now run (pdf)latex on 'maketitle_test_3.tex'
Writing to file maketitle_test_4.tex
Processing code chunks with options ...
 1 : keep.source term tex (label = style, maketitle_test_4.Rnw:5)

You can now run (pdf)latex on 'maketitle_test_4.tex'
Writing to file maketitle_test_5.tex
Processing code chunks with options ...
 1 : keep.source term tex (label = style, maketitle_test_5.Rnw:5)

You can now run (pdf)latex on 'maketitle_test_5.tex'


processing file: file104fdf2d62a93c.Rmd
   inline R code fragments

label: plot (with options) 
List of 2
 $ fig.cap: chr "Regular figure. The first sentence of the figure caption is automatically emphasized to serve as figure title."
 $ echo   : logi FALSE

  ordinary text without R code

label: small (with options) 
List of 3
 $ fig.cap  : chr "Small figure. A plot produced by a code chunk with option `fig.small = TRUE`."
 $ fig.small: logi TRUE
 $ echo     : logi FALSE

  ordinary text without R code

label: wide (with options) 
List of 3
 $ fig.cap : chr "Wide figure. A plot produced by a code chunk with option `fig.wide = TRUE`."
 $ fig.wide: logi TRUE
 $ echo    : logi FALSE

  ordinary text without R code

label: sessionInfo (with options) 
List of 1
 $ echo: logi FALSE

output file: file104fdf2d62a93c.knit.md

/usr/bin/pandoc +RTS -K512m -RTS file104fdf2d62a93c.knit.md --to latex --from markdown+autolink_bare_uris+tex_math_single_backslash --output file104fdf2d62a93c.tex --lua-filter /home/biocbuild/bbs-3.14-bioc/R/library/bookdown/rmarkdown/lua/custom-environment.lua --lua-filter /home/biocbuild/bbs-3.14-bioc/R/library/rmarkdown/rmarkdown/lua/pagebreak.lua --lua-filter /home/biocbuild/bbs-3.14-bioc/R/library/rmarkdown/rmarkdown/lua/latex-div.lua --self-contained --table-of-contents --toc-depth 2 --number-sections --highlight-style tango --pdf-engine pdflatex --include-in-header /tmp/RtmpecBjUF/104fdf1a5f8b43.tex --variable graphics --wrap preserve --variable subparagraph --template /tmp/RtmpecBjUF/BiocStyle/template.tex --include-in-header /home/biocbuild/bbs-3.14-bioc/R/library/rmarkdown/rmd/latex/subtitle.tex --variable tables=yes --variable 'compact-title:yes' 
Warning: LaTeX Warning: You have requested package `/home/biocbuild/bbs-3.14-bioc/R/libr
Warning: ary/BiocStyle/resources/tex/Bioconductor',
Warning:                but the package provides `Bioconductor'.
Warning: Package geometry Warning: Over-specification in `h'-direction.
Warning:     `width' (384.1122pt) is ignored.
Warning: Package Fancyhdr Warning: \fancyhead's `E' option without twoside option is use
Warning: less on input line 162.

Output created: file104fdf2d62a93c.pdf


RUNIT TEST PROTOCOL -- Tue Oct 19 19:15:15 2021 
*********************************************** 
Number of test functions: 3 
Number of errors: 0 
Number of failures: 0 

 
1 Test Suite : 
BiocStyle RUnit Tests - 3 test functions, 0 errors, 0 failures
Number of test functions: 3 
Number of errors: 0 
Number of failures: 0 
> 
> proc.time()
   user  system elapsed 
 11.630   2.109  13.318 

Example timings

BiocStyle.Rcheck/BiocStyle-Ex.timings

nameusersystemelapsed
helpers0.0020.0000.001
html_document000
latex000
macros0.0000.0040.004
markdown000
md_document000
output000
pdf_document000
use_vignette0.0020.0000.003