Back to Multiple platform build/check report for BioC 3.14
A[B]CDEFGHIJKLMNOPQRSTUVWXYZ

This page was generated on 2022-01-21 13:06:01 -0500 (Fri, 21 Jan 2022).

HostnameOSArch (*)R versionInstalled pkgs
nebbiolo2Linux (Ubuntu 20.04.4 LTS)x86_644.1.2 (2021-11-01) -- "Bird Hippie" 4329
tokay2Windows Server 2012 R2 Standardx644.1.2 (2021-11-01) -- "Bird Hippie" 4079
machv2macOS 10.14.6 Mojavex86_644.1.2 (2021-11-01) -- "Bird Hippie" 4140
Click on any hostname to see more info about the system (e.g. compilers)      (*) as reported by 'uname -p', except on Windows and Mac OS X

INSTALL results for BiocSklearn on tokay2


To the developers/maintainers of the BiocSklearn package:
- Please allow up to 24 hours (and sometimes 48 hours) for your latest push to git@git.bioconductor.org:packages/BiocSklearn.git to
reflect on this report. See How and When does the builder pull? When will my changes propagate? here for more information.
- Make sure to use the following settings in order to reproduce any error or warning you see on this page.

raw results

Package 169/2083HostnameOS / ArchINSTALLBUILDCHECKBUILD BIN
BiocSklearn 1.16.0  (landing page)
Vince Carey
Snapshot Date: 2022-01-20 01:55:04 -0500 (Thu, 20 Jan 2022)
git_url: https://git.bioconductor.org/packages/BiocSklearn
git_branch: RELEASE_3_14
git_last_commit: e86f9c8
git_last_commit_date: 2021-10-26 12:36:55 -0500 (Tue, 26 Oct 2021)
nebbiolo2Linux (Ubuntu 20.04.4 LTS) / x86_64  OK    OK    OK  UNNEEDED, same version is already published
tokay2Windows Server 2012 R2 Standard / x64  OK    OK    OK    OK  UNNEEDED, same version is already published
machv2macOS 10.14.6 Mojave / x86_64  OK    OK    OK    OK  UNNEEDED, same version is already published

Summary

Package: BiocSklearn
Version: 1.16.0
Command: C:\Users\biocbuild\bbs-3.14-bioc\R\bin\R.exe --arch x64 CMD INSTALL --no-multiarch BiocSklearn
StartedAt: 2022-01-20 05:20:19 -0500 (Thu, 20 Jan 2022)
EndedAt: 2022-01-20 05:21:17 -0500 (Thu, 20 Jan 2022)
EllapsedTime: 58.7 seconds
RetCode: 0
Status:   OK  

Command output

##############################################################################
##############################################################################
###
### Running command:
###
###   C:\Users\biocbuild\bbs-3.14-bioc\R\bin\R.exe --arch x64 CMD INSTALL --no-multiarch BiocSklearn
###
##############################################################################
##############################################################################


* installing to library 'C:/Users/biocbuild/bbs-3.14-bioc/R/library'
* installing *source* package 'BiocSklearn' ...
** using non-staged installation via StagedInstall field

   **********************************************
   WARNING: this package has a configure script
         It probably needs manual configuration
   **********************************************


** R
** inst
** byte-compile and prepare package for lazy loading
** help
*** installing help indices
  converting help for package 'BiocSklearn'
    finding HTML links ... done
    H5matref                                html  
    SkDecomp-class                          html  
    SkDecomp                                html  
    SklearnEls                              html  
    h5mat                                   html  
    skIncrPCA                               html  
    skIncrPCA_h5                            html  
    skIncrPPCA                              html  
    skIncrPartialPCA                        html  
    skKMeans                                html  
    skPCA                                   html  
    skPartialPCA_step                       html  
** building package indices
** installing vignettes
** testing if installed package can be loaded
* DONE (BiocSklearn)
Making 'packages.html' ... done