Back to Multiple platform build/check report for BioC 3.14
A[B]CDEFGHIJKLMNOPQRSTUVWXYZ

This page was generated on 2021-10-22 12:04:19 -0400 (Fri, 22 Oct 2021).

BUILD BIN results for BiocSklearn on riesling1

To the developers/maintainers of the BiocSklearn package:
- Please allow up to 24 hours (and sometimes 48 hours) for your latest push to git@git.bioconductor.org:packages/BiocSklearn.git to
reflect on this report. See How and When does the builder pull? When will my changes propagate? here for more information.
- Make sure to use the following settings in order to reproduce any error or warning you see on this page.

raw results

Package 169/2075HostnameOS / ArchINSTALLBUILDCHECKBUILD BIN
BiocSklearn 1.15.0  (landing page)
Vince Carey
Snapshot Date: 2021-10-21 14:50:08 -0400 (Thu, 21 Oct 2021)
git_url: https://git.bioconductor.org/packages/BiocSklearn
git_branch: master
git_last_commit: 0b618b4
git_last_commit_date: 2021-07-29 13:17:36 -0400 (Thu, 29 Jul 2021)
nebbiolo2Linux (Ubuntu 20.04.2 LTS) / x86_64  OK    OK    OK  UNNEEDED, same version is already published
riesling1Windows Server 2019 Standard / x64  OK    OK    OK    OK  UNNEEDED, same version is already published
merida1macOS 10.14.6 Mojave / x86_64  OK    OK    OK    OK  UNNEEDED, same version is already published

Summary

Package: BiocSklearn
Version: 1.15.0
Command: rm -rf BiocSklearn.buildbin-libdir && mkdir BiocSklearn.buildbin-libdir && D:\biocbuild\bbs-3.14-bioc\R\bin\R.exe --arch x64 CMD INSTALL --no-multiarch --build --library=BiocSklearn.buildbin-libdir BiocSklearn_1.15.0.tar.gz
StartedAt: 2021-10-22 04:34:08 -0400 (Fri, 22 Oct 2021)
EndedAt: 2021-10-22 04:38:07 -0400 (Fri, 22 Oct 2021)
EllapsedTime: 239.1 seconds
RetCode: 0
Status:   OK  
PackageFile: BiocSklearn_1.15.0.zip
PackageFileSize: 32.74 MiB

Command output

##############################################################################
##############################################################################
###
### Running command:
###
###   rm -rf BiocSklearn.buildbin-libdir && mkdir BiocSklearn.buildbin-libdir && D:\biocbuild\bbs-3.14-bioc\R\bin\R.exe --arch x64 CMD INSTALL --no-multiarch --build --library=BiocSklearn.buildbin-libdir BiocSklearn_1.15.0.tar.gz
###
##############################################################################
##############################################################################


* installing *source* package 'BiocSklearn' ...
** using non-staged installation via StagedInstall field

   **********************************************
   WARNING: this package has a configure script
         It probably needs manual configuration
   **********************************************


** R
** inst
** byte-compile and prepare package for lazy loading
** help
*** installing help indices
  converting help for package 'BiocSklearn'
    finding HTML links ... done
    H5matref                                html  
    SkDecomp-class                          html  
    SkDecomp                                html  
    SklearnEls                              html  
    h5mat                                   html  
    skIncrPCA                               html  
    skIncrPCA_h5                            html  
    skIncrPPCA                              html  
    skIncrPartialPCA                        html  
    skKMeans                                html  
    skPCA                                   html  
    skPartialPCA_step                       html  
** building package indices
** installing vignettes
** testing if installed package can be loaded
* MD5 sums
packaged installation of 'BiocSklearn' as BiocSklearn_1.15.0.zip
* DONE (BiocSklearn)