Back to Multiple platform build/check report for BioC 3.14
A[B]CDEFGHIJKLMNOPQRSTUVWXYZ

This page was generated on 2021-10-25 14:05:32 -0400 (Mon, 25 Oct 2021).

INSTALL results for BiocSklearn on nebbiolo2

To the developers/maintainers of the BiocSklearn package:
- Please allow up to 24 hours (and sometimes 48 hours) for your latest push to git@git.bioconductor.org:packages/BiocSklearn.git to
reflect on this report. See How and When does the builder pull? When will my changes propagate? here for more information.
- Make sure to use the following settings in order to reproduce any error or warning you see on this page.

raw results

Package 169/2083HostnameOS / ArchINSTALLBUILDCHECKBUILD BIN
BiocSklearn 1.15.0  (landing page)
Vince Carey
Snapshot Date: 2021-10-24 14:50:04 -0400 (Sun, 24 Oct 2021)
git_url: https://git.bioconductor.org/packages/BiocSklearn
git_branch: master
git_last_commit: 0b618b4
git_last_commit_date: 2021-07-29 13:17:36 -0400 (Thu, 29 Jul 2021)
nebbiolo2Linux (Ubuntu 20.04.2 LTS) / x86_64  OK    OK    OK  UNNEEDED, same version is already published
riesling1Windows Server 2019 Standard / x64  OK    OK    OK    OK  UNNEEDED, same version is already published
merida1macOS 10.14.6 Mojave / x86_64  OK    OK    OK    OK  UNNEEDED, same version is already published
machv2macOS 10.14.6 Mojave / x86_64  OK    OK    OK    OK  

Summary

Package: BiocSklearn
Version: 1.15.0
Command: /home/biocbuild/bbs-3.14-bioc/R/bin/R CMD INSTALL BiocSklearn
StartedAt: 2021-10-24 16:12:35 -0400 (Sun, 24 Oct 2021)
EndedAt: 2021-10-24 16:12:50 -0400 (Sun, 24 Oct 2021)
EllapsedTime: 15.0 seconds
RetCode: 0
Status:   OK  

Command output

##############################################################################
##############################################################################
###
### Running command:
###
###   /home/biocbuild/bbs-3.14-bioc/R/bin/R CMD INSTALL BiocSklearn
###
##############################################################################
##############################################################################


* installing to library ‘/home/biocbuild/bbs-3.14-bioc/R/library’
* installing *source* package ‘BiocSklearn’ ...
** using non-staged installation via StagedInstall field
** R
** inst
** byte-compile and prepare package for lazy loading
** help
*** installing help indices
** building package indices
** installing vignettes
** testing if installed package can be loaded
* DONE (BiocSklearn)