Back to Multiple platform build/check report for BioC 3.14
A[B]CDEFGHIJKLMNOPQRSTUVWXYZ

This page was generated on 2021-12-06 13:05:50 -0500 (Mon, 06 Dec 2021).

CHECK results for BiocSklearn on machv2

To the developers/maintainers of the BiocSklearn package:
- Please allow up to 24 hours (and sometimes 48 hours) for your latest push to git@git.bioconductor.org:packages/BiocSklearn.git to
reflect on this report. See How and When does the builder pull? When will my changes propagate? here for more information.
- Make sure to use the following settings in order to reproduce any error or warning you see on this page.

raw results

Package 169/2083HostnameOS / ArchINSTALLBUILDCHECKBUILD BIN
BiocSklearn 1.16.0  (landing page)
Vince Carey
Snapshot Date: 2021-12-05 01:55:05 -0500 (Sun, 05 Dec 2021)
git_url: https://git.bioconductor.org/packages/BiocSklearn
git_branch: RELEASE_3_14
git_last_commit: e86f9c8
git_last_commit_date: 2021-10-26 12:36:55 -0500 (Tue, 26 Oct 2021)
nebbiolo2Linux (Ubuntu 20.04.3 LTS) / x86_64  OK    OK    OK  UNNEEDED, same version is already published
tokay2Windows Server 2012 R2 Standard / x64  OK    OK    OK    OK  UNNEEDED, same version is already published
machv2macOS 10.14.6 Mojave / x86_64  OK    OK    OK    OK  UNNEEDED, same version is already published

Summary

Package: BiocSklearn
Version: 1.16.0
Command: /Library/Frameworks/R.framework/Resources/bin/R CMD check --install=check:BiocSklearn.install-out.txt --library=/Library/Frameworks/R.framework/Resources/library --no-vignettes --timings BiocSklearn_1.16.0.tar.gz
StartedAt: 2021-12-05 12:15:16 -0500 (Sun, 05 Dec 2021)
EndedAt: 2021-12-05 12:18:17 -0500 (Sun, 05 Dec 2021)
EllapsedTime: 180.5 seconds
RetCode: 0
Status:   OK  
CheckDir: BiocSklearn.Rcheck
Warnings: 0

Command output

##############################################################################
##############################################################################
###
### Running command:
###
###   /Library/Frameworks/R.framework/Resources/bin/R CMD check --install=check:BiocSklearn.install-out.txt --library=/Library/Frameworks/R.framework/Resources/library --no-vignettes --timings BiocSklearn_1.16.0.tar.gz
###
##############################################################################
##############################################################################


* using log directory ‘/Users/biocbuild/bbs-3.14-bioc/meat/BiocSklearn.Rcheck’
* using R version 4.1.2 (2021-11-01)
* using platform: x86_64-apple-darwin17.0 (64-bit)
* using session charset: UTF-8
* using option ‘--no-vignettes’
* checking for file ‘BiocSklearn/DESCRIPTION’ ... OK
* this is package ‘BiocSklearn’ version ‘1.16.0’
* package encoding: UTF-8
* checking package namespace information ... OK
* checking package dependencies ... OK
* checking if this is a source package ... OK
* checking if there is a namespace ... OK
* checking for hidden files and directories ... NOTE
Found the following hidden files and directories:
  .BBSoptions
These were most likely included in error. See section ‘Package
structure’ in the ‘Writing R Extensions’ manual.
* checking for portable file names ... OK
* checking for sufficient/correct file permissions ... OK
* checking whether package ‘BiocSklearn’ can be installed ... NOTE
Found the following notes/warnings:
  Non-staged installation was used
See ‘/Users/biocbuild/bbs-3.14-bioc/meat/BiocSklearn.Rcheck/00install.out’ for details.
* checking installed package size ... NOTE
  installed size is 32.7Mb
  sub-directories of 1Mb or more:
    ban_6_17  29.1Mb
    hdf5       3.1Mb
* checking package directory ... OK
* checking ‘build’ directory ... OK
* checking DESCRIPTION meta-information ... OK
* checking top-level files ... OK
* checking for left-over files ... OK
* checking index information ... OK
* checking package subdirectories ... OK
* checking R files for non-ASCII characters ... OK
* checking R files for syntax errors ... OK
* checking whether the package can be loaded ... OK
* checking whether the package can be loaded with stated dependencies ... OK
* checking whether the package can be unloaded cleanly ... OK
* checking whether the namespace can be loaded with stated dependencies ... OK
* checking whether the namespace can be unloaded cleanly ... OK
* checking dependencies in R code ... OK
* checking S3 generic/method consistency ... OK
* checking replacement functions ... OK
* checking foreign function calls ... OK
* checking R code for possible problems ... OK
* checking Rd files ... OK
* checking Rd metadata ... OK
* checking Rd cross-references ... OK
* checking for missing documentation entries ... OK
* checking for code/documentation mismatches ... OK
* checking Rd \usage sections ... OK
* checking Rd contents ... OK
* checking for unstated dependencies in examples ... OK
* checking line endings in shell scripts ... OK
* checking files in ‘vignettes’ ... OK
* checking examples ... OK
* checking for unstated dependencies in ‘tests’ ... OK
* checking tests ...
  Running ‘testthat.R’
 OK
* checking for unstated dependencies in vignettes ... OK
* checking package vignettes in ‘inst/doc’ ... OK
* checking running R code from vignettes ... SKIPPED
* checking re-building of vignette outputs ... SKIPPED
* checking PDF version of manual ... OK
* DONE

Status: 3 NOTEs
See
  ‘/Users/biocbuild/bbs-3.14-bioc/meat/BiocSklearn.Rcheck/00check.log’
for details.



Installation output

BiocSklearn.Rcheck/00install.out

##############################################################################
##############################################################################
###
### Running command:
###
###   /Library/Frameworks/R.framework/Resources/bin/R CMD INSTALL BiocSklearn
###
##############################################################################
##############################################################################


* installing to library ‘/Library/Frameworks/R.framework/Versions/4.1/Resources/library’
* installing *source* package ‘BiocSklearn’ ...
** using non-staged installation via StagedInstall field
** R
** inst
** byte-compile and prepare package for lazy loading
** help
*** installing help indices
** building package indices
** installing vignettes
** testing if installed package can be loaded
* DONE (BiocSklearn)

Tests output

BiocSklearn.Rcheck/tests/testthat.Rout


R version 4.1.2 (2021-11-01) -- "Bird Hippie"
Copyright (C) 2021 The R Foundation for Statistical Computing
Platform: x86_64-apple-darwin17.0 (64-bit)

R is free software and comes with ABSOLUTELY NO WARRANTY.
You are welcome to redistribute it under certain conditions.
Type 'license()' or 'licence()' for distribution details.

R is a collaborative project with many contributors.
Type 'contributors()' for more information and
'citation()' on how to cite R or R packages in publications.

Type 'demo()' for some demos, 'help()' for on-line help, or
'help.start()' for an HTML browser interface to help.
Type 'q()' to quit R.

> #library(testthat)
> #library(restfulSE)
> 
> #test_check("BiocSklearn")
> 
> 
> proc.time()
   user  system elapsed 
  0.308   0.073   0.357 

Example timings

BiocSklearn.Rcheck/BiocSklearn-Ex.timings

nameusersystemelapsed
H5matref0.0000.0010.001
SklearnEls0.0000.0010.001
h5mat0.0010.0010.002
skIncrPCA3.5170.8004.437
skIncrPCA_h50.0160.0020.019
skIncrPPCA0.0040.0000.005
skIncrPartialPCA0.2600.0080.269
skKMeans0.6520.0590.554
skPCA0.1120.0040.058
skPartialPCA_step0.0080.0010.008