Back to Multiple platform build/check report for BioC 3.14
A[B]CDEFGHIJKLMNOPQRSTUVWXYZ

This page was generated on 2021-10-25 14:06:50 -0400 (Mon, 25 Oct 2021).

BUILD BIN results for BiocSingular on merida1

To the developers/maintainers of the BiocSingular package:
- Please allow up to 24 hours (and sometimes 48 hours) for your latest push to git@git.bioconductor.org:packages/BiocSingular.git to
reflect on this report. See How and When does the builder pull? When will my changes propagate? here for more information.
- Make sure to use the following settings in order to reproduce any error or warning you see on this page.

raw results

Package 168/2083HostnameOS / ArchINSTALLBUILDCHECKBUILD BIN
BiocSingular 1.9.1  (landing page)
Aaron Lun
Snapshot Date: 2021-10-24 14:50:04 -0400 (Sun, 24 Oct 2021)
git_url: https://git.bioconductor.org/packages/BiocSingular
git_branch: master
git_last_commit: 01209b8
git_last_commit_date: 2021-06-08 02:14:49 -0400 (Tue, 08 Jun 2021)
nebbiolo2Linux (Ubuntu 20.04.2 LTS) / x86_64  OK    OK    OK  UNNEEDED, same version is already published
riesling1Windows Server 2019 Standard / x64  OK    OK    OK    OK  UNNEEDED, same version is already published
merida1macOS 10.14.6 Mojave / x86_64  OK    OK    OK    OK  UNNEEDED, same version is already published
machv2macOS 10.14.6 Mojave / x86_64  OK    OK    OK    OK  

Summary

Package: BiocSingular
Version: 1.9.1
Command: rm -rf BiocSingular.buildbin-libdir && mkdir BiocSingular.buildbin-libdir && /Users/biocbuild/BBS/utils/build-universal.sh BiocSingular_1.9.1.tar.gz /Library/Frameworks/R.framework/Resources/bin/R BiocSingular.buildbin-libdir
StartedAt: 2021-10-25 10:49:55 -0400 (Mon, 25 Oct 2021)
EndedAt: 2021-10-25 10:50:52 -0400 (Mon, 25 Oct 2021)
EllapsedTime: 57.4 seconds
RetCode: 0
Status:   OK  
PackageFile: BiocSingular_1.9.1.tgz
PackageFileSize: 894 KiB

Command output

##############################################################################
##############################################################################
###
### Running command:
###
###   rm -rf BiocSingular.buildbin-libdir && mkdir BiocSingular.buildbin-libdir && /Users/biocbuild/BBS/utils/build-universal.sh BiocSingular_1.9.1.tar.gz /Library/Frameworks/R.framework/Resources/bin/R BiocSingular.buildbin-libdir
###
##############################################################################
##############################################################################


>>>>>>> 
>>>>>>> INSTALLATION WITH 'R CMD INSTALL --preclean --no-multiarch --library=BiocSingular.buildbin-libdir BiocSingular_1.9.1.tar.gz'
>>>>>>> 

* installing *source* package ‘BiocSingular’ ...
** using staged installation
** libs
clang++ -mmacosx-version-min=10.13 -std=gnu++11 -I"/Library/Frameworks/R.framework/Resources/include" -DNDEBUG  -I'/Library/Frameworks/R.framework/Versions/4.1/Resources/library/Rcpp/include' -I'/Library/Frameworks/R.framework/Versions/4.1/Resources/library/beachmat/include' -I/usr/local/include   -fPIC  -Wall -g -O2  -c RcppExports.cpp -o RcppExports.o
clang++ -mmacosx-version-min=10.13 -std=gnu++11 -I"/Library/Frameworks/R.framework/Resources/include" -DNDEBUG  -I'/Library/Frameworks/R.framework/Versions/4.1/Resources/library/Rcpp/include' -I'/Library/Frameworks/R.framework/Versions/4.1/Resources/library/beachmat/include' -I/usr/local/include   -fPIC  -Wall -g -O2  -c compute_scale.cpp -o compute_scale.o
In file included from compute_scale.cpp:2:
In file included from /Library/Frameworks/R.framework/Versions/4.1/Resources/library/beachmat/include/beachmat3/beachmat.h:24:
In file included from /Library/Frameworks/R.framework/Versions/4.1/Resources/library/beachmat/include/beachmat3/read_lin_block.h:11:
/Library/Frameworks/R.framework/Versions/4.1/Resources/library/beachmat/include/beachmat3/lin_matrix.h:218:43: warning: 'beachmat::lin_sparse_matrix::get_row' hides overloaded virtual functions [-Woverloaded-virtual]
    virtual sparse_index<const int*, int> get_row(size_t r, int* work_x, int* work_i, size_t first, size_t last) = 0;
                                          ^
/Library/Frameworks/R.framework/Versions/4.1/Resources/library/beachmat/include/beachmat3/lin_matrix.h:66:24: note: hidden overloaded virtual function 'beachmat::lin_matrix::get_row' declared here: different number of parameters (4 vs 5)
    virtual const int* get_row(size_t r, int* work, size_t first, size_t last) = 0;
                       ^
/Library/Frameworks/R.framework/Versions/4.1/Resources/library/beachmat/include/beachmat3/lin_matrix.h:95:27: note: hidden overloaded virtual function 'beachmat::lin_matrix::get_row' declared here: different number of parameters (4 vs 5)
    virtual const double* get_row(size_t r, double* work, size_t first, size_t last) = 0;
                          ^
/Library/Frameworks/R.framework/Versions/4.1/Resources/library/beachmat/include/beachmat3/lin_matrix.h:236:43: warning: 'beachmat::lin_sparse_matrix::get_col' hides overloaded virtual functions [-Woverloaded-virtual]
    virtual sparse_index<const int*, int> get_col(size_t c, int* work_x, int* work_i, size_t first, size_t last) = 0;
                                          ^
/Library/Frameworks/R.framework/Versions/4.1/Resources/library/beachmat/include/beachmat3/lin_matrix.h:52:24: note: hidden overloaded virtual function 'beachmat::lin_matrix::get_col' declared here: different number of parameters (4 vs 5)
    virtual const int* get_col(size_t c, int* work, size_t first, size_t last) = 0;
                       ^
/Library/Frameworks/R.framework/Versions/4.1/Resources/library/beachmat/include/beachmat3/lin_matrix.h:81:27: note: hidden overloaded virtual function 'beachmat::lin_matrix::get_col' declared here: different number of parameters (4 vs 5)
    virtual const double* get_col(size_t c, double* work, size_t first, size_t last) = 0;
                          ^
/Library/Frameworks/R.framework/Versions/4.1/Resources/library/beachmat/include/beachmat3/lin_matrix.h:254:46: warning: 'beachmat::lin_sparse_matrix::get_row' hides overloaded virtual functions [-Woverloaded-virtual]
    virtual sparse_index<const double*, int> get_row(size_t r, double* work_x, int* work_i, size_t first, size_t last) = 0;
                                             ^
/Library/Frameworks/R.framework/Versions/4.1/Resources/library/beachmat/include/beachmat3/lin_matrix.h:66:24: note: hidden overloaded virtual function 'beachmat::lin_matrix::get_row' declared here: different number of parameters (4 vs 5)
    virtual const int* get_row(size_t r, int* work, size_t first, size_t last) = 0;
                       ^
/Library/Frameworks/R.framework/Versions/4.1/Resources/library/beachmat/include/beachmat3/lin_matrix.h:95:27: note: hidden overloaded virtual function 'beachmat::lin_matrix::get_row' declared here: different number of parameters (4 vs 5)
    virtual const double* get_row(size_t r, double* work, size_t first, size_t last) = 0;
                          ^
/Library/Frameworks/R.framework/Versions/4.1/Resources/library/beachmat/include/beachmat3/lin_matrix.h:272:46: warning: 'beachmat::lin_sparse_matrix::get_col' hides overloaded virtual functions [-Woverloaded-virtual]
    virtual sparse_index<const double*, int> get_col(size_t c, double* work_x, int* work_i, size_t first, size_t last) = 0;
                                             ^
/Library/Frameworks/R.framework/Versions/4.1/Resources/library/beachmat/include/beachmat3/lin_matrix.h:52:24: note: hidden overloaded virtual function 'beachmat::lin_matrix::get_col' declared here: different number of parameters (4 vs 5)
    virtual const int* get_col(size_t c, int* work, size_t first, size_t last) = 0;
                       ^
/Library/Frameworks/R.framework/Versions/4.1/Resources/library/beachmat/include/beachmat3/lin_matrix.h:81:27: note: hidden overloaded virtual function 'beachmat::lin_matrix::get_col' declared here: different number of parameters (4 vs 5)
    virtual const double* get_col(size_t c, double* work, size_t first, size_t last) = 0;
                          ^
/Library/Frameworks/R.framework/Versions/4.1/Resources/library/beachmat/include/beachmat3/lin_matrix.h:287:35: warning: 'beachmat::lin_sparse_matrix::get_col' hides overloaded virtual functions [-Woverloaded-virtual]
    sparse_index<const int*, int> get_col(size_t c, int* work_x, int* work_i) {
                                  ^
/Library/Frameworks/R.framework/Versions/4.1/Resources/library/beachmat/include/beachmat3/lin_matrix.h:52:24: note: hidden overloaded virtual function 'beachmat::lin_matrix::get_col' declared here: different number of parameters (4 vs 3)
    virtual const int* get_col(size_t c, int* work, size_t first, size_t last) = 0;
                       ^
/Library/Frameworks/R.framework/Versions/4.1/Resources/library/beachmat/include/beachmat3/lin_matrix.h:81:27: note: hidden overloaded virtual function 'beachmat::lin_matrix::get_col' declared here: different number of parameters (4 vs 3)
    virtual const double* get_col(size_t c, double* work, size_t first, size_t last) = 0;
                          ^
/Library/Frameworks/R.framework/Versions/4.1/Resources/library/beachmat/include/beachmat3/lin_matrix.h:304:35: warning: 'beachmat::lin_sparse_matrix::get_row' hides overloaded virtual functions [-Woverloaded-virtual]
    sparse_index<const int*, int> get_row(size_t r, int* work_x, int* work_i) {
                                  ^
/Library/Frameworks/R.framework/Versions/4.1/Resources/library/beachmat/include/beachmat3/lin_matrix.h:66:24: note: hidden overloaded virtual function 'beachmat::lin_matrix::get_row' declared here: different number of parameters (4 vs 3)
    virtual const int* get_row(size_t r, int* work, size_t first, size_t last) = 0;
                       ^
/Library/Frameworks/R.framework/Versions/4.1/Resources/library/beachmat/include/beachmat3/lin_matrix.h:95:27: note: hidden overloaded virtual function 'beachmat::lin_matrix::get_row' declared here: different number of parameters (4 vs 3)
    virtual const double* get_row(size_t r, double* work, size_t first, size_t last) = 0;
                          ^
/Library/Frameworks/R.framework/Versions/4.1/Resources/library/beachmat/include/beachmat3/lin_matrix.h:321:38: warning: 'beachmat::lin_sparse_matrix::get_col' hides overloaded virtual functions [-Woverloaded-virtual]
    sparse_index<const double*, int> get_col(size_t c, double* work_x, int* work_i) {
                                     ^
/Library/Frameworks/R.framework/Versions/4.1/Resources/library/beachmat/include/beachmat3/lin_matrix.h:52:24: note: hidden overloaded virtual function 'beachmat::lin_matrix::get_col' declared here: different number of parameters (4 vs 3)
    virtual const int* get_col(size_t c, int* work, size_t first, size_t last) = 0;
                       ^
/Library/Frameworks/R.framework/Versions/4.1/Resources/library/beachmat/include/beachmat3/lin_matrix.h:81:27: note: hidden overloaded virtual function 'beachmat::lin_matrix::get_col' declared here: different number of parameters (4 vs 3)
    virtual const double* get_col(size_t c, double* work, size_t first, size_t last) = 0;
                          ^
/Library/Frameworks/R.framework/Versions/4.1/Resources/library/beachmat/include/beachmat3/lin_matrix.h:338:38: warning: 'beachmat::lin_sparse_matrix::get_row' hides overloaded virtual functions [-Woverloaded-virtual]
    sparse_index<const double*, int> get_row(size_t r, double* work_x, int* work_i) {
                                     ^
/Library/Frameworks/R.framework/Versions/4.1/Resources/library/beachmat/include/beachmat3/lin_matrix.h:66:24: note: hidden overloaded virtual function 'beachmat::lin_matrix::get_row' declared here: different number of parameters (4 vs 3)
    virtual const int* get_row(size_t r, int* work, size_t first, size_t last) = 0;
                       ^
/Library/Frameworks/R.framework/Versions/4.1/Resources/library/beachmat/include/beachmat3/lin_matrix.h:95:27: note: hidden overloaded virtual function 'beachmat::lin_matrix::get_row' declared here: different number of parameters (4 vs 3)
    virtual const double* get_row(size_t r, double* work, size_t first, size_t last) = 0;
                          ^
8 warnings generated.
clang++ -mmacosx-version-min=10.13 -std=gnu++11 -dynamiclib -Wl,-headerpad_max_install_names -undefined dynamic_lookup -single_module -multiply_defined suppress -L/Library/Frameworks/R.framework/Resources/lib -L/usr/local/lib -o BiocSingular.so RcppExports.o compute_scale.o -F/Library/Frameworks/R.framework/.. -framework R -Wl,-framework -Wl,CoreFoundation
installing to /Users/biocbuild/bbs-3.14-bioc/meat/BiocSingular.buildbin-libdir/00LOCK-BiocSingular/00new/BiocSingular/libs
** R
** inst
** byte-compile and prepare package for lazy loading
** help
*** installing help indices
** building package indices
** installing vignettes
** testing if installed package can be loaded from temporary location
** checking absolute paths in shared objects and dynamic libraries
** testing if installed package can be loaded from final location
** testing if installed package keeps a record of temporary installation path
* DONE (BiocSingular)


>>>>>>> 
>>>>>>> FIXING LINKS FOR BiocSingular.buildbin-libdir/BiocSingular/libs/BiocSingular.so
>>>>>>> 

install_name_tool -change "/usr/local/lib/libgcc_s.1.dylib" "/Library/Frameworks/R.framework/Versions/4.1/Resources/lib/libgcc_s.1.dylib" "BiocSingular.buildbin-libdir/BiocSingular/libs/BiocSingular.so"
install_name_tool -change "/usr/local/lib/libgfortran.5.dylib" "/Library/Frameworks/R.framework/Versions/4.1/Resources/lib/libgfortran.5.dylib" "BiocSingular.buildbin-libdir/BiocSingular/libs/BiocSingular.so"
install_name_tool -change "/usr/local/lib/libquadmath.0.dylib" "/Library/Frameworks/R.framework/Versions/4.1/Resources/lib/libquadmath.0.dylib" "BiocSingular.buildbin-libdir/BiocSingular/libs/BiocSingular.so"