Index of /checkResults/3.14/bioc-LATEST/BiocSet/raw-results

[ICO]NameLast modifiedSizeDescription

[DIR]Parent Directory  -  
[   ]info.dcf23-Sep-2021 01:05 274  
[DIR]merida1/23-Sep-2021 01:05 -  
[DIR]nebbiolo2/23-Sep-2021 01:04 -  
[DIR]riesling1/23-Sep-2021 01:05 -