Back to Multiple platform build/check report for BioC 3.14
A[B]CDEFGHIJKLMNOPQRSTUVWXYZ

This page was generated on 2021-09-22 12:04:41 -0400 (Wed, 22 Sep 2021).

BUILD results for BiocSet on nebbiolo2

To the developers/maintainers of the BiocSet package:
- Please allow up to 24 hours (and sometimes 48 hours) for your latest push to git@git.bioconductor.org:packages/BiocSet.git to
reflect on this report. See How and When does the builder pull? When will my changes propagate? here for more information.
- Make sure to use the following settings in order to reproduce any error or warning you see on this page.

raw results

Package 165/2029HostnameOS / ArchINSTALLBUILDCHECKBUILD BIN
BiocSet 1.7.1  (landing page)
Kayla Morrell
Snapshot Date: 2021-09-21 14:50:05 -0400 (Tue, 21 Sep 2021)
git_url: https://git.bioconductor.org/packages/BiocSet
git_branch: master
git_last_commit: 01a4533
git_last_commit_date: 2021-08-05 16:15:06 -0400 (Thu, 05 Aug 2021)
nebbiolo2Linux (Ubuntu 20.04.2 LTS) / x86_64  OK    OK    OK  UNNEEDED, same version is already published
riesling1Windows Server 2019 Standard / x64  OK    OK    OK    OK  UNNEEDED, same version is already published
merida1macOS 10.14.6 Mojave / x86_64  OK    OK    OK    OK  UNNEEDED, same version is already published

Summary

Package: BiocSet
Version: 1.7.1
Command: /home/biocbuild/bbs-3.14-bioc/R/bin/R CMD build --keep-empty-dirs --no-resave-data BiocSet
StartedAt: 2021-09-21 16:46:47 -0400 (Tue, 21 Sep 2021)
EndedAt: 2021-09-21 16:48:55 -0400 (Tue, 21 Sep 2021)
EllapsedTime: 127.6 seconds
RetCode: 0
Status:   OK  
PackageFile: BiocSet_1.7.1.tar.gz
PackageFileSize: 344.3 KiB

Command output

##############################################################################
##############################################################################
###
### Running command:
###
###   /home/biocbuild/bbs-3.14-bioc/R/bin/R CMD build --keep-empty-dirs --no-resave-data BiocSet
###
##############################################################################
##############################################################################


* checking for file ‘BiocSet/DESCRIPTION’ ... OK
* preparing ‘BiocSet’:
* checking DESCRIPTION meta-information ... OK
* installing the package to build vignettes
* creating vignettes ... OK
* checking for LF line-endings in source and make files and shell scripts
* checking for empty or unneeded directories
Omitted ‘LazyData’ from DESCRIPTION
* building ‘BiocSet_1.7.1.tar.gz’