Back to Multiple platform build/check report for BioC 3.14
A[B]CDEFGHIJKLMNOPQRSTUVWXYZ

This page was generated on 2021-10-18 12:04:27 -0400 (Mon, 18 Oct 2021).

BUILD BIN results for BiocSet on merida1

To the developers/maintainers of the BiocSet package:
- Please allow up to 24 hours (and sometimes 48 hours) for your latest push to git@git.bioconductor.org:packages/BiocSet.git to
reflect on this report. See How and When does the builder pull? When will my changes propagate? here for more information.
- Make sure to use the following settings in order to reproduce any error or warning you see on this page.

raw results

Package 166/2060HostnameOS / ArchINSTALLBUILDCHECKBUILD BIN
BiocSet 1.7.1  (landing page)
Kayla Morrell
Snapshot Date: 2021-10-17 14:50:03 -0400 (Sun, 17 Oct 2021)
git_url: https://git.bioconductor.org/packages/BiocSet
git_branch: master
git_last_commit: 01a4533
git_last_commit_date: 2021-08-05 16:15:06 -0400 (Thu, 05 Aug 2021)
nebbiolo2Linux (Ubuntu 20.04.2 LTS) / x86_64  OK    OK    ERROR  
riesling1Windows Server 2019 Standard / x64  OK    OK    ERROR    OK  
merida1macOS 10.14.6 Mojave / x86_64  OK    OK    ERROR    OK  

Summary

Package: BiocSet
Version: 1.7.1
Command: rm -rf BiocSet.buildbin-libdir && mkdir BiocSet.buildbin-libdir && /Users/biocbuild/BBS/utils/build-universal.sh BiocSet_1.7.1.tar.gz /Library/Frameworks/R.framework/Resources/bin/R BiocSet.buildbin-libdir
StartedAt: 2021-10-18 11:25:25 -0400 (Mon, 18 Oct 2021)
EndedAt: 2021-10-18 11:26:19 -0400 (Mon, 18 Oct 2021)
EllapsedTime: 53.3 seconds
RetCode: 0
Status:   OK  
PackageFile: BiocSet_1.7.1.tgz
PackageFileSize: 762.4 KiB

Command output

##############################################################################
##############################################################################
###
### Running command:
###
###   rm -rf BiocSet.buildbin-libdir && mkdir BiocSet.buildbin-libdir && /Users/biocbuild/BBS/utils/build-universal.sh BiocSet_1.7.1.tar.gz /Library/Frameworks/R.framework/Resources/bin/R BiocSet.buildbin-libdir
###
##############################################################################
##############################################################################


>>>>>>> 
>>>>>>> INSTALLATION WITH 'R CMD INSTALL --preclean --no-multiarch --library=BiocSet.buildbin-libdir BiocSet_1.7.1.tar.gz'
>>>>>>> 

* installing *source* package ‘BiocSet’ ...
** using staged installation
** R
** inst
** byte-compile and prepare package for lazy loading
** help
*** installing help indices
** building package indices
** installing vignettes
** testing if installed package can be loaded from temporary location
** testing if installed package can be loaded from final location
** testing if installed package keeps a record of temporary installation path
* DONE (BiocSet)