Back to Multiple platform build/check report for BioC 3.14
A[B]CDEFGHIJKLMNOPQRSTUVWXYZ

This page was generated on 2021-11-29 15:05:48 -0500 (Mon, 29 Nov 2021).

BUILD results for BiocSet on machv2

To the developers/maintainers of the BiocSet package:
- Please allow up to 24 hours (and sometimes 48 hours) for your latest push to git@git.bioconductor.org:packages/BiocSet.git to
reflect on this report. See How and When does the builder pull? When will my changes propagate? here for more information.
- Make sure to use the following settings in order to reproduce any error or warning you see on this page.

raw results

Package 167/2083HostnameOS / ArchINSTALLBUILDCHECKBUILD BIN
BiocSet 1.8.1  (landing page)
Kayla Morrell
Snapshot Date: 2021-11-28 04:15:06 -0500 (Sun, 28 Nov 2021)
git_url: https://git.bioconductor.org/packages/BiocSet
git_branch: RELEASE_3_14
git_last_commit: 1f7d340
git_last_commit_date: 2021-11-02 15:26:58 -0500 (Tue, 02 Nov 2021)
nebbiolo2Linux (Ubuntu 20.04.3 LTS) / x86_64  OK    OK    OK  UNNEEDED, same version is already published
tokay2Windows Server 2012 R2 Standard / x64  OK    OK    OK    OK  UNNEEDED, same version is already published
machv2macOS 10.14.6 Mojave / x86_64  OK    OK    OK    OK  UNNEEDED, same version is already published

Summary

Package: BiocSet
Version: 1.8.1
Command: /Library/Frameworks/R.framework/Resources/bin/R CMD build --keep-empty-dirs --no-resave-data BiocSet
StartedAt: 2021-11-28 07:50:18 -0500 (Sun, 28 Nov 2021)
EndedAt: 2021-11-28 07:52:56 -0500 (Sun, 28 Nov 2021)
EllapsedTime: 157.7 seconds
RetCode: 0
Status:   OK  
PackageFile: BiocSet_1.8.1.tar.gz
PackageFileSize: 344.4 KiB

Command output

##############################################################################
##############################################################################
###
### Running command:
###
###   /Library/Frameworks/R.framework/Resources/bin/R CMD build --keep-empty-dirs --no-resave-data BiocSet
###
##############################################################################
##############################################################################


* checking for file ‘BiocSet/DESCRIPTION’ ... OK
* preparing ‘BiocSet’:
* checking DESCRIPTION meta-information ... OK
* installing the package to build vignettes
* creating vignettes ... OK
* checking for LF line-endings in source and make files and shell scripts
* checking for empty or unneeded directories
Omitted ‘LazyData’ from DESCRIPTION
* building ‘BiocSet_1.8.1.tar.gz’