Back to Multiple platform build/check report for BioC 3.14
A[B]CDEFGHIJKLMNOPQRSTUVWXYZ

This page was generated on 2021-10-26 14:06:17 -0400 (Tue, 26 Oct 2021).

BUILD results for BiocPkgTools on nebbiolo2

To the developers/maintainers of the BiocPkgTools package:
- Please allow up to 24 hours (and sometimes 48 hours) for your latest push to git@git.bioconductor.org:packages/BiocPkgTools.git to
reflect on this report. See How and When does the builder pull? When will my changes propagate? here for more information.
- Make sure to use the following settings in order to reproduce any error or warning you see on this page.

raw results

Package 166/2083HostnameOS / ArchINSTALLBUILDCHECKBUILD BIN
BiocPkgTools 1.11.20  (landing page)
Sean Davis
Snapshot Date: 2021-10-25 14:50:11 -0400 (Mon, 25 Oct 2021)
git_url: https://git.bioconductor.org/packages/BiocPkgTools
git_branch: master
git_last_commit: c1340af
git_last_commit_date: 2021-10-25 13:49:11 -0400 (Mon, 25 Oct 2021)
nebbiolo2Linux (Ubuntu 20.04.2 LTS) / x86_64  OK    OK    OK  YES
riesling1Windows Server 2019 Standard / x64  OK    OK    OK    OK  YES
merida1macOS 10.14.6 Mojave / x86_64  OK    OK    OK    OK  YES
machv2macOS 10.14.6 Mojave / x86_64  OK    OK    OK    OK  

Summary

Package: BiocPkgTools
Version: 1.11.20
Command: /home/biocbuild/bbs-3.14-bioc/R/bin/R CMD build --keep-empty-dirs --no-resave-data BiocPkgTools
StartedAt: 2021-10-25 16:48:01 -0400 (Mon, 25 Oct 2021)
EndedAt: 2021-10-25 16:48:58 -0400 (Mon, 25 Oct 2021)
EllapsedTime: 57.3 seconds
RetCode: 0
Status:   OK  
PackageFile: BiocPkgTools_1.11.20.tar.gz
PackageFileSize: 1.346 MiB

Command output

##############################################################################
##############################################################################
###
### Running command:
###
###   /home/biocbuild/bbs-3.14-bioc/R/bin/R CMD build --keep-empty-dirs --no-resave-data BiocPkgTools
###
##############################################################################
##############################################################################


* checking for file ‘BiocPkgTools/DESCRIPTION’ ... OK
* preparing ‘BiocPkgTools’:
* checking DESCRIPTION meta-information ... OK
* installing the package to build vignettes
* creating vignettes ... OK
* checking for LF line-endings in source and make files and shell scripts
* checking for empty or unneeded directories
Omitted ‘LazyData’ from DESCRIPTION
* building ‘BiocPkgTools_1.11.20.tar.gz’