Back to Multiple platform build/check report for BioC 3.14
A[B]CDEFGHIJKLMNOPQRSTUVWXYZ

This page was generated on 2021-10-20 12:05:34 -0400 (Wed, 20 Oct 2021).

BUILD BIN results for BiocPkgTools on merida1

To the developers/maintainers of the BiocPkgTools package:
- Please allow up to 24 hours (and sometimes 48 hours) for your latest push to git@git.bioconductor.org:packages/BiocPkgTools.git to
reflect on this report. See How and When does the builder pull? When will my changes propagate? here for more information.
- Make sure to use the following settings in order to reproduce any error or warning you see on this page.

raw results

Package 166/2072HostnameOS / ArchINSTALLBUILDCHECKBUILD BIN
BiocPkgTools 1.11.19  (landing page)
Sean Davis
Snapshot Date: 2021-10-19 14:50:04 -0400 (Tue, 19 Oct 2021)
git_url: https://git.bioconductor.org/packages/BiocPkgTools
git_branch: master
git_last_commit: 98326a2
git_last_commit_date: 2021-10-15 15:59:43 -0400 (Fri, 15 Oct 2021)
nebbiolo2Linux (Ubuntu 20.04.2 LTS) / x86_64  OK    OK    OK  UNNEEDED, same version is already published
riesling1Windows Server 2019 Standard / x64  OK    OK    OK    OK  UNNEEDED, same version is already published
merida1macOS 10.14.6 Mojave / x86_64  OK    OK    OK    OK  UNNEEDED, same version is already published

Summary

Package: BiocPkgTools
Version: 1.11.19
Command: rm -rf BiocPkgTools.buildbin-libdir && mkdir BiocPkgTools.buildbin-libdir && /Users/biocbuild/BBS/utils/build-universal.sh BiocPkgTools_1.11.19.tar.gz /Library/Frameworks/R.framework/Resources/bin/R BiocPkgTools.buildbin-libdir
StartedAt: 2021-10-20 11:06:37 -0400 (Wed, 20 Oct 2021)
EndedAt: 2021-10-20 11:07:28 -0400 (Wed, 20 Oct 2021)
EllapsedTime: 51.0 seconds
RetCode: 0
Status:   OK  
PackageFile: BiocPkgTools_1.11.19.tgz
PackageFileSize: 1.473 MiB

Command output

##############################################################################
##############################################################################
###
### Running command:
###
###   rm -rf BiocPkgTools.buildbin-libdir && mkdir BiocPkgTools.buildbin-libdir && /Users/biocbuild/BBS/utils/build-universal.sh BiocPkgTools_1.11.19.tar.gz /Library/Frameworks/R.framework/Resources/bin/R BiocPkgTools.buildbin-libdir
###
##############################################################################
##############################################################################


>>>>>>> 
>>>>>>> INSTALLATION WITH 'R CMD INSTALL --preclean --no-multiarch --library=BiocPkgTools.buildbin-libdir BiocPkgTools_1.11.19.tar.gz'
>>>>>>> 

* installing *source* package ‘BiocPkgTools’ ...
** using staged installation
** R
** inst
** byte-compile and prepare package for lazy loading
** help
*** installing help indices
** building package indices
** installing vignettes
** testing if installed package can be loaded from temporary location
** testing if installed package can be loaded from final location
** testing if installed package keeps a record of temporary installation path
* DONE (BiocPkgTools)