Back to Multiple platform build/check report for BioC 3.14
A[B]CDEFGHIJKLMNOPQRSTUVWXYZ

This page was generated on 2021-10-18 12:03:10 -0400 (Mon, 18 Oct 2021).

All results for package BiocPkgTools

To the developers/maintainers of the BiocPkgTools package:
- Please allow up to 24 hours (and sometimes 48 hours) for your latest push to git@git.bioconductor.org:packages/BiocPkgTools.git to
reflect on this report. See How and When does the builder pull? When will my changes propagate? here for more information.
- Make sure to use the following settings in order to reproduce any error or warning you see on this page.

raw results

Package 165/2060HostnameOS / ArchINSTALLBUILDCHECKBUILD BIN
BiocPkgTools 1.11.19  (landing page)
Sean Davis
Snapshot Date: 2021-10-17 14:50:03 -0400 (Sun, 17 Oct 2021)
git_url: https://git.bioconductor.org/packages/BiocPkgTools
git_branch: master
git_last_commit: 98326a2
git_last_commit_date: 2021-10-15 15:59:43 -0400 (Fri, 15 Oct 2021)
nebbiolo2Linux (Ubuntu 20.04.2 LTS) / x86_64  OK    OK    OK  YES
riesling1Windows Server 2019 Standard / x64  OK    OK    OK    OK  YES
merida1macOS 10.14.6 Mojave / x86_64  OK    OK    OK    OK  YES