Back to Multiple platform build/check report for BioC 3.14
A[B]CDEFGHIJKLMNOPQRSTUVWXYZ

This page was generated on 2021-10-23 14:06:19 -0400 (Sat, 23 Oct 2021).

INSTALL results for BiocParallel on riesling1

To the developers/maintainers of the BiocParallel package:
- Please allow up to 24 hours (and sometimes 48 hours) for your latest push to git@git.bioconductor.org:packages/BiocParallel.git to
reflect on this report. See How and When does the builder pull? When will my changes propagate? here for more information.
- Make sure to use the following settings in order to reproduce any error or warning you see on this page.

raw results

Package 165/2083HostnameOS / ArchINSTALLBUILDCHECKBUILD BIN
BiocParallel 1.27.17  (landing page)
Bioconductor Package Maintainer
Snapshot Date: 2021-10-22 14:50:11 -0400 (Fri, 22 Oct 2021)
git_url: https://git.bioconductor.org/packages/BiocParallel
git_branch: master
git_last_commit: aa6d054
git_last_commit_date: 2021-10-10 12:38:31 -0400 (Sun, 10 Oct 2021)
nebbiolo2Linux (Ubuntu 20.04.2 LTS) / x86_64  OK    OK    OK  UNNEEDED, same version is already published
riesling1Windows Server 2019 Standard / x64  OK    OK    OK    OK  UNNEEDED, same version is already published
merida1macOS 10.14.6 Mojave / x86_64  OK    OK    OK    OK  UNNEEDED, same version is already published

Summary

Package: BiocParallel
Version: 1.27.17
Command: C:\cygwin\bin\curl.exe -O http://155.52.207.166/BBS/3.14/bioc/src/contrib/BiocParallel_1.27.17.tar.gz && rm -rf BiocParallel.buildbin-libdir && mkdir BiocParallel.buildbin-libdir && D:\biocbuild\bbs-3.14-bioc\R\bin\R.exe CMD INSTALL --merge-multiarch --build --library=BiocParallel.buildbin-libdir BiocParallel_1.27.17.tar.gz && D:\biocbuild\bbs-3.14-bioc\R\bin\R.exe CMD INSTALL BiocParallel_1.27.17.zip && rm BiocParallel_1.27.17.tar.gz BiocParallel_1.27.17.zip
StartedAt: 2021-10-22 16:34:14 -0400 (Fri, 22 Oct 2021)
EndedAt: 2021-10-22 16:37:22 -0400 (Fri, 22 Oct 2021)
EllapsedTime: 188.2 seconds
RetCode: 0
Status:   OK  

Command output

##############################################################################
##############################################################################
###
### Running command:
###
###   C:\cygwin\bin\curl.exe -O http://155.52.207.166/BBS/3.14/bioc/src/contrib/BiocParallel_1.27.17.tar.gz && rm -rf BiocParallel.buildbin-libdir && mkdir BiocParallel.buildbin-libdir && D:\biocbuild\bbs-3.14-bioc\R\bin\R.exe CMD INSTALL --merge-multiarch --build --library=BiocParallel.buildbin-libdir BiocParallel_1.27.17.tar.gz && D:\biocbuild\bbs-3.14-bioc\R\bin\R.exe CMD INSTALL BiocParallel_1.27.17.zip && rm BiocParallel_1.27.17.tar.gz BiocParallel_1.27.17.zip
###
##############################################################################
##############################################################################


  % Total    % Received % Xferd  Average Speed   Time    Time     Time  Current
                                 Dload  Upload   Total   Spent    Left  Speed

  0     0    0     0    0     0      0      0 --:--:-- --:--:-- --:--:--     0
100  132k  100  132k    0     0   691k      0 --:--:-- --:--:-- --:--:--  691k

install for i386

* installing *source* package 'BiocParallel' ...
** using staged installation

   **********************************************
   WARNING: this package has a configure script
         It probably needs manual configuration
   **********************************************


** libs
"C:/rtools40/mingw32/bin/"g++  -std=gnu++11 -I"D:/biocbuild/bbs-3.14-bioc/R/include" -DNDEBUG  -I'D:/biocbuild/bbs-3.14-bioc/R/library/BH/include'   -I"C:/extsoft/include"     -O2 -Wall  -mfpmath=sse -msse2 -mstackrealign  -c ipcmutex.cpp -o ipcmutex.o
In file included from D:/biocbuild/bbs-3.14-bioc/R/library/BH/include/boost/mpl/aux_/na_assert.hpp:23,
                 from D:/biocbuild/bbs-3.14-bioc/R/library/BH/include/boost/mpl/arg.hpp:25,
                 from D:/biocbuild/bbs-3.14-bioc/R/library/BH/include/boost/mpl/placeholders.hpp:24,
                 from D:/biocbuild/bbs-3.14-bioc/R/library/BH/include/boost/mpl/apply.hpp:24,
                 from D:/biocbuild/bbs-3.14-bioc/R/library/BH/include/boost/mpl/aux_/fold_impl.hpp:19,
                 from D:/biocbuild/bbs-3.14-bioc/R/library/BH/include/boost/mpl/fold.hpp:20,
                 from D:/biocbuild/bbs-3.14-bioc/R/library/BH/include/boost/mpl/remove_if.hpp:18,
                 from D:/biocbuild/bbs-3.14-bioc/R/library/BH/include/boost/mpl/remove.hpp:18,
                 from D:/biocbuild/bbs-3.14-bioc/R/library/BH/include/boost/function_types/components.hpp:44,
                 from D:/biocbuild/bbs-3.14-bioc/R/library/BH/include/boost/function_types/is_member_function_pointer.hpp:14,
                 from D:/biocbuild/bbs-3.14-bioc/R/library/BH/include/boost/tti/detail/dmem_fun.hpp:10,
                 from D:/biocbuild/bbs-3.14-bioc/R/library/BH/include/boost/tti/has_member_function.hpp:15,
                 from D:/biocbuild/bbs-3.14-bioc/R/library/BH/include/boost/uuid/random_generator.hpp:20,
                 from D:/biocbuild/bbs-3.14-bioc/R/library/BH/include/boost/uuid/uuid_generators.hpp:17,
                 from ipcmutex.cpp:3:
D:/biocbuild/bbs-3.14-bioc/R/library/BH/include/boost/mpl/assert.hpp:194:21: warning: unnecessary parentheses in declaration of 'assert_arg' [-Wparentheses]
 failed ************ (Pred::************
                     ^
D:/biocbuild/bbs-3.14-bioc/R/library/BH/include/boost/mpl/assert.hpp:199:21: warning: unnecessary parentheses in declaration of 'assert_not_arg' [-Wparentheses]
 failed ************ (boost::mpl::not_<Pred>::************
                     ^
In file included from D:/biocbuild/bbs-3.14-bioc/R/library/BH/include/boost/interprocess/detail/windows_intermodule_singleton.hpp:24,
                 from D:/biocbuild/bbs-3.14-bioc/R/library/BH/include/boost/interprocess/detail/shared_dir_helpers.hpp:30,
                 from D:/biocbuild/bbs-3.14-bioc/R/library/BH/include/boost/interprocess/shared_memory_object.hpp:30,
                 from D:/biocbuild/bbs-3.14-bioc/R/library/BH/include/boost/interprocess/managed_shared_memory.hpp:27,
                 from ipcmutex.cpp:13:
D:/biocbuild/bbs-3.14-bioc/R/library/BH/include/boost/container/string.hpp: In member function 'bool boost::interprocess::ipcdetail::intermodule_singleton_helpers::windows_semaphore_based_map::erase(const char*)':
D:/biocbuild/bbs-3.14-bioc/R/library/BH/include/boost/container/string.hpp:405:43: warning: '<anonymous>.boost::container::dtl::basic_string_base<boost::container::new_allocator<char> >::long_t::start' may be used uninitialized in this function [-Wmaybe-uninitialized]
    {  return this->members_.plong_repr()->start;  }
                                           ^~~~~
D:/biocbuild/bbs-3.14-bioc/R/library/BH/include/boost/container/string.hpp: In member function 'boost::interprocess::ipcdetail::ref_count_ptr* boost::interprocess::ipcdetail::intermodule_singleton_helpers::windows_semaphore_based_map::find(const char*)':
D:/biocbuild/bbs-3.14-bioc/R/library/BH/include/boost/container/string.hpp:405:43: warning: '<anonymous>.boost::container::dtl::basic_string_base<boost::container::new_allocator<char> >::long_t::start' may be used uninitialized in this function [-Wmaybe-uninitialized]
    {  return this->members_.plong_repr()->start;  }
                                           ^~~~~
D:/biocbuild/bbs-3.14-bioc/R/library/BH/include/boost/container/string.hpp: In member function 'boost::interprocess::ipcdetail::ref_count_ptr* boost::interprocess::ipcdetail::intermodule_singleton_helpers::windows_semaphore_based_map::insert(const char*, const boost::interprocess::ipcdetail::ref_count_ptr&)':
D:/biocbuild/bbs-3.14-bioc/R/library/BH/include/boost/container/string.hpp:405:43: warning: '<anonymous>.boost::container::dtl::basic_string_base<boost::container::new_allocator<char> >::long_t::start' may be used uninitialized in this function [-Wmaybe-uninitialized]
    {  return this->members_.plong_repr()->start;  }
                                           ^~~~~
C:/rtools40/mingw32/bin/g++ -shared -s -static-libgcc -o BiocParallel.dll tmp.def ipcmutex.o -LC:/extsoft/lib/i386 -LC:/extsoft/lib -LD:/biocbuild/bbs-3.14-bioc/R/bin/i386 -lR
installing to D:/biocbuild/bbs-3.14-bioc/meat/BiocParallel.buildbin-libdir/00LOCK-BiocParallel/00new/BiocParallel/libs/i386
** R
** inst
** byte-compile and prepare package for lazy loading
** help
*** installing help indices
  converting help for package 'BiocParallel'
    finding HTML links ... done
    BatchJobsParam-class                    html  
    BatchtoolsParam-class                   html  
    BiocParallel-package                    html  
    BiocParallelParam-class                 html  
    DeveloperInterface                      html  
    DoparParam-class                        html  
    MulticoreParam-class                    html  
    SerialParam-class                       html  
    SnowParam-class                         html  
    bpaggregate                             html  
    bpiterate                               html  
    bplapply                                html  
    bploop                                  html  
    bpmapply                                html  
    bpok                                    html  
    bpschedule                              html  
    bptry                                   html  
    bpvalidate                              html  
    bpvec                                   html  
    bpvectorize                             html  
    ipcmutex                                html  
    register                                html  
** building package indices
** installing vignettes
** testing if installed package can be loaded from temporary location
** testing if installed package can be loaded from final location
** testing if installed package keeps a record of temporary installation path

install for x64

* installing *source* package 'BiocParallel' ...

   **********************************************
   WARNING: this package has a configure script
         It probably needs manual configuration
   **********************************************


** libs
"C:/rtools40/mingw64/bin/"g++  -std=gnu++11 -I"D:/biocbuild/bbs-3.14-bioc/R/include" -DNDEBUG  -I'D:/biocbuild/bbs-3.14-bioc/R/library/BH/include'   -I"C:/extsoft/include"     -O2 -Wall  -mfpmath=sse -msse2 -mstackrealign  -c ipcmutex.cpp -o ipcmutex.o
In file included from D:/biocbuild/bbs-3.14-bioc/R/library/BH/include/boost/mpl/aux_/na_assert.hpp:23,
                 from D:/biocbuild/bbs-3.14-bioc/R/library/BH/include/boost/mpl/arg.hpp:25,
                 from D:/biocbuild/bbs-3.14-bioc/R/library/BH/include/boost/mpl/placeholders.hpp:24,
                 from D:/biocbuild/bbs-3.14-bioc/R/library/BH/include/boost/mpl/apply.hpp:24,
                 from D:/biocbuild/bbs-3.14-bioc/R/library/BH/include/boost/mpl/aux_/fold_impl.hpp:19,
                 from D:/biocbuild/bbs-3.14-bioc/R/library/BH/include/boost/mpl/fold.hpp:20,
                 from D:/biocbuild/bbs-3.14-bioc/R/library/BH/include/boost/mpl/remove_if.hpp:18,
                 from D:/biocbuild/bbs-3.14-bioc/R/library/BH/include/boost/mpl/remove.hpp:18,
                 from D:/biocbuild/bbs-3.14-bioc/R/library/BH/include/boost/function_types/components.hpp:44,
                 from D:/biocbuild/bbs-3.14-bioc/R/library/BH/include/boost/function_types/is_member_function_pointer.hpp:14,
                 from D:/biocbuild/bbs-3.14-bioc/R/library/BH/include/boost/tti/detail/dmem_fun.hpp:10,
                 from D:/biocbuild/bbs-3.14-bioc/R/library/BH/include/boost/tti/has_member_function.hpp:15,
                 from D:/biocbuild/bbs-3.14-bioc/R/library/BH/include/boost/uuid/random_generator.hpp:20,
                 from D:/biocbuild/bbs-3.14-bioc/R/library/BH/include/boost/uuid/uuid_generators.hpp:17,
                 from ipcmutex.cpp:3:
D:/biocbuild/bbs-3.14-bioc/R/library/BH/include/boost/mpl/assert.hpp:194:21: warning: unnecessary parentheses in declaration of 'assert_arg' [-Wparentheses]
 failed ************ (Pred::************
                     ^
D:/biocbuild/bbs-3.14-bioc/R/library/BH/include/boost/mpl/assert.hpp:199:21: warning: unnecessary parentheses in declaration of 'assert_not_arg' [-Wparentheses]
 failed ************ (boost::mpl::not_<Pred>::************
                     ^
In file included from D:/biocbuild/bbs-3.14-bioc/R/library/BH/include/boost/interprocess/detail/windows_intermodule_singleton.hpp:24,
                 from D:/biocbuild/bbs-3.14-bioc/R/library/BH/include/boost/interprocess/detail/shared_dir_helpers.hpp:30,
                 from D:/biocbuild/bbs-3.14-bioc/R/library/BH/include/boost/interprocess/shared_memory_object.hpp:30,
                 from D:/biocbuild/bbs-3.14-bioc/R/library/BH/include/boost/interprocess/managed_shared_memory.hpp:27,
                 from ipcmutex.cpp:13:
D:/biocbuild/bbs-3.14-bioc/R/library/BH/include/boost/container/string.hpp: In member function 'boost::interprocess::ipcdetail::ref_count_ptr* boost::interprocess::ipcdetail::intermodule_singleton_helpers::windows_semaphore_based_map::find(const char*)':
D:/biocbuild/bbs-3.14-bioc/R/library/BH/include/boost/container/string.hpp:405:43: warning: '<anonymous>.boost::container::dtl::basic_string_base<boost::container::new_allocator<char> >::long_t::start' may be used uninitialized in this function [-Wmaybe-uninitialized]
    {  return this->members_.plong_repr()->start;  }
                                           ^~~~~
D:/biocbuild/bbs-3.14-bioc/R/library/BH/include/boost/container/string.hpp: In member function 'bool boost::interprocess::ipcdetail::intermodule_singleton_helpers::windows_semaphore_based_map::erase(const char*)':
D:/biocbuild/bbs-3.14-bioc/R/library/BH/include/boost/container/string.hpp:405:43: warning: '<anonymous>.boost::container::dtl::basic_string_base<boost::container::new_allocator<char> >::long_t::start' may be used uninitialized in this function [-Wmaybe-uninitialized]
    {  return this->members_.plong_repr()->start;  }
                                           ^~~~~
D:/biocbuild/bbs-3.14-bioc/R/library/BH/include/boost/container/string.hpp: In member function 'boost::interprocess::ipcdetail::ref_count_ptr* boost::interprocess::ipcdetail::intermodule_singleton_helpers::windows_semaphore_based_map::insert(const char*, const boost::interprocess::ipcdetail::ref_count_ptr&)':
D:/biocbuild/bbs-3.14-bioc/R/library/BH/include/boost/container/string.hpp:405:43: warning: '<anonymous>.boost::container::dtl::basic_string_base<boost::container::new_allocator<char> >::long_t::start' may be used uninitialized in this function [-Wmaybe-uninitialized]
    {  return this->members_.plong_repr()->start;  }
                                           ^~~~~
C:/rtools40/mingw64/bin/g++ -shared -s -static-libgcc -o BiocParallel.dll tmp.def ipcmutex.o -LC:/extsoft/lib/x64 -LC:/extsoft/lib -LD:/biocbuild/bbs-3.14-bioc/R/bin/x64 -lR
installing to D:/biocbuild/bbs-3.14-bioc/meat/BiocParallel.buildbin-libdir/BiocParallel/libs/x64
** testing if installed package can be loaded
* MD5 sums
packaged installation of 'BiocParallel' as BiocParallel_1.27.17.zip
* DONE (BiocParallel)
* installing to library 'D:/biocbuild/bbs-3.14-bioc/R/library'
package 'BiocParallel' successfully unpacked and MD5 sums checked