Back to Multiple platform build/check report for BioC 3.14
A[B]CDEFGHIJKLMNOPQRSTUVWXYZ

This page was generated on 2021-10-25 14:06:50 -0400 (Mon, 25 Oct 2021).

CHECK results for BiocParallel on merida1

To the developers/maintainers of the BiocParallel package:
- Please allow up to 24 hours (and sometimes 48 hours) for your latest push to git@git.bioconductor.org:packages/BiocParallel.git to
reflect on this report. See How and When does the builder pull? When will my changes propagate? here for more information.
- Make sure to use the following settings in order to reproduce any error or warning you see on this page.

raw results

Package 165/2083HostnameOS / ArchINSTALLBUILDCHECKBUILD BIN
BiocParallel 1.27.17  (landing page)
Bioconductor Package Maintainer
Snapshot Date: 2021-10-24 14:50:04 -0400 (Sun, 24 Oct 2021)
git_url: https://git.bioconductor.org/packages/BiocParallel
git_branch: master
git_last_commit: aa6d054
git_last_commit_date: 2021-10-10 12:38:31 -0400 (Sun, 10 Oct 2021)
nebbiolo2Linux (Ubuntu 20.04.2 LTS) / x86_64  OK    OK    OK  UNNEEDED, same version is already published
riesling1Windows Server 2019 Standard / x64  OK    OK    OK    OK  UNNEEDED, same version is already published
merida1macOS 10.14.6 Mojave / x86_64  OK    OK    OK    OK  UNNEEDED, same version is already published
machv2macOS 10.14.6 Mojave / x86_64  OK    OK    OK    OK  

Summary

Package: BiocParallel
Version: 1.27.17
Command: /Library/Frameworks/R.framework/Resources/bin/R CMD check --install=check:BiocParallel.install-out.txt --library=/Library/Frameworks/R.framework/Resources/library --no-vignettes --timings BiocParallel_1.27.17.tar.gz
StartedAt: 2021-10-25 01:04:51 -0400 (Mon, 25 Oct 2021)
EndedAt: 2021-10-25 01:12:48 -0400 (Mon, 25 Oct 2021)
EllapsedTime: 477.2 seconds
RetCode: 0
Status:   OK  
CheckDir: BiocParallel.Rcheck
Warnings: 0

Command output

##############################################################################
##############################################################################
###
### Running command:
###
###   /Library/Frameworks/R.framework/Resources/bin/R CMD check --install=check:BiocParallel.install-out.txt --library=/Library/Frameworks/R.framework/Resources/library --no-vignettes --timings BiocParallel_1.27.17.tar.gz
###
##############################################################################
##############################################################################


* using log directory ‘/Users/biocbuild/bbs-3.14-bioc/meat/BiocParallel.Rcheck’
* using R version 4.1.1 Patched (2021-08-22 r80813)
* using platform: x86_64-apple-darwin17.0 (64-bit)
* using session charset: UTF-8
* using option ‘--no-vignettes’
* checking for file ‘BiocParallel/DESCRIPTION’ ... OK
* checking extension type ... Package
* this is package ‘BiocParallel’ version ‘1.27.17’
* checking package namespace information ... OK
* checking package dependencies ... OK
* checking if this is a source package ... OK
* checking if there is a namespace ... OK
* checking for hidden files and directories ... OK
* checking for portable file names ... OK
* checking for sufficient/correct file permissions ... OK
* checking whether package ‘BiocParallel’ can be installed ... OK
* checking installed package size ... OK
* checking package directory ... OK
* checking ‘build’ directory ... OK
* checking DESCRIPTION meta-information ... OK
* checking top-level files ... OK
* checking for left-over files ... OK
* checking index information ... OK
* checking package subdirectories ... OK
* checking R files for non-ASCII characters ... OK
* checking R files for syntax errors ... OK
* checking whether the package can be loaded ... OK
* checking whether the package can be loaded with stated dependencies ... OK
* checking whether the package can be unloaded cleanly ... OK
* checking whether the namespace can be loaded with stated dependencies ... OK
* checking whether the namespace can be unloaded cleanly ... OK
* checking dependencies in R code ... NOTE
Unexported objects imported by ':::' calls:
  ‘parallel:::closeNode’ ‘parallel:::recvData’ ‘parallel:::recvOneData’
  ‘parallel:::sendData’
  See the note in ?`:::` about the use of this operator.
* checking S3 generic/method consistency ... OK
* checking replacement functions ... OK
* checking foreign function calls ... OK
* checking R code for possible problems ... OK
* checking Rd files ... OK
* checking Rd metadata ... OK
* checking Rd cross-references ... OK
* checking for missing documentation entries ... OK
* checking for code/documentation mismatches ... OK
* checking Rd \usage sections ... OK
* checking Rd contents ... OK
* checking for unstated dependencies in examples ... OK
* checking line endings in shell scripts ... OK
* checking line endings in C/C++/Fortran sources/headers ... OK
* checking line endings in Makefiles ... OK
* checking compilation flags in Makevars ... OK
* checking for GNU extensions in Makefiles ... OK
* checking for portable use of $(BLAS_LIBS) and $(LAPACK_LIBS) ... OK
* checking use of PKG_*FLAGS in Makefiles ... OK
* checking compiled code ... NOTE
Note: information on .o files is not available
* checking sizes of PDF files under ‘inst/doc’ ... OK
* checking files in ‘vignettes’ ... OK
* checking examples ... OK
Examples with CPU (user + system) or elapsed time > 5s
                       user system elapsed
bpvalidate            5.186  0.259   5.464
BatchtoolsParam-class 3.314  1.301  11.401
SnowParam-class       0.908  0.099   9.318
bpok                  0.378  0.050   5.356
* checking for unstated dependencies in ‘tests’ ... OK
* checking tests ...
  Running ‘test.R’
 OK
* checking for unstated dependencies in vignettes ... OK
* checking package vignettes in ‘inst/doc’ ... OK
* checking running R code from vignettes ... SKIPPED
* checking re-building of vignette outputs ... SKIPPED
* checking PDF version of manual ... OK
* DONE

Status: 2 NOTEs
See
  ‘/Users/biocbuild/bbs-3.14-bioc/meat/BiocParallel.Rcheck/00check.log’
for details.



Installation output

BiocParallel.Rcheck/00install.out

##############################################################################
##############################################################################
###
### Running command:
###
###   /Library/Frameworks/R.framework/Resources/bin/R CMD INSTALL BiocParallel
###
##############################################################################
##############################################################################


* installing to library ‘/Library/Frameworks/R.framework/Versions/4.1/Resources/library’
* installing *source* package ‘BiocParallel’ ...
** using staged installation
checking for gcc... gcc
checking whether the C compiler works... yes
checking for C compiler default output file name... a.out
checking for suffix of executables... 
checking whether we are cross compiling... no
checking for suffix of object files... o
checking whether we are using the GNU C compiler... yes
checking whether gcc accepts -g... yes
checking for gcc option to accept ISO C89... none needed
checking for shm_open in -lrt... no
configure: creating ./config.status
config.status: creating src/Makevars
** libs
clang++ -mmacosx-version-min=10.13 -std=gnu++11 -I"/Library/Frameworks/R.framework/Resources/include" -DNDEBUG  -I'/Library/Frameworks/R.framework/Versions/4.1/Resources/library/BH/include' -I/usr/local/include   -fPIC  -Wall -g -O2  -c ipcmutex.cpp -o ipcmutex.o
clang++ -mmacosx-version-min=10.13 -std=gnu++11 -dynamiclib -Wl,-headerpad_max_install_names -undefined dynamic_lookup -single_module -multiply_defined suppress -L/Library/Frameworks/R.framework/Resources/lib -L/usr/local/lib -o BiocParallel.so ipcmutex.o -F/Library/Frameworks/R.framework/.. -framework R -Wl,-framework -Wl,CoreFoundation
installing to /Library/Frameworks/R.framework/Versions/4.1/Resources/library/00LOCK-BiocParallel/00new/BiocParallel/libs
** R
** inst
** byte-compile and prepare package for lazy loading
** help
*** installing help indices
** building package indices
** installing vignettes
** testing if installed package can be loaded from temporary location
** checking absolute paths in shared objects and dynamic libraries
** testing if installed package can be loaded from final location
** testing if installed package keeps a record of temporary installation path
* DONE (BiocParallel)

Tests output

BiocParallel.Rcheck/tests/test.Rout


R version 4.1.1 Patched (2021-08-22 r80813) -- "Kick Things"
Copyright (C) 2021 The R Foundation for Statistical Computing
Platform: x86_64-apple-darwin17.0 (64-bit)

R is free software and comes with ABSOLUTELY NO WARRANTY.
You are welcome to redistribute it under certain conditions.
Type 'license()' or 'licence()' for distribution details.

R is a collaborative project with many contributors.
Type 'contributors()' for more information and
'citation()' on how to cite R or R packages in publications.

Type 'demo()' for some demos, 'help()' for on-line help, or
'help.start()' for an HTML browser interface to help.
Type 'q()' to quit R.

> BiocGenerics:::testPackage("BiocParallel")
Submitting 5 jobs in 4 chunks using cluster functions 'Multicore' ...
Submitting 5 jobs in 4 chunks using cluster functions 'Socket' ...
Submitting 5 jobs in 4 chunks using cluster functions 'Socket' ...
> > > > > > > > Submitting 5 jobs in 4 chunks using cluster functions 'Multicore' ...
> > > > > > > > Timing stopped at: 0 0 0
Error in DEACTIVATED("MPI tests not run") : MPI tests not run
Timing stopped at: 0.317 0.04 0.655
Error in DEACTIVATED("MPI tests not run") : MPI tests not run
> > 

RUNIT TEST PROTOCOL -- Mon Oct 25 01:12:36 2021 
*********************************************** 
Number of test functions: 94 
Number of deactivated test functions: 2 
Number of errors: 0 
Number of failures: 0 

 
1 Test Suite : 
BiocParallel RUnit Tests - 94 test functions, 0 errors, 0 failures
Number of test functions: 94 
Number of deactivated test functions: 2 
Number of errors: 0 
Number of failures: 0 
> 
> proc.time()
   user  system elapsed 
 95.543  19.169 377.227 

Example timings

BiocParallel.Rcheck/BiocParallel-Ex.timings

nameusersystemelapsed
BatchJobsParam-class4.7340.1534.904
BatchtoolsParam-class 3.314 1.30111.401
BiocParallelParam-class0.0020.0010.003
DeveloperInterface0.0000.0000.001
DoparParam-class000
MulticoreParam-class1.2390.8133.159
SerialParam-class0.0910.0140.104
SnowParam-class0.9080.0999.318
bpaggregate0.0020.0010.001
bpiterate0.0010.0010.001
bplapply0.4110.1840.440
bploop000
bpmapply0.3060.1240.380
bpok0.3780.0505.356
bpschedule0.2800.1030.334
bptry0.1680.2500.204
bpvalidate5.1860.2595.464
bpvec0.5950.2300.604
bpvectorize0.1260.2180.119
ipcmutex0.5670.3091.386
register0.2760.3760.278