Back to Multiple platform build/check report for BioC 3.14
A[B]CDEFGHIJKLMNOPQRSTUVWXYZ

This page was generated on 2021-10-21 12:05:12 -0400 (Thu, 21 Oct 2021).

BUILD BIN results for BiocParallel on merida1

To the developers/maintainers of the BiocParallel package:
- Please allow up to 24 hours (and sometimes 48 hours) for your latest push to git@git.bioconductor.org:packages/BiocParallel.git to
reflect on this report. See How and When does the builder pull? When will my changes propagate? here for more information.
- Make sure to use the following settings in order to reproduce any error or warning you see on this page.

raw results

Package 165/2075HostnameOS / ArchINSTALLBUILDCHECKBUILD BIN
BiocParallel 1.27.17  (landing page)
Bioconductor Package Maintainer
Snapshot Date: 2021-10-20 14:50:05 -0400 (Wed, 20 Oct 2021)
git_url: https://git.bioconductor.org/packages/BiocParallel
git_branch: master
git_last_commit: aa6d054
git_last_commit_date: 2021-10-10 12:38:31 -0400 (Sun, 10 Oct 2021)
nebbiolo2Linux (Ubuntu 20.04.2 LTS) / x86_64  OK    OK    OK  UNNEEDED, same version is already published
riesling1Windows Server 2019 Standard / x64  OK    OK    OK    OK  UNNEEDED, same version is already published
merida1macOS 10.14.6 Mojave / x86_64  OK    OK    OK    OK  UNNEEDED, same version is already published

Summary

Package: BiocParallel
Version: 1.27.17
Command: rm -rf BiocParallel.buildbin-libdir && mkdir BiocParallel.buildbin-libdir && /Users/biocbuild/BBS/utils/build-universal.sh BiocParallel_1.27.17.tar.gz /Library/Frameworks/R.framework/Resources/bin/R BiocParallel.buildbin-libdir
StartedAt: 2021-10-21 11:12:51 -0400 (Thu, 21 Oct 2021)
EndedAt: 2021-10-21 11:13:55 -0400 (Thu, 21 Oct 2021)
EllapsedTime: 64.7 seconds
RetCode: 0
Status:   OK  
PackageFile: BiocParallel_1.27.17.tgz
PackageFileSize: 1.307 MiB

Command output

##############################################################################
##############################################################################
###
### Running command:
###
###   rm -rf BiocParallel.buildbin-libdir && mkdir BiocParallel.buildbin-libdir && /Users/biocbuild/BBS/utils/build-universal.sh BiocParallel_1.27.17.tar.gz /Library/Frameworks/R.framework/Resources/bin/R BiocParallel.buildbin-libdir
###
##############################################################################
##############################################################################


>>>>>>> 
>>>>>>> INSTALLATION WITH 'R CMD INSTALL --preclean --no-multiarch --library=BiocParallel.buildbin-libdir BiocParallel_1.27.17.tar.gz'
>>>>>>> 

* installing *source* package ‘BiocParallel’ ...
** using staged installation
checking for gcc... gcc
checking whether the C compiler works... yes
checking for C compiler default output file name... a.out
checking for suffix of executables... 
checking whether we are cross compiling... no
checking for suffix of object files... o
checking whether we are using the GNU C compiler... yes
checking whether gcc accepts -g... yes
checking for gcc option to accept ISO C89... none needed
checking for shm_open in -lrt... no
configure: creating ./config.status
config.status: creating src/Makevars
** libs
clang++ -mmacosx-version-min=10.13 -std=gnu++11 -I"/Library/Frameworks/R.framework/Resources/include" -DNDEBUG  -I'/Library/Frameworks/R.framework/Versions/4.1/Resources/library/BH/include' -I/usr/local/include   -fPIC  -Wall -g -O2  -c ipcmutex.cpp -o ipcmutex.o
clang++ -mmacosx-version-min=10.13 -std=gnu++11 -dynamiclib -Wl,-headerpad_max_install_names -undefined dynamic_lookup -single_module -multiply_defined suppress -L/Library/Frameworks/R.framework/Resources/lib -L/usr/local/lib -o BiocParallel.so ipcmutex.o -F/Library/Frameworks/R.framework/.. -framework R -Wl,-framework -Wl,CoreFoundation
installing to /Users/biocbuild/bbs-3.14-bioc/meat/BiocParallel.buildbin-libdir/00LOCK-BiocParallel/00new/BiocParallel/libs
** R
** inst
** byte-compile and prepare package for lazy loading
** help
*** installing help indices
** building package indices
** installing vignettes
** testing if installed package can be loaded from temporary location
** checking absolute paths in shared objects and dynamic libraries
** testing if installed package can be loaded from final location
** testing if installed package keeps a record of temporary installation path
* DONE (BiocParallel)


>>>>>>> 
>>>>>>> FIXING LINKS FOR BiocParallel.buildbin-libdir/BiocParallel/libs/BiocParallel.so
>>>>>>> 

install_name_tool -change "/usr/local/lib/libgcc_s.1.dylib" "/Library/Frameworks/R.framework/Versions/4.1/Resources/lib/libgcc_s.1.dylib" "BiocParallel.buildbin-libdir/BiocParallel/libs/BiocParallel.so"
install_name_tool -change "/usr/local/lib/libgfortran.5.dylib" "/Library/Frameworks/R.framework/Versions/4.1/Resources/lib/libgfortran.5.dylib" "BiocParallel.buildbin-libdir/BiocParallel/libs/BiocParallel.so"
install_name_tool -change "/usr/local/lib/libquadmath.0.dylib" "/Library/Frameworks/R.framework/Versions/4.1/Resources/lib/libquadmath.0.dylib" "BiocParallel.buildbin-libdir/BiocParallel/libs/BiocParallel.so"