Back to Multiple platform build/check report for BioC 3.14
A[B]CDEFGHIJKLMNOPQRSTUVWXYZ

This page was generated on 2021-10-22 12:03:55 -0400 (Fri, 22 Oct 2021).

CHECK results for BiocOncoTK on nebbiolo2

To the developers/maintainers of the BiocOncoTK package:
- Please allow up to 24 hours (and sometimes 48 hours) for your latest push to git@git.bioconductor.org:packages/BiocOncoTK.git to
reflect on this report. See How and When does the builder pull? When will my changes propagate? here for more information.
- Make sure to use the following settings in order to reproduce any error or warning you see on this page.

raw results

Package 163/2075HostnameOS / ArchINSTALLBUILDCHECKBUILD BIN
BiocOncoTK 1.13.2  (landing page)
VJ Carey
Snapshot Date: 2021-10-21 14:50:08 -0400 (Thu, 21 Oct 2021)
git_url: https://git.bioconductor.org/packages/BiocOncoTK
git_branch: master
git_last_commit: 204d642
git_last_commit_date: 2021-06-25 16:24:03 -0400 (Fri, 25 Jun 2021)
nebbiolo2Linux (Ubuntu 20.04.2 LTS) / x86_64  OK    OK    OK  UNNEEDED, same version is already published
riesling1Windows Server 2019 Standard / x64  OK    OK    OK    OK  UNNEEDED, same version is already published
merida1macOS 10.14.6 Mojave / x86_64  OK    OK    OK    OK  UNNEEDED, same version is already published

Summary

Package: BiocOncoTK
Version: 1.13.2
Command: /home/biocbuild/bbs-3.14-bioc/R/bin/R CMD check --install=check:BiocOncoTK.install-out.txt --library=/home/biocbuild/bbs-3.14-bioc/R/library --no-vignettes --timings BiocOncoTK_1.13.2.tar.gz
StartedAt: 2021-10-21 19:16:29 -0400 (Thu, 21 Oct 2021)
EndedAt: 2021-10-21 19:23:17 -0400 (Thu, 21 Oct 2021)
EllapsedTime: 408.0 seconds
RetCode: 0
Status:   OK  
CheckDir: BiocOncoTK.Rcheck
Warnings: 0

Command output

##############################################################################
##############################################################################
###
### Running command:
###
###   /home/biocbuild/bbs-3.14-bioc/R/bin/R CMD check --install=check:BiocOncoTK.install-out.txt --library=/home/biocbuild/bbs-3.14-bioc/R/library --no-vignettes --timings BiocOncoTK_1.13.2.tar.gz
###
##############################################################################
##############################################################################


* using log directory ‘/home/biocbuild/bbs-3.14-bioc/meat/BiocOncoTK.Rcheck’
* using R version 4.1.1 (2021-08-10)
* using platform: x86_64-pc-linux-gnu (64-bit)
* using session charset: UTF-8
* using option ‘--no-vignettes’
* checking for file ‘BiocOncoTK/DESCRIPTION’ ... OK
* this is package ‘BiocOncoTK’ version ‘1.13.2’
* package encoding: UTF-8
* checking package namespace information ... OK
* checking package dependencies ... OK
* checking if this is a source package ... OK
* checking if there is a namespace ... OK
* checking for hidden files and directories ... OK
* checking for portable file names ... OK
* checking for sufficient/correct file permissions ... OK
* checking whether package ‘BiocOncoTK’ can be installed ... OK
* checking installed package size ... NOTE
  installed size is  7.6Mb
  sub-directories of 1Mb or more:
    data        2.6Mb
    pamphlets   4.5Mb
* checking package directory ... OK
* checking ‘build’ directory ... OK
* checking DESCRIPTION meta-information ... OK
* checking top-level files ... OK
* checking for left-over files ... OK
* checking index information ... OK
* checking package subdirectories ... OK
* checking R files for non-ASCII characters ... OK
* checking R files for syntax errors ... OK
* checking whether the package can be loaded ... OK
* checking whether the package can be loaded with stated dependencies ... OK
* checking whether the package can be unloaded cleanly ... OK
* checking whether the namespace can be loaded with stated dependencies ... OK
* checking whether the namespace can be unloaded cleanly ... OK
* checking dependencies in R code ... OK
* checking S3 generic/method consistency ... OK
* checking replacement functions ... OK
* checking foreign function calls ... OK
* checking R code for possible problems ... NOTE
ggscat_av: warning in png(file = tempfile()): partial argument match of
  'file' to 'filename'
.flexbi: no visible binding for global variable ‘v1’
.flexbi: no visible binding for global variable ‘v2’
.rainfall.bq.df: no visible global function definition for ‘seqlengths’
.rainfall.maeGRL.df: no visible global function definition for ‘genome’
.rainfall.maeGRL.df: no visible global function definition for
  ‘seqlengths’
acronym_to_system: no visible binding for global variable
  ‘map_tcga_ncit’
add_sym: no visible global function definition for ‘mapIds’
bipg_tests: no visible global function definition for ‘new’
checkCache_patel: no visible global function definition for
  ‘BiocFileCache’
chrbounds_basic: no visible global function definition for ‘seqlengths’
ggFeatDens : <anonymous>: no visible binding for global variable
  ‘Consequence’
ggFeatDens: no visible binding for global variable ‘tfstart’
ggFeatureSegs: no visible binding for global variable ‘symbol’
ggMutDens : <anonymous>: no visible binding for global variable
  ‘Consequence’
ggMutDens: no visible binding for global variable ‘project_short_name’
ggbox: no visible binding for global variable ‘acronym’
ggbox: no visible binding for global variable ‘symbol’
ggbox: no visible binding for global variable ‘log2ex’
ggbox: no visible binding for global variable ‘msicode’
ggscat: no visible binding for global variable ‘acronym’
ggscat: no visible binding for global variable ‘symbol’
ggscat: no visible binding for global variable ‘msival’
ggscat: no visible binding for global variable ‘log2ex’
ggscat_av: no visible binding for global variable ‘acronym’
ggscat_av: no visible binding for global variable ‘symbol’
ggscat_av: no visible binding for global variable ‘msival’
ggscat_av: no visible binding for global variable ‘tmsi’
ggscat_av: no visible binding for global variable ‘log2exa’
mc3toGR : <anonymous>: no visible binding for global variable
  ‘Consequence’
multiviz: no visible binding for global variable ‘acronym’
multiviz: no visible binding for global variable ‘msival’
prc: no visible binding for global variable ‘acronym’
prc: no visible global function definition for ‘right_join’
rainfall: no visible global function definition for ‘genome’
tumNorSet : <anonymous>: no visible global function definition for
  ‘pancan_SE’
Undefined global functions or variables:
  BiocFileCache Consequence acronym genome log2ex log2exa mapIds
  map_tcga_ncit msicode msival new pancan_SE project_short_name
  right_join seqlengths symbol tfstart tmsi v1 v2
Consider adding
  importFrom("methods", "new")
to your NAMESPACE file (and ensure that your DESCRIPTION Imports field
contains 'methods').
* checking Rd files ... OK
* checking Rd metadata ... OK
* checking Rd cross-references ... OK
* checking for missing documentation entries ... OK
* checking for code/documentation mismatches ... OK
* checking Rd \usage sections ... OK
* checking Rd contents ... OK
* checking for unstated dependencies in examples ... OK
* checking contents of ‘data’ directory ... OK
* checking data for non-ASCII characters ... NOTE
  Note: found 46 marked UTF-8 strings
* checking LazyData ... OK
* checking data for ASCII and uncompressed saves ... OK
* checking files in ‘vignettes’ ... OK
* checking examples ... OK
* checking for unstated dependencies in ‘tests’ ... OK
* checking tests ...
  Running ‘testthat.R’
 OK
* checking for unstated dependencies in vignettes ... OK
* checking package vignettes in ‘inst/doc’ ... OK
* checking running R code from vignettes ... SKIPPED
* checking re-building of vignette outputs ... SKIPPED
* checking PDF version of manual ... OK
* DONE

Status: 3 NOTEs
See
  ‘/home/biocbuild/bbs-3.14-bioc/meat/BiocOncoTK.Rcheck/00check.log’
for details.



Installation output

BiocOncoTK.Rcheck/00install.out

##############################################################################
##############################################################################
###
### Running command:
###
###   /home/biocbuild/bbs-3.14-bioc/R/bin/R CMD INSTALL BiocOncoTK
###
##############################################################################
##############################################################################


* installing to library ‘/home/biocbuild/bbs-3.14-bioc/R/library’
* installing *source* package ‘BiocOncoTK’ ...
** using staged installation
** R
** data
*** moving datasets to lazyload DB
** inst
** byte-compile and prepare package for lazy loading
** help
*** installing help indices
** building package indices
** installing vignettes
** testing if installed package can be loaded from temporary location
** testing if installed package can be loaded from final location
** testing if installed package keeps a record of temporary installation path
* DONE (BiocOncoTK)

Tests output

BiocOncoTK.Rcheck/tests/testthat.Rout


R version 4.1.1 (2021-08-10) -- "Kick Things"
Copyright (C) 2021 The R Foundation for Statistical Computing
Platform: x86_64-pc-linux-gnu (64-bit)

R is free software and comes with ABSOLUTELY NO WARRANTY.
You are welcome to redistribute it under certain conditions.
Type 'license()' or 'licence()' for distribution details.

R is a collaborative project with many contributors.
Type 'contributors()' for more information and
'citation()' on how to cite R or R packages in publications.

Type 'demo()' for some demos, 'help()' for on-line help, or
'help.start()' for an HTML browser interface to help.
Type 'q()' to quit R.

> # authentication is so problematic that I am skipping this for now
> library(testthat)
> library(BiocOncoTK)

Attaching package: 'BiocOncoTK'

The following object is masked from 'package:stats':

    filter

> library(restfulSE)
Loading required package: SummarizedExperiment
Loading required package: MatrixGenerics
Loading required package: matrixStats

Attaching package: 'MatrixGenerics'

The following objects are masked from 'package:matrixStats':

    colAlls, colAnyNAs, colAnys, colAvgsPerRowSet, colCollapse,
    colCounts, colCummaxs, colCummins, colCumprods, colCumsums,
    colDiffs, colIQRDiffs, colIQRs, colLogSumExps, colMadDiffs,
    colMads, colMaxs, colMeans2, colMedians, colMins, colOrderStats,
    colProds, colQuantiles, colRanges, colRanks, colSdDiffs, colSds,
    colSums2, colTabulates, colVarDiffs, colVars, colWeightedMads,
    colWeightedMeans, colWeightedMedians, colWeightedSds,
    colWeightedVars, rowAlls, rowAnyNAs, rowAnys, rowAvgsPerColSet,
    rowCollapse, rowCounts, rowCummaxs, rowCummins, rowCumprods,
    rowCumsums, rowDiffs, rowIQRDiffs, rowIQRs, rowLogSumExps,
    rowMadDiffs, rowMads, rowMaxs, rowMeans2, rowMedians, rowMins,
    rowOrderStats, rowProds, rowQuantiles, rowRanges, rowRanks,
    rowSdDiffs, rowSds, rowSums2, rowTabulates, rowVarDiffs, rowVars,
    rowWeightedMads, rowWeightedMeans, rowWeightedMedians,
    rowWeightedSds, rowWeightedVars

Loading required package: GenomicRanges
Loading required package: stats4
Loading required package: BiocGenerics

Attaching package: 'BiocGenerics'

The following objects are masked from 'package:stats':

    IQR, mad, sd, var, xtabs

The following objects are masked from 'package:base':

    Filter, Find, Map, Position, Reduce, anyDuplicated, append,
    as.data.frame, basename, cbind, colnames, dirname, do.call,
    duplicated, eval, evalq, get, grep, grepl, intersect, is.unsorted,
    lapply, mapply, match, mget, order, paste, pmax, pmax.int, pmin,
    pmin.int, rank, rbind, rownames, sapply, setdiff, sort, table,
    tapply, union, unique, unsplit, which.max, which.min

Loading required package: S4Vectors

Attaching package: 'S4Vectors'

The following objects are masked from 'package:base':

    I, expand.grid, unname

Loading required package: IRanges
Loading required package: GenomeInfoDb
Loading required package: Biobase
Welcome to Bioconductor

    Vignettes contain introductory material; view with
    'browseVignettes()'. To cite Bioconductor, see
    'citation("Biobase")', and for packages 'citation("pkgname")'.


Attaching package: 'Biobase'

The following object is masked from 'package:MatrixGenerics':

    rowMedians

The following objects are masked from 'package:matrixStats':

    anyMissing, rowMedians

Loading required package: DelayedArray
Loading required package: Matrix

Attaching package: 'Matrix'

The following object is masked from 'package:S4Vectors':

    expand


Attaching package: 'DelayedArray'

The following objects are masked from 'package:base':

    aperm, apply, rowsum, scale, sweep


> library(reshape2)
> 
> test_check("BiocOncoTK")
Loading required package: BiocGenerics

Attaching package: ‘BiocGenerics’

The following objects are masked from ‘package:stats’:

    IQR, mad, sd, var, xtabs

The following objects are masked from ‘package:base’:

    Filter, Find, Map, Position, Reduce, anyDuplicated, append,
    as.data.frame, basename, cbind, colnames, dirname, do.call,
    duplicated, eval, evalq, get, grep, grepl, intersect, is.unsorted,
    lapply, mapply, match, mget, order, paste, pmax, pmax.int, pmin,
    pmin.int, rank, rbind, rownames, sapply, setdiff, sort, table,
    tapply, union, unique, unsplit, which.max, which.min

Loading required package: AnnotationHub
Loading required package: BiocFileCache
Loading required package: dbplyr
snapshotDate(): 2021-10-18
Working on: BLCA_RNASeq2GeneNorm-20160128
see ?curatedTCGAData and browseVignettes('curatedTCGAData') for documentation
loading from cache
Working on: BLCA_colData-20160128
see ?curatedTCGAData and browseVignettes('curatedTCGAData') for documentation
loading from cache
Working on: BLCA_metadata-20160128
see ?curatedTCGAData and browseVignettes('curatedTCGAData') for documentation
loading from cache
Working on: BLCA_sampleMap-20160128
see ?curatedTCGAData and browseVignettes('curatedTCGAData') for documentation
loading from cache
harmonizing input:
  removing 4463 sampleMap rows not in names(experiments)
  removing 4 colData rownames not in sampleMap 'primary'
Loading required package: BiocGenerics

Attaching package: ‘BiocGenerics’

The following objects are masked from ‘package:stats’:

    IQR, mad, sd, var, xtabs

The following objects are masked from ‘package:base’:

    Filter, Find, Map, Position, Reduce, anyDuplicated, append,
    as.data.frame, basename, cbind, colnames, dirname, do.call,
    duplicated, eval, evalq, get, grep, grepl, intersect, is.unsorted,
    lapply, mapply, match, mget, order, paste, pmax, pmax.int, pmin,
    pmin.int, rank, rbind, rownames, sapply, setdiff, sort, table,
    tapply, union, unique, unsplit, which.max, which.min

Loading required package: AnnotationHub
Loading required package: BiocFileCache
Loading required package: dbplyr
snapshotDate(): 2021-10-18
Working on: BLCA_RNASeq2GeneNorm-20160128
see ?curatedTCGAData and browseVignettes('curatedTCGAData') for documentation
loading from cache
Working on: BLCA_colData-20160128
see ?curatedTCGAData and browseVignettes('curatedTCGAData') for documentation
loading from cache
Working on: BLCA_metadata-20160128
see ?curatedTCGAData and browseVignettes('curatedTCGAData') for documentation
loading from cache
Working on: BLCA_sampleMap-20160128
see ?curatedTCGAData and browseVignettes('curatedTCGAData') for documentation
loading from cache
harmonizing input:
  removing 4463 sampleMap rows not in names(experiments)
  removing 4 colData rownames not in sampleMap 'primary'
Loading required package: BiocGenerics

Attaching package: ‘BiocGenerics’

The following objects are masked from ‘package:stats’:

    IQR, mad, sd, var, xtabs

The following objects are masked from ‘package:base’:

    Filter, Find, Map, Position, Reduce, anyDuplicated, append,
    as.data.frame, basename, cbind, colnames, dirname, do.call,
    duplicated, eval, evalq, get, grep, grepl, intersect, is.unsorted,
    lapply, mapply, match, mget, order, paste, pmax, pmax.int, pmin,
    pmin.int, rank, rbind, rownames, sapply, setdiff, sort, table,
    tapply, union, unique, unsplit, which.max, which.min

Loading required package: AnnotationHub
Loading required package: BiocFileCache
Loading required package: dbplyr
snapshotDate(): 2021-10-18
Working on: SKCM_RNASeq2GeneNorm-20160128
see ?curatedTCGAData and browseVignettes('curatedTCGAData') for documentation
loading from cache
Working on: SKCM_colData-20160128
see ?curatedTCGAData and browseVignettes('curatedTCGAData') for documentation
loading from cache
Working on: SKCM_metadata-20160128
see ?curatedTCGAData and browseVignettes('curatedTCGAData') for documentation
loading from cache
Working on: SKCM_sampleMap-20160128
see ?curatedTCGAData and browseVignettes('curatedTCGAData') for documentation
loading from cache
harmonizing input:
  removing 4841 sampleMap rows not in names(experiments)
  removing 1 colData rownames not in sampleMap 'primary'
[ FAIL 0 | WARN 0 | SKIP 0 | PASS 5 ]
> 
> proc.time()
   user  system elapsed 
112.214   5.350 120.669 

Example timings

BiocOncoTK.Rcheck/BiocOncoTK-Ex.timings

nameusersystemelapsed
CCLE_DRUG_BROAD0.1080.0080.115
MSIsensor.10k0.0180.0000.018
TcgaMutCounts0.0000.0000.001
TcgaNIndWithAnyMut000
add_sym0.0000.0000.001
annotTabs000
bindMSI0.0010.0000.000
bipg_tests0.2680.0270.295
brcaMAE1.4400.0321.473
buildPancanSE000
cell_701380.0010.0000.000
clueDemos0.0010.0000.000
clueServiceNames000
darmGBMcls0.3360.0190.356
dingMSI0.0030.0000.003
featIDMapper0.0000.0000.001
fireMSI0.6230.0520.674
get_plates0.0000.0000.001
ggFeatDens000
ggFeatureSegs0.0010.0000.000
ggMutDens000
icd10_c0.0190.0040.023
k23sig0.0030.0010.003
loadPatel000
mc3toGR0.0000.0000.001
molpo_3utr0.1280.0000.128
molpo_5utr0.0280.0000.027
molpo_CDS0.0610.0150.077
molpo_WGS0.0190.0000.019
oncoPrintISB0.0000.0000.001
pancan.clin.varnames0.0090.0000.009
pancan_BQ0.0000.0000.001
pancan_app0.0010.0000.000
pancan_clinicalTabVarnames000
pancan_longname0.0010.0000.000
pancan_sampTypeMap0.0010.0000.001
pancan_tabulate0.0010.0000.000
patient_to_tumor_code0.010.000.01
pertClasses000
pert_701380.0010.0000.001
query_clue000
small_msi0.0040.0000.004
tumNorSet000
utils1.2080.0111.222
viz_msi_raw000