Back to Multiple platform build/check report for BioC 3.14
A[B]CDEFGHIJKLMNOPQRSTUVWXYZ

This page was generated on 2021-10-19 12:05:20 -0400 (Tue, 19 Oct 2021).

BUILD BIN results for BiocOncoTK on merida1

To the developers/maintainers of the BiocOncoTK package:
- Please allow up to 24 hours (and sometimes 48 hours) for your latest push to git@git.bioconductor.org:packages/BiocOncoTK.git to
reflect on this report. See How and When does the builder pull? When will my changes propagate? here for more information.
- Make sure to use the following settings in order to reproduce any error or warning you see on this page.

raw results

Package 162/2060HostnameOS / ArchINSTALLBUILDCHECKBUILD BIN
BiocOncoTK 1.13.2  (landing page)
VJ Carey
Snapshot Date: 2021-10-18 14:50:10 -0400 (Mon, 18 Oct 2021)
git_url: https://git.bioconductor.org/packages/BiocOncoTK
git_branch: master
git_last_commit: 204d642
git_last_commit_date: 2021-06-25 16:24:03 -0400 (Fri, 25 Jun 2021)
nebbiolo2Linux (Ubuntu 20.04.2 LTS) / x86_64  OK    OK    OK  UNNEEDED, same version is already published
riesling1Windows Server 2019 Standard / x64  OK    OK    OK    OK  UNNEEDED, same version is already published
merida1macOS 10.14.6 Mojave / x86_64  OK    OK    OK    OK  UNNEEDED, same version is already published

Summary

Package: BiocOncoTK
Version: 1.13.2
Command: rm -rf BiocOncoTK.buildbin-libdir && mkdir BiocOncoTK.buildbin-libdir && /Users/biocbuild/BBS/utils/build-universal.sh BiocOncoTK_1.13.2.tar.gz /Library/Frameworks/R.framework/Resources/bin/R BiocOncoTK.buildbin-libdir
StartedAt: 2021-10-19 11:04:33 -0400 (Tue, 19 Oct 2021)
EndedAt: 2021-10-19 11:06:26 -0400 (Tue, 19 Oct 2021)
EllapsedTime: 112.7 seconds
RetCode: 0
Status:   OK  
PackageFile: BiocOncoTK_1.13.2.tgz
PackageFileSize: 9.131 MiB

Command output

##############################################################################
##############################################################################
###
### Running command:
###
###   rm -rf BiocOncoTK.buildbin-libdir && mkdir BiocOncoTK.buildbin-libdir && /Users/biocbuild/BBS/utils/build-universal.sh BiocOncoTK_1.13.2.tar.gz /Library/Frameworks/R.framework/Resources/bin/R BiocOncoTK.buildbin-libdir
###
##############################################################################
##############################################################################


>>>>>>> 
>>>>>>> INSTALLATION WITH 'R CMD INSTALL --preclean --no-multiarch --library=BiocOncoTK.buildbin-libdir BiocOncoTK_1.13.2.tar.gz'
>>>>>>> 

* installing *source* package ‘BiocOncoTK’ ...
** using staged installation
** R
** data
*** moving datasets to lazyload DB
** inst
** byte-compile and prepare package for lazy loading
** help
*** installing help indices
** building package indices
** installing vignettes
** testing if installed package can be loaded from temporary location
** testing if installed package can be loaded from final location
** testing if installed package keeps a record of temporary installation path
* DONE (BiocOncoTK)