Back to Multiple platform build/check report for BioC 3.14
A[B]CDEFGHIJKLMNOPQRSTUVWXYZ

This page was generated on 2021-10-19 12:04:48 -0400 (Tue, 19 Oct 2021).

INSTALL results for BiocIO on riesling1

To the developers/maintainers of the BiocIO package:
- Please allow up to 24 hours (and sometimes 48 hours) for your latest push to git@git.bioconductor.org:packages/BiocIO.git to
reflect on this report. See How and When does the builder pull? When will my changes propagate? here for more information.
- Make sure to use the following settings in order to reproduce any error or warning you see on this page.

raw results

Package 160/2060HostnameOS / ArchINSTALLBUILDCHECKBUILD BIN
BiocIO 1.3.0  (landing page)
Bioconductor Package Maintainer
Snapshot Date: 2021-10-18 14:50:10 -0400 (Mon, 18 Oct 2021)
git_url: https://git.bioconductor.org/packages/BiocIO
git_branch: master
git_last_commit: fc929d5
git_last_commit_date: 2021-05-19 12:54:48 -0400 (Wed, 19 May 2021)
nebbiolo2Linux (Ubuntu 20.04.2 LTS) / x86_64  OK    OK    OK  UNNEEDED, same version is already published
riesling1Windows Server 2019 Standard / x64  OK    OK    OK    OK  UNNEEDED, same version is already published
merida1macOS 10.14.6 Mojave / x86_64  OK    OK    OK    OK  UNNEEDED, same version is already published

Summary

Package: BiocIO
Version: 1.3.0
Command: C:\cygwin\bin\curl.exe -O http://155.52.207.166/BBS/3.14/bioc/src/contrib/BiocIO_1.3.0.tar.gz && rm -rf BiocIO.buildbin-libdir && mkdir BiocIO.buildbin-libdir && D:\biocbuild\bbs-3.14-bioc\R\bin\R.exe CMD INSTALL --merge-multiarch --build --library=BiocIO.buildbin-libdir BiocIO_1.3.0.tar.gz && D:\biocbuild\bbs-3.14-bioc\R\bin\R.exe CMD INSTALL BiocIO_1.3.0.zip && rm BiocIO_1.3.0.tar.gz BiocIO_1.3.0.zip
StartedAt: 2021-10-18 18:15:19 -0400 (Mon, 18 Oct 2021)
EndedAt: 2021-10-18 18:18:09 -0400 (Mon, 18 Oct 2021)
EllapsedTime: 169.7 seconds
RetCode: 0
Status:   OK  

Command output

##############################################################################
##############################################################################
###
### Running command:
###
###   C:\cygwin\bin\curl.exe -O http://155.52.207.166/BBS/3.14/bioc/src/contrib/BiocIO_1.3.0.tar.gz && rm -rf BiocIO.buildbin-libdir && mkdir BiocIO.buildbin-libdir && D:\biocbuild\bbs-3.14-bioc\R\bin\R.exe CMD INSTALL --merge-multiarch --build --library=BiocIO.buildbin-libdir BiocIO_1.3.0.tar.gz && D:\biocbuild\bbs-3.14-bioc\R\bin\R.exe CMD INSTALL BiocIO_1.3.0.zip && rm BiocIO_1.3.0.tar.gz BiocIO_1.3.0.zip
###
##############################################################################
##############################################################################


  % Total    % Received % Xferd  Average Speed   Time    Time     Time  Current
                                 Dload  Upload   Total   Spent    Left  Speed

  0     0    0     0    0     0      0      0 --:--:-- --:--:-- --:--:--     0
100  8703  100  8703    0     0   104k      0 --:--:-- --:--:-- --:--:--  104k

install for i386

* installing *source* package 'BiocIO' ...
** using staged installation
** R
** byte-compile and prepare package for lazy loading
** help
*** installing help indices
  converting help for package 'BiocIO'
    finding HTML links ... done
    BiocFile-class                          html  
    export                                  html  
** building package indices
** installing vignettes
** testing if installed package can be loaded from temporary location
** testing if installed package can be loaded from final location
** testing if installed package keeps a record of temporary installation path

install for x64

* installing *source* package 'BiocIO' ...
** testing if installed package can be loaded
* MD5 sums
packaged installation of 'BiocIO' as BiocIO_1.3.0.zip
* DONE (BiocIO)
* installing to library 'D:/biocbuild/bbs-3.14-bioc/R/library'
package 'BiocIO' successfully unpacked and MD5 sums checked