Back to Multiple platform build/check report for BioC 3.14
A[B]CDEFGHIJKLMNOPQRSTUVWXYZ

This page was generated on 2021-10-25 14:06:50 -0400 (Mon, 25 Oct 2021).

BUILD results for BiocIO on merida1

To the developers/maintainers of the BiocIO package:
- Please allow up to 24 hours (and sometimes 48 hours) for your latest push to git@git.bioconductor.org:packages/BiocIO.git to
reflect on this report. See How and When does the builder pull? When will my changes propagate? here for more information.
- Make sure to use the following settings in order to reproduce any error or warning you see on this page.

raw results

Package 161/2083HostnameOS / ArchINSTALLBUILDCHECKBUILD BIN
BiocIO 1.3.0  (landing page)
Bioconductor Package Maintainer
Snapshot Date: 2021-10-24 14:50:04 -0400 (Sun, 24 Oct 2021)
git_url: https://git.bioconductor.org/packages/BiocIO
git_branch: master
git_last_commit: fc929d5
git_last_commit_date: 2021-05-19 12:54:48 -0400 (Wed, 19 May 2021)
nebbiolo2Linux (Ubuntu 20.04.2 LTS) / x86_64  OK    OK    OK  UNNEEDED, same version is already published
riesling1Windows Server 2019 Standard / x64  OK    OK    OK    OK  UNNEEDED, same version is already published
merida1macOS 10.14.6 Mojave / x86_64  OK    OK    OK    OK  UNNEEDED, same version is already published
machv2macOS 10.14.6 Mojave / x86_64  OK    OK    OK    OK  

Summary

Package: BiocIO
Version: 1.3.0
Command: /Library/Frameworks/R.framework/Resources/bin/R CMD build --keep-empty-dirs --no-resave-data BiocIO
StartedAt: 2021-10-24 18:43:56 -0400 (Sun, 24 Oct 2021)
EndedAt: 2021-10-24 18:44:18 -0400 (Sun, 24 Oct 2021)
EllapsedTime: 22.3 seconds
RetCode: 0
Status:   OK  
PackageFile: BiocIO_1.3.0.tar.gz
PackageFileSize: 223.7 KiB

Command output

##############################################################################
##############################################################################
###
### Running command:
###
###   /Library/Frameworks/R.framework/Resources/bin/R CMD build --keep-empty-dirs --no-resave-data BiocIO
###
##############################################################################
##############################################################################


* checking for file ‘BiocIO/DESCRIPTION’ ... OK
* preparing ‘BiocIO’:
* checking DESCRIPTION meta-information ... OK
* installing the package to build vignettes
* creating vignettes ... OK
* checking for LF line-endings in source and make files and shell scripts
* checking for empty or unneeded directories
Omitted ‘LazyData’ from DESCRIPTION
* building ‘BiocIO_1.3.0.tar.gz’