Back to Multiple platform build/check report for BioC 3.14
A[B]CDEFGHIJKLMNOPQRSTUVWXYZ

This page was generated on 2021-11-26 15:04:14 -0500 (Fri, 26 Nov 2021).

All results for package BiocGenerics

To the developers/maintainers of the BiocGenerics package:
- Please allow up to 24 hours (and sometimes 48 hours) for your latest push to git@git.bioconductor.org:packages/BiocGenerics.git to
reflect on this report. See How and When does the builder pull? When will my changes propagate? here for more information.
- Make sure to use the following settings in order to reproduce any error or warning you see on this page.

raw results

Package 159/2083HostnameOS / ArchINSTALLBUILDCHECKBUILD BIN
BiocGenerics 0.40.0  (landing page)
Bioconductor Package Maintainer
Snapshot Date: 2021-11-25 04:15:05 -0500 (Thu, 25 Nov 2021)
git_url: https://git.bioconductor.org/packages/BiocGenerics
git_branch: RELEASE_3_14
git_last_commit: 0bc1e0e
git_last_commit_date: 2021-10-26 12:01:29 -0500 (Tue, 26 Oct 2021)
nebbiolo2Linux (Ubuntu 20.04.3 LTS) / x86_64  OK    OK    WARNINGS  UNNEEDED, same version is already published
tokay2Windows Server 2012 R2 Standard / x64  OK    OK    WARNINGS    OK  UNNEEDED, same version is already published
machv2macOS 10.14.6 Mojave / x86_64  OK    OK    WARNINGS    OK  UNNEEDED, same version is already published

Results for Bioconductor software packages that depend directly on package BiocGenerics

QUICK STATSOS / ArchINSTALLBUILDCHECKBUILD BIN
nebbiolo2Linux (Ubuntu 20.04.3 LTS) / x86_64
02441
08435
0690339
tokay2Windows Server 2012 R2 Standard / x64
02432
011423
1891323
00423
machv2macOS 10.14.6 Mojave / x86_64
02438
07433
1683343
00433
Package 1/443HostnameOS / ArchINSTALLBUILDCHECKBUILD BIN
a4Preproc 1.42.0  (landing page)
Laure Cougnaud
git_last_commit: 773a91e
git_last_commit_date: 2021-10-26 11:58:50 -0500
nebbiolo2Linux (Ubuntu 20.04.3 LTS) / x86_64  OK    OK    OK  UNNEEDED, same version is already published
tokay2Windows Server 2012 R2 Standard / x64  OK    OK    OK    OK  UNNEEDED, same version is already published
machv2macOS 10.14.6 Mojave / x86_64  OK    OK    OK    OK  UNNEEDED, same version is already published
Package 2/443HostnameOS / ArchINSTALLBUILDCHECKBUILD BIN
ACME 2.50.0  (landing page)
Sean Davis
git_last_commit: d55a19a
git_last_commit_date: 2021-10-26 11:51:02 -0500
nebbiolo2Linux (Ubuntu 20.04.3 LTS) / x86_64  OK    OK    WARNINGS  UNNEEDED, same version is already published
tokay2Windows Server 2012 R2 Standard / x64  OK    OK    WARNINGS    OK  UNNEEDED, same version is already published
machv2macOS 10.14.6 Mojave / x86_64  OK    OK    OK    OK  UNNEEDED, same version is already published
Package 3/443HostnameOS / ArchINSTALLBUILDCHECKBUILD BIN
affy 1.72.0  (landing page)
Rafael A. Irizarry
git_last_commit: 3750b4e
git_last_commit_date: 2021-10-26 11:45:47 -0500
nebbiolo2Linux (Ubuntu 20.04.3 LTS) / x86_64  OK    OK    WARNINGS  UNNEEDED, same version is already published
tokay2Windows Server 2012 R2 Standard / x64  OK    OK    WARNINGS    OK  UNNEEDED, same version is already published
machv2macOS 10.14.6 Mojave / x86_64  OK    OK    WARNINGS    OK  UNNEEDED, same version is already published
Package 4/443HostnameOS / ArchINSTALLBUILDCHECKBUILD BIN
affycoretools 1.66.0  (landing page)
James W. MacDonald
git_last_commit: 6bf769d
git_last_commit_date: 2021-10-26 11:48:47 -0500
nebbiolo2Linux (Ubuntu 20.04.3 LTS) / x86_64  OK    OK    WARNINGS  UNNEEDED, same version is already published
tokay2Windows Server 2012 R2 Standard / x64  OK    OK    WARNINGS    OK  UNNEEDED, same version is already published
machv2macOS 10.14.6 Mojave / x86_64  OK    OK    WARNINGS    OK  UNNEEDED, same version is already published
Package 5/443HostnameOS / ArchINSTALLBUILDCHECKBUILD BIN
affylmGUI 1.68.0  (landing page)
Gordon Smyth
git_last_commit: e6b1079
git_last_commit_date: 2021-10-26 11:46:50 -0500
nebbiolo2Linux (Ubuntu 20.04.3 LTS) / x86_64  OK    OK    OK  UNNEEDED, same version is already published
tokay2Windows Server 2012 R2 Standard / x64  OK    OK    OK    OK  UNNEEDED, same version is already published
machv2macOS 10.14.6 Mojave / x86_64  OK    OK    OK    OK  UNNEEDED, same version is already published
Package 6/443HostnameOS / ArchINSTALLBUILDCHECKBUILD BIN
affyPLM 1.70.0  (landing page)
Ben Bolstad
git_last_commit: 64abfec
git_last_commit_date: 2021-10-26 11:46:18 -0500
nebbiolo2Linux (Ubuntu 20.04.3 LTS) / x86_64  OK    OK    WARNINGS  UNNEEDED, same version is already published
tokay2Windows Server 2012 R2 Standard / x64  OK    OK    OK    OK  UNNEEDED, same version is already published
machv2macOS 10.14.6 Mojave / x86_64  OK    OK    OK    OK  UNNEEDED, same version is already published
Package 7/443HostnameOS / ArchINSTALLBUILDCHECKBUILD BIN
AllelicImbalance 1.32.0  (landing page)
Jesper R Gadin
git_last_commit: 428ab8c
git_last_commit_date: 2021-10-26 12:10:09 -0500
nebbiolo2Linux (Ubuntu 20.04.3 LTS) / x86_64  OK    OK    OK  UNNEEDED, same version is already published
tokay2Windows Server 2012 R2 Standard / x64  OK    OK    OK    OK  UNNEEDED, same version is already published
machv2macOS 10.14.6 Mojave / x86_64  OK    OK    OK    OK  UNNEEDED, same version is already published
Package 8/443HostnameOS / ArchINSTALLBUILDCHECKBUILD BIN
altcdfenvs 2.56.0  (landing page)
Laurent Gautier
git_last_commit: 941e00b
git_last_commit_date: 2021-10-26 11:46:44 -0500
nebbiolo2Linux (Ubuntu 20.04.3 LTS) / x86_64  OK    OK    OK  UNNEEDED, same version is already published
tokay2Windows Server 2012 R2 Standard / x64  OK    OK    OK    OK  UNNEEDED, same version is already published
machv2macOS 10.14.6 Mojave / x86_64  OK    OK    OK    OK  UNNEEDED, same version is already published
Package 9/443HostnameOS / ArchINSTALLBUILDCHECKBUILD BIN
amplican 1.16.0  (landing page)
Eivind Valen
git_last_commit: afffd18
git_last_commit_date: 2021-10-26 12:37:57 -0500
nebbiolo2Linux (Ubuntu 20.04.3 LTS) / x86_64  OK    OK    OK  UNNEEDED, same version is already published
tokay2Windows Server 2012 R2 Standard / x64  OK    OK    OK    OK  UNNEEDED, same version is already published
machv2macOS 10.14.6 Mojave / x86_64  OK    OK    OK    OK  UNNEEDED, same version is already published
Package 10/443HostnameOS / ArchINSTALLBUILDCHECKBUILD BIN
AneuFinder 1.22.0  (landing page)
Aaron Taudt
git_last_commit: ea0beb3
git_last_commit_date: 2021-10-26 12:26:30 -0500
nebbiolo2Linux (Ubuntu 20.04.3 LTS) / x86_64  OK    OK    OK  UNNEEDED, same version is already published
tokay2Windows Server 2012 R2 Standard / x64  OK    OK    OK    OK  UNNEEDED, same version is already published
machv2macOS 10.14.6 Mojave / x86_64  OK    OK    OK    OK  UNNEEDED, same version is already published
Package 11/443HostnameOS / ArchINSTALLBUILDCHECKBUILD BIN
annmap 1.36.0  (landing page)
Chris Wirth
git_last_commit: 0bb7da5
git_last_commit_date: 2021-10-26 12:03:22 -0500
nebbiolo2Linux (Ubuntu 20.04.3 LTS) / x86_64  OK    OK    ERROR  
tokay2Windows Server 2012 R2 Standard / x64... NOT SUPPORTED ...
machv2macOS 10.14.6 Mojave / x86_64  OK    OK    ERROR    OK  
Package 12/443HostnameOS / ArchINSTALLBUILDCHECKBUILD BIN
annotate 1.72.0  (landing page)
Bioconductor Package Maintainer
git_last_commit: 67ac76a
git_last_commit_date: 2021-10-26 11:45:29 -0500
nebbiolo2Linux (Ubuntu 20.04.3 LTS) / x86_64  OK    OK    OK  UNNEEDED, same version is already published
tokay2Windows Server 2012 R2 Standard / x64  OK    OK    ERROR    OK  
machv2macOS 10.14.6 Mojave / x86_64  OK    OK    OK    OK  UNNEEDED, same version is already published
Package 13/443HostnameOS / ArchINSTALLBUILDCHECKBUILD BIN
AnnotationDbi 1.56.2  (landing page)
Bioconductor Package Maintainer
git_last_commit: 13fdc4a
git_last_commit_date: 2021-11-09 12:05:33 -0500
nebbiolo2Linux (Ubuntu 20.04.3 LTS) / x86_64  OK    OK    OK  UNNEEDED, same version is already published
tokay2Windows Server 2012 R2 Standard / x64  OK    OK    OK    OK  UNNEEDED, same version is already published
machv2macOS 10.14.6 Mojave / x86_64  OK    OK    OK    OK  UNNEEDED, same version is already published
Package 14/443HostnameOS / ArchINSTALLBUILDCHECKBUILD BIN
AnnotationForge 1.36.0  (landing page)
Bioconductor Package Maintainer
git_last_commit: 523b5f0
git_last_commit_date: 2021-10-26 12:03:32 -0500
nebbiolo2Linux (Ubuntu 20.04.3 LTS) / x86_64  OK    OK    OK  UNNEEDED, same version is already published
tokay2Windows Server 2012 R2 Standard / x64  OK    OK    OK    OK  UNNEEDED, same version is already published
machv2macOS 10.14.6 Mojave / x86_64  OK    OK    OK    OK  UNNEEDED, same version is already published
Package 15/443HostnameOS / ArchINSTALLBUILDCHECKBUILD BIN
AnnotationHub 3.2.0  (landing page)
Bioconductor Package Maintainer
git_last_commit: 873fb33
git_last_commit_date: 2021-10-26 12:07:32 -0500
nebbiolo2Linux (Ubuntu 20.04.3 LTS) / x86_64  OK    OK    WARNINGS  UNNEEDED, same version is already published
tokay2Windows Server 2012 R2 Standard / x64  OK    OK    WARNINGS    OK  UNNEEDED, same version is already published
machv2macOS 10.14.6 Mojave / x86_64  OK    OK    WARNINGS    OK  UNNEEDED, same version is already published
Package 16/443HostnameOS / ArchINSTALLBUILDCHECKBUILD BIN
AnnotationHubData 1.24.1  (landing page)
Bioconductor Package Maintainer
git_last_commit: c665598
git_last_commit_date: 2021-11-24 12:54:20 -0500
nebbiolo2Linux (Ubuntu 20.04.3 LTS) / x86_64  OK    OK    WARNINGS  YES
tokay2Windows Server 2012 R2 Standard / x64  OK    OK    WARNINGS    OK  YES
machv2macOS 10.14.6 Mojave / x86_64  OK    OK    WARNINGS    OK  YES
Package 17/443HostnameOS / ArchINSTALLBUILDCHECKBUILD BIN
ArrayExpressHTS 1.44.0  (landing page)
Angela Goncalves , Andrew Tikhonov
git_last_commit: bb650ce
git_last_commit_date: 2021-10-26 11:59:09 -0500
nebbiolo2Linux (Ubuntu 20.04.3 LTS) / x86_64  OK    OK    WARNINGS  UNNEEDED, same version is already published
tokay2Windows Server 2012 R2 Standard / x64... NOT SUPPORTED ...
machv2macOS 10.14.6 Mojave / x86_64  OK    OK    OK    OK  UNNEEDED, same version is already published
Package 18/443HostnameOS / ArchINSTALLBUILDCHECKBUILD BIN
ASpli 2.4.0  (landing page)
Estefania Mancini
git_last_commit: 9dad6f1
git_last_commit_date: 2021-10-26 12:29:18 -0500
nebbiolo2Linux (Ubuntu 20.04.3 LTS) / x86_64  OK    OK    OK  UNNEEDED, same version is already published
tokay2Windows Server 2012 R2 Standard / x64  OK    OK    OK    OK  UNNEEDED, same version is already published
machv2macOS 10.14.6 Mojave / x86_64  OK    OK    OK    OK  UNNEEDED, same version is already published
Package 19/443HostnameOS / ArchINSTALLBUILDCHECKBUILD BIN
ATACseqQC 1.18.0  (landing page)
Jianhong Ou
git_last_commit: eeaad0d
git_last_commit_date: 2021-10-26 12:35:11 -0500
nebbiolo2Linux (Ubuntu 20.04.3 LTS) / x86_64  OK    OK    OK  UNNEEDED, same version is already published
tokay2Windows Server 2012 R2 Standard / x64  OK    OK    OK    OK  UNNEEDED, same version is already published
machv2macOS 10.14.6 Mojave / x86_64  OK    OK    OK    OK  UNNEEDED, same version is already published
Package 20/443HostnameOS / ArchINSTALLBUILDCHECKBUILD BIN
atena 1.0.1  (landing page)
Beatriz Calvo-Serra
git_last_commit: 5bc457c
git_last_commit_date: 2021-11-05 07:41:58 -0500
nebbiolo2Linux (Ubuntu 20.04.3 LTS) / x86_64  OK    OK    OK  UNNEEDED, same version is already published
tokay2Windows Server 2012 R2 Standard / x64  OK    OK    OK    OK  UNNEEDED, same version is already published
machv2macOS 10.14.6 Mojave / x86_64  OK    OK    OK    OK  UNNEEDED, same version is already published
Package 21/443HostnameOS / ArchINSTALLBUILDCHECKBUILD BIN
AUCell 1.16.0  (landing page)
Sara Aibar
git_last_commit: dfde2b6
git_last_commit_date: 2021-10-26 12:38:06 -0500
nebbiolo2Linux (Ubuntu 20.04.3 LTS) / x86_64  OK    OK    OK  UNNEEDED, same version is already published
tokay2Windows Server 2012 R2 Standard / x64  OK    ERROR  skippedskipped
machv2macOS 10.14.6 Mojave / x86_64  OK    OK    OK    OK  UNNEEDED, same version is already published
Package 22/443HostnameOS / ArchINSTALLBUILDCHECKBUILD BIN
autonomics 1.2.0  (landing page)
Aditya Bhagwat
git_last_commit: f775f33
git_last_commit_date: 2021-10-26 13:07:36 -0500
nebbiolo2Linux (Ubuntu 20.04.3 LTS) / x86_64  OK    OK    WARNINGS  UNNEEDED, same version is already published
tokay2Windows Server 2012 R2 Standard / x64  OK    OK    WARNINGS    OK  UNNEEDED, same version is already published
machv2macOS 10.14.6 Mojave / x86_64  OK    OK    WARNINGS    OK  UNNEEDED, same version is already published
Package 23/443HostnameOS / ArchINSTALLBUILDCHECKBUILD BIN
bambu 2.0.1  (landing page)
Ying Chen
git_last_commit: 16a6d66
git_last_commit_date: 2021-11-22 21:16:11 -0500
nebbiolo2Linux (Ubuntu 20.04.3 LTS) / x86_64  OK    OK    OK  UNNEEDED, same version is already published
tokay2Windows Server 2012 R2 Standard / x64  OK    ERROR  skippedskipped
machv2macOS 10.14.6 Mojave / x86_64  OK    OK    OK    OK  UNNEEDED, same version is already published
Package 24/443HostnameOS / ArchINSTALLBUILDCHECKBUILD BIN
bamsignals 1.26.0  (landing page)
Johannes Helmuth
git_last_commit: d576434
git_last_commit_date: 2021-10-26 12:19:18 -0500
nebbiolo2Linux (Ubuntu 20.04.3 LTS) / x86_64  OK    OK    OK  UNNEEDED, same version is already published
tokay2Windows Server 2012 R2 Standard / x64  OK    OK    OK    OK  UNNEEDED, same version is already published
machv2macOS 10.14.6 Mojave / x86_64  OK    OK    OK    OK  UNNEEDED, same version is already published
Package 25/443HostnameOS / ArchINSTALLBUILDCHECKBUILD BIN
BASiCS 2.6.0  (landing page)
Alan O'Callaghan
git_last_commit: 4c9d804
git_last_commit_date: 2021-10-26 12:38:26 -0500
nebbiolo2Linux (Ubuntu 20.04.3 LTS) / x86_64  OK    OK    OK  UNNEEDED, same version is already published
tokay2Windows Server 2012 R2 Standard / x64  OK    OK    OK    OK  UNNEEDED, same version is already published
machv2macOS 10.14.6 Mojave / x86_64  OK    OK    OK    OK  UNNEEDED, same version is already published
Package 26/443HostnameOS / ArchINSTALLBUILDCHECKBUILD BIN
batchelor 1.10.0  (landing page)
Aaron Lun
git_last_commit: fbbcf91
git_last_commit_date: 2021-10-26 12:50:33 -0500
nebbiolo2Linux (Ubuntu 20.04.3 LTS) / x86_64  OK    OK    OK  UNNEEDED, same version is already published
tokay2Windows Server 2012 R2 Standard / x64  OK    OK    OK    OK  UNNEEDED, same version is already published
machv2macOS 10.14.6 Mojave / x86_64  OK    OK    OK    OK  UNNEEDED, same version is already published
Package 27/443HostnameOS / ArchINSTALLBUILDCHECKBUILD BIN
beachmat 2.10.0  (landing page)
Aaron Lun
git_last_commit: b7cc532
git_last_commit_date: 2021-10-26 12:36:32 -0500
nebbiolo2Linux (Ubuntu 20.04.3 LTS) / x86_64  OK    OK    OK  UNNEEDED, same version is already published
tokay2Windows Server 2012 R2 Standard / x64  OK    OK    OK    OK  UNNEEDED, same version is already published
machv2macOS 10.14.6 Mojave / x86_64  OK    OK    OK    OK  UNNEEDED, same version is already published
Package 28/443HostnameOS / ArchINSTALLBUILDCHECKBUILD BIN
beadarray 2.44.0  (landing page)
Mark Dunning
git_last_commit: c35a5ce
git_last_commit_date: 2021-10-26 11:49:14 -0500
nebbiolo2Linux (Ubuntu 20.04.3 LTS) / x86_64  OK    OK    OK  UNNEEDED, same version is already published
tokay2Windows Server 2012 R2 Standard / x64  OK    OK    OK    OK  UNNEEDED, same version is already published
machv2macOS 10.14.6 Mojave / x86_64  OK    OK    OK    OK  UNNEEDED, same version is already published
Package 29/443HostnameOS / ArchINSTALLBUILDCHECKBUILD BIN
bigmelon 1.20.0  (landing page)
Tyler J. Gorrie-Stone
git_last_commit: 4fee9cc
git_last_commit_date: 2021-10-26 12:30:04 -0500
nebbiolo2Linux (Ubuntu 20.04.3 LTS) / x86_64  OK    OK    WARNINGS  UNNEEDED, same version is already published
tokay2Windows Server 2012 R2 Standard / x64  OK    OK    WARNINGS    OK  UNNEEDED, same version is already published
machv2macOS 10.14.6 Mojave / x86_64  OK    OK    WARNINGS    OK  UNNEEDED, same version is already published
Package 30/443HostnameOS / ArchINSTALLBUILDCHECKBUILD BIN
bioassayR 1.32.0  (landing page)
Daniela Cassol
git_last_commit: 916080c
git_last_commit_date: 2021-10-26 12:10:12 -0500
nebbiolo2Linux (Ubuntu 20.04.3 LTS) / x86_64  OK    OK    OK  UNNEEDED, same version is already published
tokay2Windows Server 2012 R2 Standard / x64  OK    OK    WARNINGS    OK  UNNEEDED, same version is already published
machv2macOS 10.14.6 Mojave / x86_64  OK    OK    OK    OK  UNNEEDED, same version is already published
Package 31/443HostnameOS / ArchINSTALLBUILDCHECKBUILD BIN
Biobase 2.54.0  (landing page)
Bioconductor Package Maintainer
git_last_commit: 8215d76
git_last_commit_date: 2021-10-26 11:45:25 -0500
nebbiolo2Linux (Ubuntu 20.04.3 LTS) / x86_64  OK    OK    OK  UNNEEDED, same version is already published
tokay2Windows Server 2012 R2 Standard / x64  OK    OK    OK    OK  UNNEEDED, same version is already published
machv2macOS 10.14.6 Mojave / x86_64  OK    OK    OK    OK  UNNEEDED, same version is already published
Package 32/443HostnameOS / ArchINSTALLBUILDCHECKBUILD BIN
biocGraph 1.56.0  (landing page)
Florian Hahne
git_last_commit: 05ec694
git_last_commit_date: 2021-10-26 11:51:19 -0500
nebbiolo2Linux (Ubuntu 20.04.3 LTS) / x86_64  OK    OK    OK  UNNEEDED, same version is already published
tokay2Windows Server 2012 R2 Standard / x64  OK    OK    OK    OK  UNNEEDED, same version is already published
machv2macOS 10.14.6 Mojave / x86_64  OK    OK    OK    OK  UNNEEDED, same version is already published
Package 33/443HostnameOS / ArchINSTALLBUILDCHECKBUILD BIN
BiocIO 1.4.0  (landing page)
Bioconductor Package Maintainer
git_last_commit: c335932
git_last_commit_date: 2021-10-26 13:01:59 -0500
nebbiolo2Linux (Ubuntu 20.04.3 LTS) / x86_64  OK    OK    OK  UNNEEDED, same version is already published
tokay2Windows Server 2012 R2 Standard / x64  OK    OK    OK    OK  UNNEEDED, same version is already published
machv2macOS 10.14.6 Mojave / x86_64  OK    OK    OK    OK  UNNEEDED, same version is already published
Package 34/443HostnameOS / ArchINSTALLBUILDCHECKBUILD BIN
BiocSingular 1.10.0  (landing page)
Aaron Lun
git_last_commit: 6615ae8
git_last_commit_date: 2021-10-26 12:49:33 -0500
nebbiolo2Linux (Ubuntu 20.04.3 LTS) / x86_64  OK    OK    OK  UNNEEDED, same version is already published
tokay2Windows Server 2012 R2 Standard / x64  OK    OK    OK    OK  UNNEEDED, same version is already published
machv2macOS 10.14.6 Mojave / x86_64  OK    OK    OK    OK  UNNEEDED, same version is already published
Package 35/443HostnameOS / ArchINSTALLBUILDCHECKBUILD BIN
Biostrings 2.62.0  (landing page)
H. Pagès
git_last_commit: 53ed287
git_last_commit_date: 2021-10-26 11:46:31 -0500
nebbiolo2Linux (Ubuntu 20.04.3 LTS) / x86_64  OK    OK    WARNINGS  UNNEEDED, same version is already published
tokay2Windows Server 2012 R2 Standard / x64  OK    OK    WARNINGS    OK  UNNEEDED, same version is already published
machv2macOS 10.14.6 Mojave / x86_64  OK    OK    WARNINGS    OK  UNNEEDED, same version is already published
Package 36/443HostnameOS / ArchINSTALLBUILDCHECKBUILD BIN
biotmle 1.18.0  (landing page)
Nima Hejazi
git_last_commit: a95145b
git_last_commit_date: 2021-10-26 12:34:49 -0500
nebbiolo2Linux (Ubuntu 20.04.3 LTS) / x86_64  OK    OK    OK  UNNEEDED, same version is already published
tokay2Windows Server 2012 R2 Standard / x64  OK    OK    OK    OK  UNNEEDED, same version is already published
machv2macOS 10.14.6 Mojave / x86_64  OK    OK    OK    OK  UNNEEDED, same version is already published
Package 37/443HostnameOS / ArchINSTALLBUILDCHECKBUILD BIN
biovizBase 1.42.0  (landing page)
Michael Lawrence
git_last_commit: f1627b2
git_last_commit_date: 2021-10-26 12:00:34 -0500
nebbiolo2Linux (Ubuntu 20.04.3 LTS) / x86_64  OK    OK    WARNINGS  UNNEEDED, same version is already published
tokay2Windows Server 2012 R2 Standard / x64  OK    OK    WARNINGS    OK  UNNEEDED, same version is already published
machv2macOS 10.14.6 Mojave / x86_64  OK    OK    WARNINGS    OK  UNNEEDED, same version is already published
Package 38/443HostnameOS / ArchINSTALLBUILDCHECKBUILD BIN
biscuiteer 1.8.0  (landing page)
"Jacob Morrison"
git_last_commit: 2a5989a
git_last_commit_date: 2021-10-26 12:55:31 -0500
nebbiolo2Linux (Ubuntu 20.04.3 LTS) / x86_64  OK    OK    WARNINGS  UNNEEDED, same version is already published
tokay2Windows Server 2012 R2 Standard / x64  OK    OK    WARNINGS    OK  UNNEEDED, same version is already published
machv2macOS 10.14.6 Mojave / x86_64  OK    OK    WARNINGS    OK  UNNEEDED, same version is already published
Package 39/443HostnameOS / ArchINSTALLBUILDCHECKBUILD BIN
BiSeq 1.34.0  (landing page)
Katja Hebestreit
git_last_commit: 5d4449a
git_last_commit_date: 2021-10-26 12:07:58 -0500
nebbiolo2Linux (Ubuntu 20.04.3 LTS) / x86_64  OK    OK    OK  UNNEEDED, same version is already published
tokay2Windows Server 2012 R2 Standard / x64  OK    OK    OK    OK  UNNEEDED, same version is already published
machv2macOS 10.14.6 Mojave / x86_64  OK    OK    OK    OK  UNNEEDED, same version is already published
Package 40/443HostnameOS / ArchINSTALLBUILDCHECKBUILD BIN
blima 1.28.0  (landing page)
Vojtěch Kulvait
git_last_commit: 2a638a4
git_last_commit_date: 2021-10-26 12:13:43 -0500
nebbiolo2Linux (Ubuntu 20.04.3 LTS) / x86_64  OK    OK    WARNINGS  UNNEEDED, same version is already published
tokay2Windows Server 2012 R2 Standard / x64  OK    OK    WARNINGS    OK  UNNEEDED, same version is already published
machv2macOS 10.14.6 Mojave / x86_64  OK    OK    WARNINGS    OK  UNNEEDED, same version is already published
Package 41/443HostnameOS / ArchINSTALLBUILDCHECKBUILD BIN
bnbc 1.16.0  (landing page)
Kipper Fletez-Brant
git_last_commit: 26377da
git_last_commit_date: 2021-10-26 12:39:02 -0500
nebbiolo2Linux (Ubuntu 20.04.3 LTS) / x86_64  OK    OK    OK  UNNEEDED, same version is already published
tokay2Windows Server 2012 R2 Standard / x64  OK    OK    OK    OK  UNNEEDED, same version is already published
machv2macOS 10.14.6 Mojave / x86_64  OK    OK    OK    OK  UNNEEDED, same version is already published
Package 42/443HostnameOS / ArchINSTALLBUILDCHECKBUILD BIN
breakpointR 1.12.0  (landing page)
David Porubsky
git_last_commit: 1624453
git_last_commit_date: 2021-10-26 12:46:54 -0500
nebbiolo2Linux (Ubuntu 20.04.3 LTS) / x86_64  OK    OK    OK  UNNEEDED, same version is already published
tokay2Windows Server 2012 R2 Standard / x64  OK    OK    OK    OK  UNNEEDED, same version is already published
machv2macOS 10.14.6 Mojave / x86_64  OK    OK    OK    OK  UNNEEDED, same version is already published
Package 43/443HostnameOS / ArchINSTALLBUILDCHECKBUILD BIN
BrowserViz 2.16.0  (landing page)
Paul Shannon
git_last_commit: 0311b05
git_last_commit_date: 2021-10-26 12:19:01 -0500
nebbiolo2Linux (Ubuntu 20.04.3 LTS) / x86_64  OK    OK    OK  UNNEEDED, same version is already published
tokay2Windows Server 2012 R2 Standard / x64  OK    OK    OK    OK  UNNEEDED, same version is already published
machv2macOS 10.14.6 Mojave / x86_64  OK    OK    OK    OK  UNNEEDED, same version is already published
Package 44/443HostnameOS / ArchINSTALLBUILDCHECKBUILD BIN
BSgenome 1.62.0  (landing page)
H. Pagès
git_last_commit: 9b1859e
git_last_commit_date: 2021-10-26 11:49:47 -0500
nebbiolo2Linux (Ubuntu 20.04.3 LTS) / x86_64  OK    OK    WARNINGS  UNNEEDED, same version is already published
tokay2Windows Server 2012 R2 Standard / x64  OK    OK    WARNINGS    OK  UNNEEDED, same version is already published
machv2macOS 10.14.6 Mojave / x86_64  OK    OK    WARNINGS    OK  UNNEEDED, same version is already published
Package 45/443HostnameOS / ArchINSTALLBUILDCHECKBUILD BIN
bsseq 1.30.0  (landing page)
Kasper Daniel Hansen
git_last_commit: 7eb5223
git_last_commit_date: 2021-10-26 12:03:49 -0500
nebbiolo2Linux (Ubuntu 20.04.3 LTS) / x86_64  OK    OK    OK  UNNEEDED, same version is already published
tokay2Windows Server 2012 R2 Standard / x64  OK    OK    OK    OK  UNNEEDED, same version is already published
machv2macOS 10.14.6 Mojave / x86_64  OK    OK    OK    OK  UNNEEDED, same version is already published
Package 46/443HostnameOS / ArchINSTALLBUILDCHECKBUILD BIN
BubbleTree 2.24.0  (landing page)
Todd Creasy , Wei Zhu
git_last_commit: c74ad0d
git_last_commit_date: 2021-10-26 12:18:49 -0500
nebbiolo2Linux (Ubuntu 20.04.3 LTS) / x86_64  OK    OK    OK  UNNEEDED, same version is already published
tokay2Windows Server 2012 R2 Standard / x64  OK    OK    OK    OK  UNNEEDED, same version is already published
machv2macOS 10.14.6 Mojave / x86_64  OK    OK    OK    OK  UNNEEDED, same version is already published
Package 47/443HostnameOS / ArchINSTALLBUILDCHECKBUILD BIN
bumphunter 1.36.0  (landing page)
Tamilselvi Guharaj
git_last_commit: db50fcf
git_last_commit_date: 2021-10-27 13:17:03 -0500
nebbiolo2Linux (Ubuntu 20.04.3 LTS) / x86_64  OK    OK    OK  UNNEEDED, same version is already published
tokay2Windows Server 2012 R2 Standard / x64  OK    OK    OK    OK  UNNEEDED, same version is already published
machv2macOS 10.14.6 Mojave / x86_64  OK    OK    OK    OK  UNNEEDED, same version is already published
Package 48/443HostnameOS / ArchINSTALLBUILDCHECKBUILD BIN
BUSpaRse 1.8.0  (landing page)
Lambda Moses
git_last_commit: fa528cf
git_last_commit_date: 2021-10-26 12:53:45 -0500
nebbiolo2Linux (Ubuntu 20.04.3 LTS) / x86_64  OK    OK    OK  UNNEEDED, same version is already published
tokay2Windows Server 2012 R2 Standard / x64  OK    OK    OK    OK  UNNEEDED, same version is already published
machv2macOS 10.14.6 Mojave / x86_64  OK    OK    OK    OK  UNNEEDED, same version is already published
Package 49/443HostnameOS / ArchINSTALLBUILDCHECKBUILD BIN
CAGEfightR 1.14.0  (landing page)
Malte Thodberg
git_last_commit: 6c27321
git_last_commit_date: 2021-10-26 12:44:41 -0500
nebbiolo2Linux (Ubuntu 20.04.3 LTS) / x86_64  OK    OK    OK  UNNEEDED, same version is already published
tokay2Windows Server 2012 R2 Standard / x64  OK    OK    OK    OK  UNNEEDED, same version is already published
machv2macOS 10.14.6 Mojave / x86_64  OK    OK    OK    OK  UNNEEDED, same version is already published
Package 50/443HostnameOS / ArchINSTALLBUILDCHECKBUILD BIN
CAGEr 2.0.2  (landing page)
Charles Plessy
git_last_commit: 9218aa9
git_last_commit_date: 2021-11-16 19:37:08 -0500
nebbiolo2Linux (Ubuntu 20.04.3 LTS) / x86_64  OK    OK    OK  UNNEEDED, same version is already published
tokay2Windows Server 2012 R2 Standard / x64  OK    OK    OK    OK  UNNEEDED, same version is already published
machv2macOS 10.14.6 Mojave / x86_64  OK    OK    OK    OK  UNNEEDED, same version is already published
Package 51/443HostnameOS / ArchINSTALLBUILDCHECKBUILD BIN
Cardinal 2.12.0  (landing page)
Kylie A. Bemis
git_last_commit: a9cad46
git_last_commit_date: 2021-10-26 12:18:42 -0500
nebbiolo2Linux (Ubuntu 20.04.3 LTS) / x86_64  OK    OK    OK  UNNEEDED, same version is already published
tokay2Windows Server 2012 R2 Standard / x64  OK    OK    OK    OK  UNNEEDED, same version is already published
machv2macOS 10.14.6 Mojave / x86_64  OK    OK    OK    OK  UNNEEDED, same version is already published
Package 52/443HostnameOS / ArchINSTALLBUILDCHECKBUILD BIN
casper 2.28.0  (landing page)
David Rossell
git_last_commit: 479cb8d
git_last_commit_date: 2021-10-26 12:06:23 -0500
nebbiolo2Linux (Ubuntu 20.04.3 LTS) / x86_64  OK    OK    WARNINGS  UNNEEDED, same version is already published
tokay2Windows Server 2012 R2 Standard / x64  OK    OK    WARNINGS    OK  UNNEEDED, same version is already published
machv2macOS 10.14.6 Mojave / x86_64  OK    OK    WARNINGS    OK  UNNEEDED, same version is already published
Package 53/443HostnameOS / ArchINSTALLBUILDCHECKBUILD BIN
Category 2.60.0  (landing page)
Bioconductor Package Maintainer
git_last_commit: 55210d8
git_last_commit_date: 2021-10-26 11:48:11 -0500
nebbiolo2Linux (Ubuntu 20.04.3 LTS) / x86_64  OK    OK    OK  UNNEEDED, same version is already published
tokay2Windows Server 2012 R2 Standard / x64  OK    OK    OK    OK  UNNEEDED, same version is already published
machv2macOS 10.14.6 Mojave / x86_64  OK    OK    OK    OK  UNNEEDED, same version is already published
Package 54/443HostnameOS / ArchINSTALLBUILDCHECKBUILD BIN
categoryCompare 1.38.0  (landing page)
Robert M. Flight
git_last_commit: 13d544a
git_last_commit_date: 2021-10-26 12:03:05 -0500
nebbiolo2Linux (Ubuntu 20.04.3 LTS) / x86_64  OK    OK    OK  UNNEEDED, same version is already published
tokay2Windows Server 2012 R2 Standard / x64  OK    OK    OK    OK  UNNEEDED, same version is already published
machv2macOS 10.14.6 Mojave / x86_64  OK    OK    OK    OK  UNNEEDED, same version is already published
Package 55/443HostnameOS / ArchINSTALLBUILDCHECKBUILD BIN
celaref 1.12.0  (landing page)
Sarah Williams
git_last_commit: 45b360b
git_last_commit_date: 2021-10-26 12:46:08 -0500
nebbiolo2Linux (Ubuntu 20.04.3 LTS) / x86_64  OK    OK    OK  UNNEEDED, same version is already published
tokay2Windows Server 2012 R2 Standard / x64  OK    OK    OK    OK  UNNEEDED, same version is already published
machv2macOS 10.14.6 Mojave / x86_64  OK    OK    OK    OK  UNNEEDED, same version is already published
Package 56/443HostnameOS / ArchINSTALLBUILDCHECKBUILD BIN
CellaRepertorium 1.4.0  (landing page)
Andrew McDavid
git_last_commit: ee7f173
git_last_commit_date: 2021-10-26 13:04:40 -0500
nebbiolo2Linux (Ubuntu 20.04.3 LTS) / x86_64  OK    OK    OK  UNNEEDED, same version is already published
tokay2Windows Server 2012 R2 Standard / x64  OK    OK    OK    OK  UNNEEDED, same version is already published
machv2macOS 10.14.6 Mojave / x86_64  OK    OK    OK    OK  UNNEEDED, same version is already published
Package 57/443HostnameOS / ArchINSTALLBUILDCHECKBUILD BIN
CellBench 1.10.0  (landing page)
Shian Su
git_last_commit: c1d1e03
git_last_commit_date: 2021-10-26 12:49:50 -0500
nebbiolo2Linux (Ubuntu 20.04.3 LTS) / x86_64  OK    OK    OK  UNNEEDED, same version is already published
tokay2Windows Server 2012 R2 Standard / x64  OK    OK    OK    OK  UNNEEDED, same version is already published
machv2macOS 10.14.6 Mojave / x86_64  OK    OK    OK    OK  UNNEEDED, same version is already published
Package 58/443HostnameOS / ArchINSTALLBUILDCHECKBUILD BIN
cellHTS2 2.58.0  (landing page)
Joseph Barry
git_last_commit: 5e1ff80
git_last_commit_date: 2021-10-26 11:51:17 -0500
nebbiolo2Linux (Ubuntu 20.04.3 LTS) / x86_64  OK    OK    OK  UNNEEDED, same version is already published
tokay2Windows Server 2012 R2 Standard / x64  OK    OK    OK    OK  UNNEEDED, same version is already published
machv2macOS 10.14.6 Mojave / x86_64  OK    OK    OK    OK  UNNEEDED, same version is already published
Package 59/443HostnameOS / ArchINSTALLBUILDCHECKBUILD BIN
CellMixS 1.10.0  (landing page)
Almut Lütge
git_last_commit: 8690b35
git_last_commit_date: 2021-10-26 12:50:43 -0500
nebbiolo2Linux (Ubuntu 20.04.3 LTS) / x86_64  OK    OK    OK  UNNEEDED, same version is already published
tokay2Windows Server 2012 R2 Standard / x64  OK    OK    OK    OK  UNNEEDED, same version is already published
machv2macOS 10.14.6 Mojave / x86_64  OK    OK    OK    OK  UNNEEDED, same version is already published
Package 60/443HostnameOS / ArchINSTALLBUILDCHECKBUILD BIN
CellTrails 1.12.0  (landing page)
Daniel Ellwanger
git_last_commit: c5f714a
git_last_commit_date: 2021-10-26 12:45:24 -0500
nebbiolo2Linux (Ubuntu 20.04.3 LTS) / x86_64  OK    OK    OK  UNNEEDED, same version is already published
tokay2Windows Server 2012 R2 Standard / x64  OK    OK    OK    OK  UNNEEDED, same version is already published
machv2macOS 10.14.6 Mojave / x86_64  OK    OK    OK    OK  UNNEEDED, same version is already published
Package 61/443HostnameOS / ArchINSTALLBUILDCHECKBUILD BIN
cghMCR 1.52.0  (landing page)
J. Zhang
git_last_commit: 669771b
git_last_commit_date: 2021-10-26 11:49:38 -0500
nebbiolo2Linux (Ubuntu 20.04.3 LTS) / x86_64  OK    OK    WARNINGS  UNNEEDED, same version is already published
tokay2Windows Server 2012 R2 Standard / x64  OK    OK    WARNINGS    OK  UNNEEDED, same version is already published
machv2macOS 10.14.6 Mojave / x86_64  OK    OK    WARNINGS    OK  UNNEEDED, same version is already published
Package 62/443HostnameOS / ArchINSTALLBUILDCHECKBUILD BIN
ChemmineOB 1.32.0  (landing page)
Thomas Girke
git_last_commit: 01c4d21
git_last_commit_date: 2021-10-26 12:09:34 -0500
nebbiolo2Linux (Ubuntu 20.04.3 LTS) / x86_64  OK    OK    WARNINGS  UNNEEDED, same version is already published
tokay2Windows Server 2012 R2 Standard / x64  OK    OK    WARNINGS    OK  UNNEEDED, same version is already published
machv2macOS 10.14.6 Mojave / x86_64  OK    OK    WARNINGS    OK  UNNEEDED, same version is already published
Package 63/443HostnameOS / ArchINSTALLBUILDCHECKBUILD BIN
ChemmineR 3.46.0  (landing page)
Thomas Girke
git_last_commit: a998b14
git_last_commit_date: 2021-10-26 11:53:04 -0500
nebbiolo2Linux (Ubuntu 20.04.3 LTS) / x86_64  OK    OK    WARNINGS  UNNEEDED, same version is already published
tokay2Windows Server 2012 R2 Standard / x64  OK    OK    WARNINGS    OK  UNNEEDED, same version is already published
machv2macOS 10.14.6 Mojave / x86_64  OK    OK    WARNINGS    OK  UNNEEDED, same version is already published
Package 64/443HostnameOS / ArchINSTALLBUILDCHECKBUILD BIN
ChIC 1.14.0  (landing page)
Carmen Maria Livi
git_last_commit: 14ce4c1
git_last_commit_date: 2021-10-26 12:43:56 -0500
nebbiolo2Linux (Ubuntu 20.04.3 LTS) / x86_64  OK    OK    OK  UNNEEDED, same version is already published
tokay2Windows Server 2012 R2 Standard / x64... NOT SUPPORTED ...
machv2macOS 10.14.6 Mojave / x86_64  OK    OK    OK    OK  UNNEEDED, same version is already published
Package 65/443HostnameOS / ArchINSTALLBUILDCHECKBUILD BIN
ChIPComp 1.24.0  (landing page)
Li Chen
git_last_commit: 854d1b5
git_last_commit_date: 2021-10-26 12:22:08 -0500
nebbiolo2Linux (Ubuntu 20.04.3 LTS) / x86_64  OK    OK    OK  UNNEEDED, same version is already published
tokay2Windows Server 2012 R2 Standard / x64  OK    OK    OK    OK  UNNEEDED, same version is already published
machv2macOS 10.14.6 Mojave / x86_64  OK    OK    OK    OK  UNNEEDED, same version is already published
Package 66/443HostnameOS / ArchINSTALLBUILDCHECKBUILD BIN
chipenrich 2.18.0  (landing page)
Raymond G. Cavalcante
git_last_commit: 3af75df
git_last_commit_date: 2021-10-26 12:09:44 -0500
nebbiolo2Linux (Ubuntu 20.04.3 LTS) / x86_64  OK    OK    OK  UNNEEDED, same version is already published
tokay2Windows Server 2012 R2 Standard / x64  OK    OK    OK    OK  UNNEEDED, same version is already published
machv2macOS 10.14.6 Mojave / x86_64  OK    OK    OK    OK  UNNEEDED, same version is already published
Package 67/443HostnameOS / ArchINSTALLBUILDCHECKBUILD BIN
ChIPpeakAnno 3.28.0  (landing page)
Jianhong Ou
git_last_commit: da1bfa1
git_last_commit_date: 2021-10-26 11:54:17 -0500
nebbiolo2Linux (Ubuntu 20.04.3 LTS) / x86_64  OK    OK    OK  UNNEEDED, same version is already published
tokay2Windows Server 2012 R2 Standard / x64  OK    OK    OK    OK  UNNEEDED, same version is already published
machv2macOS 10.14.6 Mojave / x86_64  OK    OK    OK    OK  UNNEEDED, same version is already published
Package 68/443HostnameOS / ArchINSTALLBUILDCHECKBUILD BIN
ChIPQC 1.30.0  (landing page)
Tom Carroll , Rory Stark
git_last_commit: 566bb1a
git_last_commit_date: 2021-10-26 12:12:48 -0500
nebbiolo2Linux (Ubuntu 20.04.3 LTS) / x86_64  OK    OK    WARNINGS  UNNEEDED, same version is already published
tokay2Windows Server 2012 R2 Standard / x64  OK    OK    WARNINGS    OK  UNNEEDED, same version is already published
machv2macOS 10.14.6 Mojave / x86_64  OK    OK    WARNINGS    OK  UNNEEDED, same version is already published
Package 69/443HostnameOS / ArchINSTALLBUILDCHECKBUILD BIN
ChIPseeker 1.30.2  (landing page)
Guangchuang Yu
git_last_commit: 80e3fca
git_last_commit_date: 2021-11-10 03:53:57 -0500
nebbiolo2Linux (Ubuntu 20.04.3 LTS) / x86_64  OK    OK    OK  UNNEEDED, same version is already published
tokay2Windows Server 2012 R2 Standard / x64  OK    OK    OK    OK  UNNEEDED, same version is already published
machv2macOS 10.14.6 Mojave / x86_64  OK    OK    OK    OK  UNNEEDED, same version is already published
Package 70/443HostnameOS / ArchINSTALLBUILDCHECKBUILD BIN
chipseq 1.44.0  (landing page)
Bioconductor Package Maintainer
git_last_commit: b64d0d2
git_last_commit_date: 2021-10-26 11:54:04 -0500
nebbiolo2Linux (Ubuntu 20.04.3 LTS) / x86_64  OK    OK    WARNINGS  UNNEEDED, same version is already published
tokay2Windows Server 2012 R2 Standard / x64  OK    OK    WARNINGS    OK  UNNEEDED, same version is already published
machv2macOS 10.14.6 Mojave / x86_64  OK    OK    WARNINGS    OK  UNNEEDED, same version is already published
Package 71/443HostnameOS / ArchINSTALLBUILDCHECKBUILD BIN
ChIPseqR 1.48.0  (landing page)
Peter Humburg
git_last_commit: c68564e
git_last_commit_date: 2021-10-26 11:54:55 -0500
nebbiolo2Linux (Ubuntu 20.04.3 LTS) / x86_64  OK    OK    OK  UNNEEDED, same version is already published
tokay2Windows Server 2012 R2 Standard / x64  OK    OK    OK    OK  UNNEEDED, same version is already published
machv2macOS 10.14.6 Mojave / x86_64  OK    OK    OK    OK  UNNEEDED, same version is already published
Package 72/443HostnameOS / ArchINSTALLBUILDCHECKBUILD BIN
ChromHeatMap 1.48.0  (landing page)
Tim F. Rayner
git_last_commit: 488d509
git_last_commit_date: 2021-10-26 11:54:52 -0500
nebbiolo2Linux (Ubuntu 20.04.3 LTS) / x86_64  OK    OK    OK  UNNEEDED, same version is already published
tokay2Windows Server 2012 R2 Standard / x64  OK    OK    OK    OK  UNNEEDED, same version is already published
machv2macOS 10.14.6 Mojave / x86_64  OK    OK    OK    OK  UNNEEDED, same version is already published
Package 73/443HostnameOS / ArchINSTALLBUILDCHECKBUILD BIN
chromstaR 1.20.2  (landing page)
Aaron Taudt
git_last_commit: b8ef93b
git_last_commit_date: 2021-11-03 04:34:25 -0500
nebbiolo2Linux (Ubuntu 20.04.3 LTS) / x86_64  OK    OK    OK  UNNEEDED, same version is already published
tokay2Windows Server 2012 R2 Standard / x64  OK    OK    OK    OK  UNNEEDED, same version is already published
machv2macOS 10.14.6 Mojave / x86_64  OK    OK    OK    OK  UNNEEDED, same version is already published
Package 74/443HostnameOS / ArchINSTALLBUILDCHECKBUILD BIN
chromVAR 1.16.0  (landing page)
Alicia Schep
git_last_commit: f4109be
git_last_commit_date: 2021-10-26 12:38:42 -0500
nebbiolo2Linux (Ubuntu 20.04.3 LTS) / x86_64  OK    OK    OK  UNNEEDED, same version is already published
tokay2Windows Server 2012 R2 Standard / x64  OK    OK    OK    OK  UNNEEDED, same version is already published
machv2macOS 10.14.6 Mojave / x86_64  OK    OK    OK    OK  UNNEEDED, same version is already published
Package 75/443HostnameOS / ArchINSTALLBUILDCHECKBUILD BIN
cicero 1.12.0  (landing page)
Hannah Pliner
git_last_commit: 1991cbd
git_last_commit_date: 2021-10-26 12:47:09 -0500
nebbiolo2Linux (Ubuntu 20.04.3 LTS) / x86_64  OK    OK    OK  UNNEEDED, same version is already published
tokay2Windows Server 2012 R2 Standard / x64  OK    OK    OK    OK  UNNEEDED, same version is already published
machv2macOS 10.14.6 Mojave / x86_64  OK    OK    OK    OK  UNNEEDED, same version is already published
Package 76/443HostnameOS / ArchINSTALLBUILDCHECKBUILD BIN
clusterExperiment 2.14.0  (landing page)
Elizabeth Purdom
git_last_commit: c963b95
git_last_commit_date: 2021-10-26 12:28:54 -0500
nebbiolo2Linux (Ubuntu 20.04.3 LTS) / x86_64  OK    OK    WARNINGS  UNNEEDED, same version is already published
tokay2Windows Server 2012 R2 Standard / x64  OK    OK    WARNINGS    OK  UNNEEDED, same version is already published
machv2macOS 10.14.6 Mojave / x86_64  OK    OK    TIMEOUT    OK  
Package 77/443HostnameOS / ArchINSTALLBUILDCHECKBUILD BIN
clusterSeq 1.18.0  (landing page)
Thomas J. Hardcastle
git_last_commit: 4bf21d4
git_last_commit_date: 2021-10-26 12:32:04 -0500
nebbiolo2Linux (Ubuntu 20.04.3 LTS) / x86_64  OK    OK    OK  UNNEEDED, same version is already published
tokay2Windows Server 2012 R2 Standard / x64  OK    OK    OK    OK  UNNEEDED, same version is already published
machv2macOS 10.14.6 Mojave / x86_64  OK    OK    OK    OK  UNNEEDED, same version is already published
Package 78/443HostnameOS / ArchINSTALLBUILDCHECKBUILD BIN
cn.mops 1.40.0  (landing page)
Gundula Povysil
git_last_commit: 498dbf7
git_last_commit_date: 2021-10-26 12:01:20 -0500
nebbiolo2Linux (Ubuntu 20.04.3 LTS) / x86_64  OK    OK    OK  UNNEEDED, same version is already published
tokay2Windows Server 2012 R2 Standard / x64  OK    OK    OK    OK  UNNEEDED, same version is already published
machv2macOS 10.14.6 Mojave / x86_64  OK    OK    OK    OK  UNNEEDED, same version is already published
Package 79/443HostnameOS / ArchINSTALLBUILDCHECKBUILD BIN
CNEr 1.30.0  (landing page)
Ge Tan
git_last_commit: e682f2a
git_last_commit_date: 2021-10-26 12:11:47 -0500
nebbiolo2Linux (Ubuntu 20.04.3 LTS) / x86_64  OK    OK    OK  UNNEEDED, same version is already published
tokay2Windows Server 2012 R2 Standard / x64  OK    OK    WARNINGS    OK  UNNEEDED, same version is already published
machv2macOS 10.14.6 Mojave / x86_64  OK    OK    WARNINGS    OK  UNNEEDED, same version is already published
Package 80/443HostnameOS / ArchINSTALLBUILDCHECKBUILD BIN
CNVPanelizer 1.26.0  (landing page)
Thomas Wolf
git_last_commit: 29442f8
git_last_commit_date: 2021-10-26 12:21:16 -0500
nebbiolo2Linux (Ubuntu 20.04.3 LTS) / x86_64  OK    OK    OK  UNNEEDED, same version is already published
tokay2Windows Server 2012 R2 Standard / x64  OK    OK    OK    OK  UNNEEDED, same version is already published
machv2macOS 10.14.6 Mojave / x86_64  OK    OK    OK    OK  UNNEEDED, same version is already published
Package 81/443HostnameOS / ArchINSTALLBUILDCHECKBUILD BIN
CNVRanger 1.10.0  (landing page)
Ludwig Geistlinger
git_last_commit: 0432434
git_last_commit_date: 2021-10-26 12:49:21 -0500
nebbiolo2Linux (Ubuntu 20.04.3 LTS) / x86_64  OK    OK    OK  UNNEEDED, same version is already published
tokay2Windows Server 2012 R2 Standard / x64  OK    OK    OK    OK  NO, package depends on 'GDSArray' which is not available
machv2macOS 10.14.6 Mojave / x86_64  OK    OK    OK    OK  UNNEEDED, same version is already published
Package 82/443HostnameOS / ArchINSTALLBUILDCHECKBUILD BIN
COCOA 2.8.0  (landing page)
John Lawson
git_last_commit: 30a31c3
git_last_commit_date: 2021-10-26 12:47:47 -0500
nebbiolo2Linux (Ubuntu 20.04.3 LTS) / x86_64  OK    OK    OK  UNNEEDED, same version is already published
tokay2Windows Server 2012 R2 Standard / x64  OK    OK    OK    OK  UNNEEDED, same version is already published
machv2macOS 10.14.6 Mojave / x86_64  OK    OK    OK    OK  UNNEEDED, same version is already published
Package 83/443HostnameOS / ArchINSTALLBUILDCHECKBUILD BIN
codelink 1.62.0  (landing page)
Diego Diez
git_last_commit: c6116c2
git_last_commit_date: 2021-10-26 11:49:04 -0500
nebbiolo2Linux (Ubuntu 20.04.3 LTS) / x86_64  OK    OK    OK  UNNEEDED, same version is already published
tokay2Windows Server 2012 R2 Standard / x64  OK    OK    OK    OK  UNNEEDED, same version is already published
machv2macOS 10.14.6 Mojave / x86_64  OK    OK    OK    OK  UNNEEDED, same version is already published
Package 84/443HostnameOS / ArchINSTALLBUILDCHECKBUILD BIN
cola 2.0.0  (landing page)
Zuguang Gu
git_last_commit: 236148e
git_last_commit_date: 2021-10-26 12:49:03 -0500
nebbiolo2Linux (Ubuntu 20.04.3 LTS) / x86_64  OK    OK    OK  UNNEEDED, same version is already published
tokay2Windows Server 2012 R2 Standard / x64  OK    OK    OK    OK  UNNEEDED, same version is already published
machv2macOS 10.14.6 Mojave / x86_64  OK    OK    OK    OK  UNNEEDED, same version is already published
Package 85/443HostnameOS / ArchINSTALLBUILDCHECKBUILD BIN
compEpiTools 1.28.0  (landing page)
Kamal Kishore
git_last_commit: 7f99015
git_last_commit_date: 2021-10-26 12:15:25 -0500
nebbiolo2Linux (Ubuntu 20.04.3 LTS) / x86_64  OK    OK    ERROR  
tokay2Windows Server 2012 R2 Standard / x64  OK    OK    ERROR    OK  
machv2macOS 10.14.6 Mojave / x86_64  OK    OK    ERROR    OK  
Package 86/443HostnameOS / ArchINSTALLBUILDCHECKBUILD BIN
consensusDE 1.12.0  (landing page)
Ashley J. Waardenberg
git_last_commit: 935d9e9
git_last_commit_date: 2021-10-26 12:47:51 -0500
nebbiolo2Linux (Ubuntu 20.04.3 LTS) / x86_64  OK    OK    OK  UNNEEDED, same version is already published
tokay2Windows Server 2012 R2 Standard / x64  OK    OK    OK    OK  UNNEEDED, same version is already published
machv2macOS 10.14.6 Mojave / x86_64  OK    OK    OK    OK  UNNEEDED, same version is already published
Package 87/443HostnameOS / ArchINSTALLBUILDCHECKBUILD BIN
consensusSeekeR 1.22.0  (landing page)
Astrid Deschenes
git_last_commit: d88164a
git_last_commit_date: 2021-10-26 12:23:47 -0500
nebbiolo2Linux (Ubuntu 20.04.3 LTS) / x86_64  OK    OK    OK  UNNEEDED, same version is already published
tokay2Windows Server 2012 R2 Standard / x64  OK    OK    OK    OK  UNNEEDED, same version is already published
machv2macOS 10.14.6 Mojave / x86_64  OK    OK    OK    OK  UNNEEDED, same version is already published
Package 88/443HostnameOS / ArchINSTALLBUILDCHECKBUILD BIN
contiBAIT 1.22.0  (landing page)
Kieran O'Neill
git_last_commit: 7642d19
git_last_commit_date: 2021-10-26 12:25:24 -0500
nebbiolo2Linux (Ubuntu 20.04.3 LTS) / x86_64  OK    OK    WARNINGS  UNNEEDED, same version is already published
tokay2Windows Server 2012 R2 Standard / x64  OK    OK    WARNINGS    OK  UNNEEDED, same version is already published
machv2macOS 10.14.6 Mojave / x86_64  OK    OK    WARNINGS    OK  UNNEEDED, same version is already published
Package 89/443HostnameOS / ArchINSTALLBUILDCHECKBUILD BIN
copynumber 1.34.0  (landing page)
Gro Nilsen
git_last_commit: 958e926
git_last_commit_date: 2021-10-26 12:07:45 -0500
nebbiolo2Linux (Ubuntu 20.04.3 LTS) / x86_64  OK    OK    OK  UNNEEDED, same version is already published
tokay2Windows Server 2012 R2 Standard / x64  OK    OK    OK    OK  UNNEEDED, same version is already published
machv2macOS 10.14.6 Mojave / x86_64  OK    OK    OK    OK  UNNEEDED, same version is already published
Package 90/443HostnameOS / ArchINSTALLBUILDCHECKBUILD BIN
CoreGx 1.6.0  (landing page)
Benjamin Haibe-Kains
git_last_commit: 33bef81
git_last_commit_date: 2021-10-26 12:59:39 -0500
nebbiolo2Linux (Ubuntu 20.04.3 LTS) / x86_64  OK    OK    OK  UNNEEDED, same version is already published
tokay2Windows Server 2012 R2 Standard / x64  OK    OK    OK    OK  UNNEEDED, same version is already published
machv2macOS 10.14.6 Mojave / x86_64  OK    OK    OK    OK  UNNEEDED, same version is already published
Package 91/443HostnameOS / ArchINSTALLBUILDCHECKBUILD BIN
CRISPRseek 1.34.0  (landing page)
Lihua Julie Zhu
git_last_commit: 11159db
git_last_commit_date: 2021-10-26 12:11:02 -0500
nebbiolo2Linux (Ubuntu 20.04.3 LTS) / x86_64  OK    OK    OK  UNNEEDED, same version is already published
tokay2Windows Server 2012 R2 Standard / x64  OK    OK    ERROR    OK  
machv2macOS 10.14.6 Mojave / x86_64  OK    OK    OK    OK  UNNEEDED, same version is already published
Package 92/443HostnameOS / ArchINSTALLBUILDCHECKBUILD BIN
crlmm 1.52.0  (landing page)
Benilton S Carvalho
git_last_commit: 9ecc85f
git_last_commit_date: 2021-10-26 11:53:43 -0500
nebbiolo2Linux (Ubuntu 20.04.3 LTS) / x86_64  OK    OK    OK  UNNEEDED, same version is already published
tokay2Windows Server 2012 R2 Standard / x64  OK    OK    OK    OK  UNNEEDED, same version is already published
machv2macOS 10.14.6 Mojave / x86_64  OK    OK    OK    OK  UNNEEDED, same version is already published
Package 93/443HostnameOS / ArchINSTALLBUILDCHECKBUILD BIN
crossmeta 1.20.0  (landing page)
Alex Pickering
git_last_commit: 4ebad78
git_last_commit_date: 2021-10-26 12:28:29 -0500
nebbiolo2Linux (Ubuntu 20.04.3 LTS) / x86_64  OK    OK    WARNINGS  UNNEEDED, same version is already published
tokay2Windows Server 2012 R2 Standard / x64  OK    OK    WARNINGS    OK  UNNEEDED, same version is already published
machv2macOS 10.14.6 Mojave / x86_64  OK    OK    WARNINGS    OK  UNNEEDED, same version is already published
Package 94/443HostnameOS / ArchINSTALLBUILDCHECKBUILD BIN
csaw 1.28.0  (landing page)
Aaron Lun
git_last_commit: b68e21d
git_last_commit_date: 2021-10-26 12:17:01 -0500
nebbiolo2Linux (Ubuntu 20.04.3 LTS) / x86_64  OK    OK    OK  UNNEEDED, same version is already published
tokay2Windows Server 2012 R2 Standard / x64  OK    OK    OK    OK  UNNEEDED, same version is already published
machv2macOS 10.14.6 Mojave / x86_64  OK    OK    OK    OK  UNNEEDED, same version is already published
Package 95/443HostnameOS / ArchINSTALLBUILDCHECKBUILD BIN
ctgGEM 1.6.0  (landing page)
USD Biomedical Engineering
git_last_commit: 619fedc
git_last_commit_date: 2021-10-26 12:57:27 -0500
nebbiolo2Linux (Ubuntu 20.04.3 LTS) / x86_64  OK    OK    OK  UNNEEDED, same version is already published
tokay2Windows Server 2012 R2 Standard / x64  OK    OK    OK    OK  UNNEEDED, same version is already published
machv2macOS 10.14.6 Mojave / x86_64  OK    OK    OK    OK  UNNEEDED, same version is already published
Package 96/443HostnameOS / ArchINSTALLBUILDCHECKBUILD BIN
cummeRbund 2.36.0  (landing page)
Loyal A. Goff
git_last_commit: 36d62b1
git_last_commit_date: 2021-10-26 12:00:39 -0500
nebbiolo2Linux (Ubuntu 20.04.3 LTS) / x86_64  OK    OK    WARNINGS  UNNEEDED, same version is already published
tokay2Windows Server 2012 R2 Standard / x64  OK    OK    WARNINGS    OK  UNNEEDED, same version is already published
machv2macOS 10.14.6 Mojave / x86_64  OK    OK    WARNINGS    OK  UNNEEDED, same version is already published
Package 97/443HostnameOS / ArchINSTALLBUILDCHECKBUILD BIN
cydar 1.18.0  (landing page)
Aaron Lun
git_last_commit: 8dd093c
git_last_commit_date: 2021-10-26 12:34:03 -0500
nebbiolo2Linux (Ubuntu 20.04.3 LTS) / x86_64  OK    OK    OK  UNNEEDED, same version is already published
tokay2Windows Server 2012 R2 Standard / x64  OK    OK    OK    OK  UNNEEDED, same version is already published
machv2macOS 10.14.6 Mojave / x86_64  OK    OK    ERROR    OK  
Package 98/443HostnameOS / ArchINSTALLBUILDCHECKBUILD BIN
dada2 1.22.0  (landing page)
Benjamin Callahan
git_last_commit: 3abe06c
git_last_commit_date: 2021-10-26 12:25:49 -0500
nebbiolo2Linux (Ubuntu 20.04.3 LTS) / x86_64  OK    OK    OK  UNNEEDED, same version is already published
tokay2Windows Server 2012 R2 Standard / x64  OK    OK    OK    OK  UNNEEDED, same version is already published
machv2macOS 10.14.6 Mojave / x86_64  OK    OK    OK    OK  UNNEEDED, same version is already published
Package 99/443HostnameOS / ArchINSTALLBUILDCHECKBUILD BIN
dagLogo 1.32.0  (landing page)
Jianhong Ou
git_last_commit: 5a04a5f
git_last_commit_date: 2021-10-26 12:10:15 -0500
nebbiolo2Linux (Ubuntu 20.04.3 LTS) / x86_64  OK    OK    OK  UNNEEDED, same version is already published
tokay2Windows Server 2012 R2 Standard / x64  OK    OK    OK    OK  NO, package depends on 'UniProt.ws' which is not available
machv2macOS 10.14.6 Mojave / x86_64  OK    OK    OK    OK  UNNEEDED, same version is already published
Package 100/443HostnameOS / ArchINSTALLBUILDCHECKBUILD BIN
DAMEfinder 1.6.0  (landing page)
Stephany Orjuela
git_last_commit: a15961a
git_last_commit_date: 2021-10-26 12:56:58 -0500
nebbiolo2Linux (Ubuntu 20.04.3 LTS) / x86_64  OK    OK    OK  UNNEEDED, same version is already published
tokay2Windows Server 2012 R2 Standard / x64  OK    OK    OK    OK  UNNEEDED, same version is already published
machv2macOS 10.14.6 Mojave / x86_64  OK    OK    OK    OK  UNNEEDED, same version is already published
Package 101/443HostnameOS / ArchINSTALLBUILDCHECKBUILD BIN
ddCt 1.50.0  (landing page)
Jitao David Zhang
git_last_commit: 5bd9712
git_last_commit_date: 2021-10-26 11:54:15 -0500
nebbiolo2Linux (Ubuntu 20.04.3 LTS) / x86_64  OK    OK    OK  UNNEEDED, same version is already published
tokay2Windows Server 2012 R2 Standard / x64  OK    OK    OK    OK  UNNEEDED, same version is already published
machv2macOS 10.14.6 Mojave / x86_64  OK    OK    OK    OK  UNNEEDED, same version is already published
Package 102/443HostnameOS / ArchINSTALLBUILDCHECKBUILD BIN
decompTumor2Sig 2.10.0  (landing page)
Rosario M. Piro
git_last_commit: e07e999
git_last_commit_date: 2021-10-26 12:48:26 -0500
nebbiolo2Linux (Ubuntu 20.04.3 LTS) / x86_64  OK    OK    OK  UNNEEDED, same version is already published
tokay2Windows Server 2012 R2 Standard / x64  OK    OK    OK    OK  UNNEEDED, same version is already published
machv2macOS 10.14.6 Mojave / x86_64  OK    OK    OK    OK  UNNEEDED, same version is already published
Package 103/443HostnameOS / ArchINSTALLBUILDCHECKBUILD BIN
deconvR 1.0.1  (landing page)
İrem B. Gündüz
git_last_commit: cda4d8b
git_last_commit_date: 2021-10-28 05:27:39 -0500
nebbiolo2Linux (Ubuntu 20.04.3 LTS) / x86_64  OK    OK    OK  UNNEEDED, same version is already published
tokay2Windows Server 2012 R2 Standard / x64  OK    OK    OK    OK  UNNEEDED, same version is already published
machv2macOS 10.14.6 Mojave / x86_64  OK    OK    OK    OK  UNNEEDED, same version is already published
Package 104/443HostnameOS / ArchINSTALLBUILDCHECKBUILD BIN
DEGreport 1.30.0  (landing page)
Lorena Pantano
git_last_commit: a318960
git_last_commit_date: 2021-10-26 12:14:10 -0500
nebbiolo2Linux (Ubuntu 20.04.3 LTS) / x86_64  OK    OK    OK  UNNEEDED, same version is already published
tokay2Windows Server 2012 R2 Standard / x64  OK    OK    OK    OK  UNNEEDED, same version is already published
machv2macOS 10.14.6 Mojave / x86_64  OK    OK    OK    OK  UNNEEDED, same version is already published
Package 105/443HostnameOS / ArchINSTALLBUILDCHECKBUILD BIN
DelayedArray 0.20.0  (landing page)
Hervé Pagès
git_last_commit: 829b529
git_last_commit_date: 2021-10-26 12:31:49 -0500
nebbiolo2Linux (Ubuntu 20.04.3 LTS) / x86_64  OK    OK    WARNINGS  UNNEEDED, same version is already published
tokay2Windows Server 2012 R2 Standard / x64  OK    OK    WARNINGS    OK  UNNEEDED, same version is already published
machv2macOS 10.14.6 Mojave / x86_64  OK    OK    WARNINGS    OK  UNNEEDED, same version is already published
Package 106/443HostnameOS / ArchINSTALLBUILDCHECKBUILD BIN
DelayedDataFrame 1.10.0  (landing page)
Qian Liu
git_last_commit: f7c2365
git_last_commit_date: 2021-10-26 12:48:35 -0500
nebbiolo2Linux (Ubuntu 20.04.3 LTS) / x86_64  OK    OK    OK  UNNEEDED, same version is already published
tokay2Windows Server 2012 R2 Standard / x64  OK    OK    OK    OK  UNNEEDED, same version is already published
machv2macOS 10.14.6 Mojave / x86_64  OK    OK    OK    OK  UNNEEDED, same version is already published
Package 107/443HostnameOS / ArchINSTALLBUILDCHECKBUILD BIN
derfinder 1.28.0  (landing page)
Leonardo Collado-Torres
git_last_commit: 9f12ac9
git_last_commit_date: 2021-10-26 12:16:21 -0500
nebbiolo2Linux (Ubuntu 20.04.3 LTS) / x86_64  OK    OK    OK  UNNEEDED, same version is already published
tokay2Windows Server 2012 R2 Standard / x64  OK    ERROR  skippedskipped
machv2macOS 10.14.6 Mojave / x86_64  OK    ERROR  skippedskipped
Package 108/443HostnameOS / ArchINSTALLBUILDCHECKBUILD BIN
DEScan2 1.14.1  (landing page)
Dario Righelli
git_last_commit: 750fd91
git_last_commit_date: 2021-11-18 04:40:05 -0500
nebbiolo2Linux (Ubuntu 20.04.3 LTS) / x86_64  OK    OK    OK  UNNEEDED, same version is already published
tokay2Windows Server 2012 R2 Standard / x64  OK    OK    OK    OK  UNNEEDED, same version is already published
machv2macOS 10.14.6 Mojave / x86_64  OK    OK    OK    OK  UNNEEDED, same version is already published
Package 109/443HostnameOS / ArchINSTALLBUILDCHECKBUILD BIN
DESeq2 1.34.0  (landing page)
Michael Love
git_last_commit: 25d4f74
git_last_commit_date: 2021-10-26 12:06:54 -0500
nebbiolo2Linux (Ubuntu 20.04.3 LTS) / x86_64  OK    OK    OK  UNNEEDED, same version is already published
tokay2Windows Server 2012 R2 Standard / x64  OK    OK    OK    OK  UNNEEDED, same version is already published
machv2macOS 10.14.6 Mojave / x86_64  OK    OK    OK    OK  UNNEEDED, same version is already published
Package 110/443HostnameOS / ArchINSTALLBUILDCHECKBUILD BIN
destiny 3.8.0  (landing page)
Philipp Angerer
git_last_commit: 5ef9e39
git_last_commit_date: 2021-10-26 12:21:46 -0500
nebbiolo2Linux (Ubuntu 20.04.3 LTS) / x86_64  OK    ERROR  skipped
tokay2Windows Server 2012 R2 Standard / x64  OK    OK    WARNINGS    OK  UNNEEDED, same version is already published
machv2macOS 10.14.6 Mojave / x86_64  OK    ERROR  skippedskipped
Package 111/443HostnameOS / ArchINSTALLBUILDCHECKBUILD BIN
DEWSeq 1.8.0  (landing page)
bioinformatics team Hentze
git_last_commit: 7686f86
git_last_commit_date: 2021-10-26 12:55:35 -0500
nebbiolo2Linux (Ubuntu 20.04.3 LTS) / x86_64  OK    OK    OK  UNNEEDED, same version is already published
tokay2Windows Server 2012 R2 Standard / x64  OK    OK    OK    OK  UNNEEDED, same version is already published
machv2macOS 10.14.6 Mojave / x86_64  OK    OK    OK    OK  UNNEEDED, same version is already published
Package 112/443HostnameOS / ArchINSTALLBUILDCHECKBUILD BIN
DEXSeq 1.40.0  (landing page)
Alejandro Reyes
git_last_commit: 7d2d639
git_last_commit_date: 2021-10-26 11:59:26 -0500
nebbiolo2Linux (Ubuntu 20.04.3 LTS) / x86_64  OK    OK    OK  UNNEEDED, same version is already published
tokay2Windows Server 2012 R2 Standard / x64  OK    OK    OK    OK  UNNEEDED, same version is already published
machv2macOS 10.14.6 Mojave / x86_64  OK    OK    OK    OK  UNNEEDED, same version is already published
Package 113/443HostnameOS / ArchINSTALLBUILDCHECKBUILD BIN
diffcoexp 1.14.0  (landing page)
Wenbin Wei
git_last_commit: 05e288d
git_last_commit_date: 2021-10-26 12:42:37 -0500
nebbiolo2Linux (Ubuntu 20.04.3 LTS) / x86_64  OK    OK    OK  UNNEEDED, same version is already published
tokay2Windows Server 2012 R2 Standard / x64  OK    OK    OK    OK  UNNEEDED, same version is already published
machv2macOS 10.14.6 Mojave / x86_64  OK    OK    OK    OK  UNNEEDED, same version is already published
Package 114/443HostnameOS / ArchINSTALLBUILDCHECKBUILD BIN
diffHic 1.26.0  (landing page)
Aaron Lun
git_last_commit: 7a9008e
git_last_commit_date: 2021-10-26 12:20:24 -0500
nebbiolo2Linux (Ubuntu 20.04.3 LTS) / x86_64  OK    OK    OK  UNNEEDED, same version is already published
tokay2Windows Server 2012 R2 Standard / x64  OK    OK    OK    OK  UNNEEDED, same version is already published
machv2macOS 10.14.6 Mojave / x86_64  OK    OK    OK    OK  UNNEEDED, same version is already published
Package 115/443HostnameOS / ArchINSTALLBUILDCHECKBUILD BIN
DirichletMultinomial 1.36.0  (landing page)
Martin Morgan
git_last_commit: 926baff
git_last_commit_date: 2021-10-26 12:03:07 -0500
nebbiolo2Linux (Ubuntu 20.04.3 LTS) / x86_64  OK    OK    OK  UNNEEDED, same version is already published
tokay2Windows Server 2012 R2 Standard / x64  OK    OK    OK    OK  UNNEEDED, same version is already published
machv2macOS 10.14.6 Mojave / x86_64  OK    OK    OK    OK  UNNEEDED, same version is already published
Package 116/443HostnameOS / ArchINSTALLBUILDCHECKBUILD BIN
DiscoRhythm 1.10.0  (landing page)
Matthew Carlucci
git_last_commit: 5c6091e
git_last_commit_date: 2021-10-26 12:50:49 -0500
nebbiolo2Linux (Ubuntu 20.04.3 LTS) / x86_64  OK    OK    OK  UNNEEDED, same version is already published
tokay2Windows Server 2012 R2 Standard / x64  OK    OK    OK    OK  UNNEEDED, same version is already published
machv2macOS 10.14.6 Mojave / x86_64  OK    OK    OK    OK  UNNEEDED, same version is already published
Package 117/443HostnameOS / ArchINSTALLBUILDCHECKBUILD BIN
DRIMSeq 1.22.0  (landing page)
Malgorzata Nowicka
git_last_commit: a22c59b
git_last_commit_date: 2021-10-26 12:26:21 -0500
nebbiolo2Linux (Ubuntu 20.04.3 LTS) / x86_64  OK    OK    WARNINGS  UNNEEDED, same version is already published
tokay2Windows Server 2012 R2 Standard / x64  OK    OK    WARNINGS    OK  UNNEEDED, same version is already published
machv2macOS 10.14.6 Mojave / x86_64  OK    OK    WARNINGS    OK  UNNEEDED, same version is already published
Package 118/443HostnameOS / ArchINSTALLBUILDCHECKBUILD BIN
DropletUtils 1.14.1  (landing page)
Aaron Lun
git_last_commit: 47aaa50
git_last_commit_date: 2021-11-08 02:52:46 -0500
nebbiolo2Linux (Ubuntu 20.04.3 LTS) / x86_64  OK    OK    OK  UNNEEDED, same version is already published
tokay2Windows Server 2012 R2 Standard / x64  OK    OK    OK    OK  UNNEEDED, same version is already published
machv2macOS 10.14.6 Mojave / x86_64  OK    OK    OK    OK  UNNEEDED, same version is already published
Package 119/443HostnameOS / ArchINSTALLBUILDCHECKBUILD BIN
DrugVsDisease 2.36.0  (landing page)
j. Saez-Rodriguez
git_last_commit: 06798d2
git_last_commit_date: 2021-10-26 12:06:31 -0500
nebbiolo2Linux (Ubuntu 20.04.3 LTS) / x86_64  OK    OK    OK  UNNEEDED, same version is already published
tokay2Windows Server 2012 R2 Standard / x64  OK    OK    OK    OK  UNNEEDED, same version is already published
machv2macOS 10.14.6 Mojave / x86_64  OK    OK    OK    OK  UNNEEDED, same version is already published
Package 120/443HostnameOS / ArchINSTALLBUILDCHECKBUILD BIN
easyRNASeq 2.30.0  (landing page)
Nicolas Delhomme
git_last_commit: deeb59e
git_last_commit_date: 2021-10-26 12:01:41 -0500
nebbiolo2Linux (Ubuntu 20.04.3 LTS) / x86_64  OK    OK    OK  UNNEEDED, same version is already published
tokay2Windows Server 2012 R2 Standard / x64  OK    OK    OK    OK  UNNEEDED, same version is already published
machv2macOS 10.14.6 Mojave / x86_64  OK    OK    OK    OK  UNNEEDED, same version is already published
Package 121/443HostnameOS / ArchINSTALLBUILDCHECKBUILD BIN
EBImage 4.36.0  (landing page)
Andrzej Oleś
git_last_commit: 7919aaf
git_last_commit_date: 2021-10-26 11:49:28 -0500
nebbiolo2Linux (Ubuntu 20.04.3 LTS) / x86_64  OK    OK    OK  UNNEEDED, same version is already published
tokay2Windows Server 2012 R2 Standard / x64  OK    OK    OK    OK  UNNEEDED, same version is already published
machv2macOS 10.14.6 Mojave / x86_64  OK    OK    OK    OK  UNNEEDED, same version is already published
Package 122/443HostnameOS / ArchINSTALLBUILDCHECKBUILD BIN
EDASeq 2.28.0  (landing page)
Davide Risso
git_last_commit: 358891b
git_last_commit_date: 2021-10-26 12:00:24 -0500
nebbiolo2Linux (Ubuntu 20.04.3 LTS) / x86_64  OK    OK    OK  UNNEEDED, same version is already published
tokay2Windows Server 2012 R2 Standard / x64  OK    OK    OK    OK  UNNEEDED, same version is already published
machv2macOS 10.14.6 Mojave / x86_64  OK    OK    OK    OK  UNNEEDED, same version is already published
Package 123/443HostnameOS / ArchINSTALLBUILDCHECKBUILD BIN
eiR 1.34.0  (landing page)
Thomas Girke
git_last_commit: 2f67dc0
git_last_commit_date: 2021-10-26 12:07:27 -0500
nebbiolo2Linux (Ubuntu 20.04.3 LTS) / x86_64  OK    OK    WARNINGS  UNNEEDED, same version is already published
tokay2Windows Server 2012 R2 Standard / x64  OK    OK    WARNINGS    OK  UNNEEDED, same version is already published
machv2macOS 10.14.6 Mojave / x86_64  OK    OK    WARNINGS    OK  UNNEEDED, same version is already published
Package 124/443HostnameOS / ArchINSTALLBUILDCHECKBUILD BIN
eisaR 1.6.0  (landing page)
Michael Stadler
git_last_commit: e42ce13
git_last_commit_date: 2021-10-26 12:57:58 -0500
nebbiolo2Linux (Ubuntu 20.04.3 LTS) / x86_64  OK    OK    OK  UNNEEDED, same version is already published
tokay2Windows Server 2012 R2 Standard / x64  OK    OK    OK    OK  UNNEEDED, same version is already published
machv2macOS 10.14.6 Mojave / x86_64  OK    OK    OK    OK  UNNEEDED, same version is already published
Package 125/443HostnameOS / ArchINSTALLBUILDCHECKBUILD BIN
enhancerHomologSearch 1.0.0  (landing page)
Jianhong Ou
git_last_commit: 46463b4
git_last_commit_date: 2021-10-26 13:11:45 -0500
nebbiolo2Linux (Ubuntu 20.04.3 LTS) / x86_64  OK    OK    OK  UNNEEDED, same version is already published
tokay2Windows Server 2012 R2 Standard / x64  OK    OK    OK    OK  UNNEEDED, same version is already published
machv2macOS 10.14.6 Mojave / x86_64  OK    OK    OK    OK  UNNEEDED, same version is already published
Package 126/443HostnameOS / ArchINSTALLBUILDCHECKBUILD BIN
enrichTF 1.10.0  (landing page)
Zheng Wei
git_last_commit: bc4115f
git_last_commit_date: 2021-10-26 12:51:43 -0500
nebbiolo2Linux (Ubuntu 20.04.3 LTS) / x86_64  OK    OK    OK  UNNEEDED, same version is already published
tokay2Windows Server 2012 R2 Standard / x64  OK    OK    OK    OK  UNNEEDED, same version is already published
machv2macOS 10.14.6 Mojave / x86_64  OK    OK    OK    OK  UNNEEDED, same version is already published
Package 127/443HostnameOS / ArchINSTALLBUILDCHECKBUILD BIN
ensembldb 2.18.2  (landing page)
Johannes Rainer
git_last_commit: a633cec
git_last_commit_date: 2021-11-08 10:02:00 -0500
nebbiolo2Linux (Ubuntu 20.04.3 LTS) / x86_64  OK    OK    OK  UNNEEDED, same version is already published
tokay2Windows Server 2012 R2 Standard / x64  OK    OK    OK    OK  UNNEEDED, same version is already published
machv2macOS 10.14.6 Mojave / x86_64  OK    OK    OK    OK  UNNEEDED, same version is already published
Package 128/443HostnameOS / ArchINSTALLBUILDCHECKBUILD BIN
ensemblVEP 1.36.0  (landing page)
Bioconductor Package Maintainer
git_last_commit: 0564e56
git_last_commit_date: 2021-10-26 12:05:50 -0500
nebbiolo2Linux (Ubuntu 20.04.3 LTS) / x86_64  OK    OK    OK  UNNEEDED, same version is already published
tokay2Windows Server 2012 R2 Standard / x64... NOT SUPPORTED ...
machv2macOS 10.14.6 Mojave / x86_64  OK    OK    OK    OK  UNNEEDED, same version is already published
Package 129/443HostnameOS / ArchINSTALLBUILDCHECKBUILD BIN
epialleleR 1.2.0  (landing page)
Oleksii Nikolaienko
git_last_commit: 625bf03
git_last_commit_date: 2021-10-26 13:09:49 -0500
nebbiolo2Linux (Ubuntu 20.04.3 LTS) / x86_64  OK    OK    OK  UNNEEDED, same version is already published
tokay2Windows Server 2012 R2 Standard / x64  OK    OK    WARNINGS    OK  UNNEEDED, same version is already published
machv2macOS 10.14.6 Mojave / x86_64  OK    OK    OK    OK  UNNEEDED, same version is already published
Package 130/443HostnameOS / ArchINSTALLBUILDCHECKBUILD BIN
epigenomix 1.34.0  (landing page)
Hans-Ulrich Klein
git_last_commit: 11b683e
git_last_commit_date: 2021-10-26 12:07:06 -0500
nebbiolo2Linux (Ubuntu 20.04.3 LTS) / x86_64  OK    OK    OK  UNNEEDED, same version is already published
tokay2Windows Server 2012 R2 Standard / x64  OK    OK    OK    OK  UNNEEDED, same version is already published
machv2macOS 10.14.6 Mojave / x86_64  OK    OK    OK    OK  UNNEEDED, same version is already published
Package 131/443HostnameOS / ArchINSTALLBUILDCHECKBUILD BIN
epistack 1.0.0  (landing page)
DEVAILLY Guillaume
git_last_commit: fe0a920
git_last_commit_date: 2021-10-26 13:13:25 -0500
nebbiolo2Linux (Ubuntu 20.04.3 LTS) / x86_64  OK    OK    OK  UNNEEDED, same version is already published
tokay2Windows Server 2012 R2 Standard / x64  OK    OK    OK    OK  UNNEEDED, same version is already published
machv2macOS 10.14.6 Mojave / x86_64  OK    OK    OK    OK  UNNEEDED, same version is already published
Package 132/443HostnameOS / ArchINSTALLBUILDCHECKBUILD BIN
EpiTxDb 1.6.0  (landing page)
Felix G.M. Ernst
git_last_commit: 18f60f3
git_last_commit_date: 2021-10-26 12:58:00 -0500
nebbiolo2Linux (Ubuntu 20.04.3 LTS) / x86_64  OK    OK    OK  UNNEEDED, same version is already published
tokay2Windows Server 2012 R2 Standard / x64  OK    OK    OK    OK  UNNEEDED, same version is already published
machv2macOS 10.14.6 Mojave / x86_64  OK    OK    OK    OK  UNNEEDED, same version is already published
Package 133/443HostnameOS / ArchINSTALLBUILDCHECKBUILD BIN
epivizrChart 1.16.0  (landing page)
Hector Corrada Bravo
git_last_commit: 8d712a2
git_last_commit_date: 2021-10-26 12:36:40 -0500
nebbiolo2Linux (Ubuntu 20.04.3 LTS) / x86_64  OK    OK    OK  UNNEEDED, same version is already published
tokay2Windows Server 2012 R2 Standard / x64  OK    OK    OK    OK  UNNEEDED, same version is already published
machv2macOS 10.14.6 Mojave / x86_64  OK    OK    OK    OK  UNNEEDED, same version is already published
Package 134/443HostnameOS / ArchINSTALLBUILDCHECKBUILD BIN
epivizrStandalone 1.22.0  (landing page)
Hector Corrada Bravo
git_last_commit: f6cc682
git_last_commit_date: 2021-10-26 12:27:54 -0500
nebbiolo2Linux (Ubuntu 20.04.3 LTS) / x86_64  OK    OK    OK  UNNEEDED, same version is already published
tokay2Windows Server 2012 R2 Standard / x64  OK    OK    OK    OK  UNNEEDED, same version is already published
machv2macOS 10.14.6 Mojave / x86_64  OK    OK    OK    OK  UNNEEDED, same version is already published
Package 135/443HostnameOS / ArchINSTALLBUILDCHECKBUILD BIN
erma 1.10.0  (landing page)
VJ Carey
git_last_commit: 8ff4f3c
git_last_commit_date: 2021-10-26 12:21:07 -0500
nebbiolo2Linux (Ubuntu 20.04.3 LTS) / x86_64  OK    OK    OK  UNNEEDED, same version is already published
tokay2Windows Server 2012 R2 Standard / x64  OK    OK    OK    OK  UNNEEDED, same version is already published
machv2macOS 10.14.6 Mojave / x86_64  OK    OK    OK    OK  UNNEEDED, same version is already published
Package 136/443HostnameOS / ArchINSTALLBUILDCHECKBUILD BIN
esATAC 1.16.0  (landing page)
Zheng Wei
git_last_commit: 094b015
git_last_commit_date: 2021-10-26 12:40:03 -0500
nebbiolo2Linux (Ubuntu 20.04.3 LTS) / x86_64  OK    OK    OK  UNNEEDED, same version is already published
tokay2Windows Server 2012 R2 Standard / x64  OK    OK    OK    OK  UNNEEDED, same version is already published
machv2macOS 10.14.6 Mojave / x86_64  OK    OK    OK    OK  UNNEEDED, same version is already published
Package 137/443HostnameOS / ArchINSTALLBUILDCHECKBUILD BIN
exomePeak2 1.6.0  (landing page)
Zhen Wei
git_last_commit: 50ec4d5
git_last_commit_date: 2021-10-26 12:57:41 -0500
nebbiolo2Linux (Ubuntu 20.04.3 LTS) / x86_64  OK    OK    WARNINGS  UNNEEDED, same version is already published
tokay2Windows Server 2012 R2 Standard / x64  OK    OK    WARNINGS    OK  UNNEEDED, same version is already published
machv2macOS 10.14.6 Mojave / x86_64  OK    OK    WARNINGS    OK  UNNEEDED, same version is already published
Package 138/443HostnameOS / ArchINSTALLBUILDCHECKBUILD BIN
ExperimentHub 2.2.0  (landing page)
Bioconductor Package Maintainer
git_last_commit: b6b9dbb
git_last_commit_date: 2021-10-26 12:25:51 -0500
nebbiolo2Linux (Ubuntu 20.04.3 LTS) / x86_64  OK    OK    OK  UNNEEDED, same version is already published
tokay2Windows Server 2012 R2 Standard / x64  OK    OK    OK    OK  UNNEEDED, same version is already published
machv2macOS 10.14.6 Mojave / x86_64  OK    OK    OK    OK  UNNEEDED, same version is already published
Package 139/443HostnameOS / ArchINSTALLBUILDCHECKBUILD BIN
ExperimentHubData 1.20.1  (landing page)
Bioconductor Package Maintainer
git_last_commit: 6c862d8
git_last_commit_date: 2021-11-24 13:02:50 -0500
nebbiolo2Linux (Ubuntu 20.04.3 LTS) / x86_64  OK    OK    OK  YES
tokay2Windows Server 2012 R2 Standard / x64  OK    OK    OK    OK  YES
machv2macOS 10.14.6 Mojave / x86_64  OK    OK    OK    OK  YES
Package 140/443HostnameOS / ArchINSTALLBUILDCHECKBUILD BIN
FamAgg 1.22.0  (landing page)
Johannes Rainer
git_last_commit: 293594d
git_last_commit_date: 2021-10-26 12:23:58 -0500
nebbiolo2Linux (Ubuntu 20.04.3 LTS) / x86_64  OK    OK    OK  UNNEEDED, same version is already published
tokay2Windows Server 2012 R2 Standard / x64  OK    OK    OK    OK  UNNEEDED, same version is already published
machv2macOS 10.14.6 Mojave / x86_64  OK    OK    OK    OK  UNNEEDED, same version is already published
Package 141/443HostnameOS / ArchINSTALLBUILDCHECKBUILD BIN
fastseg 1.40.0  (landing page)
Guenter Klambauer
git_last_commit: e78ee7a
git_last_commit_date: 2021-10-26 12:01:23 -0500
nebbiolo2Linux (Ubuntu 20.04.3 LTS) / x86_64  OK    OK    WARNINGS  UNNEEDED, same version is already published
tokay2Windows Server 2012 R2 Standard / x64  OK    OK    WARNINGS    OK  UNNEEDED, same version is already published
machv2macOS 10.14.6 Mojave / x86_64  OK    OK    WARNINGS    OK  UNNEEDED, same version is already published
Package 142/443HostnameOS / ArchINSTALLBUILDCHECKBUILD BIN
ffpe 1.38.0  (landing page)
Levi Waldron
git_last_commit: 8c9afae
git_last_commit_date: 2021-10-26 12:02:18 -0500
nebbiolo2Linux (Ubuntu 20.04.3 LTS) / x86_64  OK    OK    OK  UNNEEDED, same version is already published
tokay2Windows Server 2012 R2 Standard / x64  OK    OK    OK    OK  UNNEEDED, same version is already published
machv2macOS 10.14.6 Mojave / x86_64  OK    OK    OK    OK  UNNEEDED, same version is already published
Package 143/443HostnameOS / ArchINSTALLBUILDCHECKBUILD BIN
FindIT2 1.0.2  (landing page)
Guandong Shang
git_last_commit: af8aa7b
git_last_commit_date: 2021-11-23 08:01:16 -0500
nebbiolo2Linux (Ubuntu 20.04.3 LTS) / x86_64  OK    OK    OK  YES
tokay2Windows Server 2012 R2 Standard / x64  OK    OK    OK    OK  YES
machv2macOS 10.14.6 Mojave / x86_64  OK    OK    OK    OK  YES
Package 144/443HostnameOS / ArchINSTALLBUILDCHECKBUILD BIN
FindMyFriends 1.24.0  (landing page)
Thomas Lin Pedersen
git_last_commit: 5660a60
git_last_commit_date: 2021-10-26 12:22:45 -0500
nebbiolo2Linux (Ubuntu 20.04.3 LTS) / x86_64  ERROR    ERROR  skipped
tokay2Windows Server 2012 R2 Standard / x64  ERROR    ERROR  skippedskipped
machv2macOS 10.14.6 Mojave / x86_64  ERROR    ERROR  skippedskipped
Package 145/443HostnameOS / ArchINSTALLBUILDCHECKBUILD BIN
flowBin 1.30.0  (landing page)
Kieran O'Neill
git_last_commit: 0aebfe5
git_last_commit_date: 2021-10-26 12:11:19 -0500
nebbiolo2Linux (Ubuntu 20.04.3 LTS) / x86_64  OK    OK    OK  UNNEEDED, same version is already published
tokay2Windows Server 2012 R2 Standard / x64  OK    OK    OK    OK  UNNEEDED, same version is already published
machv2macOS 10.14.6 Mojave / x86_64  OK    OK    OK    OK  UNNEEDED, same version is already published
Package 146/443HostnameOS / ArchINSTALLBUILDCHECKBUILD BIN
flowClust 3.32.0  (landing page)
Greg Finak , Mike Jiang
git_last_commit: 2978117
git_last_commit_date: 2021-10-26 11:52:08 -0500
nebbiolo2Linux (Ubuntu 20.04.3 LTS) / x86_64  OK    OK    OK  UNNEEDED, same version is already published
tokay2Windows Server 2012 R2 Standard / x64  OK    OK    OK    OK  UNNEEDED, same version is already published
machv2macOS 10.14.6 Mojave / x86_64  OK    OK    WARNINGS    OK  UNNEEDED, same version is already published
Package 147/443HostnameOS / ArchINSTALLBUILDCHECKBUILD BIN
flowCore 2.6.0  (landing page)
Mike Jiang
git_last_commit: 947b975
git_last_commit_date: 2021-10-26 11:50:30 -0500
nebbiolo2Linux (Ubuntu 20.04.3 LTS) / x86_64  OK    OK    OK  UNNEEDED, same version is already published
tokay2Windows Server 2012 R2 Standard / x64  OK    OK    OK    OK  UNNEEDED, same version is already published
machv2macOS 10.14.6 Mojave / x86_64  OK    OK    OK    OK  UNNEEDED, same version is already published
Package 148/443HostnameOS / ArchINSTALLBUILDCHECKBUILD BIN
flowFP 1.52.0  (landing page)
Herb Holyst
git_last_commit: 5e0174a
git_last_commit_date: 2021-10-26 11:54:08 -0500
nebbiolo2Linux (Ubuntu 20.04.3 LTS) / x86_64  OK    OK    OK  UNNEEDED, same version is already published
tokay2Windows Server 2012 R2 Standard / x64  OK    OK    OK    OK  UNNEEDED, same version is already published
machv2macOS 10.14.6 Mojave / x86_64  OK    OK    OK    OK  UNNEEDED, same version is already published
Package 149/443HostnameOS / ArchINSTALLBUILDCHECKBUILD BIN
FlowSOM 2.2.0  (landing page)
Sofie Van Gassen
git_last_commit: 44e9c9b
git_last_commit_date: 2021-10-26 12:18:07 -0500
nebbiolo2Linux (Ubuntu 20.04.3 LTS) / x86_64  OK    OK    OK  UNNEEDED, same version is already published
tokay2Windows Server 2012 R2 Standard / x64  OK    OK    OK    OK  UNNEEDED, same version is already published
machv2macOS 10.14.6 Mojave / x86_64  OK    OK    OK    OK  UNNEEDED, same version is already published
Package 150/443HostnameOS / ArchINSTALLBUILDCHECKBUILD BIN
flowSpecs 1.8.0  (landing page)
Jakob Theorell
git_last_commit: bdf4b32
git_last_commit_date: 2021-10-26 12:54:23 -0500
nebbiolo2Linux (Ubuntu 20.04.3 LTS) / x86_64  OK    OK    OK  UNNEEDED, same version is already published
tokay2Windows Server 2012 R2 Standard / x64  OK    OK    OK    OK  UNNEEDED, same version is already published
machv2macOS 10.14.6 Mojave / x86_64  OK    OK    OK    OK  UNNEEDED, same version is already published
Package 151/443HostnameOS / ArchINSTALLBUILDCHECKBUILD BIN
flowStats 4.6.0  (landing page)
Greg Finak , Mike Jiang , Jake Wagner
git_last_commit: afc7826
git_last_commit_date: 2021-10-26 11:53:51 -0500
nebbiolo2Linux (Ubuntu 20.04.3 LTS) / x86_64  OK    OK    OK  UNNEEDED, same version is already published
tokay2Windows Server 2012 R2 Standard / x64  OK    OK    OK    OK  UNNEEDED, same version is already published
machv2macOS 10.14.6 Mojave / x86_64  OK    OK    OK    OK  UNNEEDED, same version is already published
Package 152/443HostnameOS / ArchINSTALLBUILDCHECKBUILD BIN
flowWorkspace 4.6.0  (landing page)
Greg Finak , Mike Jiang
git_last_commit: 60bc06d
git_last_commit_date: 2021-10-26 11:59:12 -0500
nebbiolo2Linux (Ubuntu 20.04.3 LTS) / x86_64  OK    OK    WARNINGS  UNNEEDED, same version is already published
tokay2Windows Server 2012 R2 Standard / x64  OK    OK    WARNINGS    OK  UNNEEDED, same version is already published
machv2macOS 10.14.6 Mojave / x86_64  OK    OK    WARNINGS    OK  UNNEEDED, same version is already published
Package 153/443HostnameOS / ArchINSTALLBUILDCHECKBUILD BIN
fmcsR 1.36.0  (landing page)
Thomas Girke
git_last_commit: 4552dbc
git_last_commit_date: 2021-10-26 12:04:20 -0500
nebbiolo2Linux (Ubuntu 20.04.3 LTS) / x86_64  OK    OK    WARNINGS  UNNEEDED, same version is already published
tokay2Windows Server 2012 R2 Standard / x64  OK    OK    WARNINGS    OK  UNNEEDED, same version is already published
machv2macOS 10.14.6 Mojave / x86_64  OK    OK    WARNINGS    OK  UNNEEDED, same version is already published
Package 154/443HostnameOS / ArchINSTALLBUILDCHECKBUILD BIN
FRASER 1.6.0  (landing page)
Christian Mertes
git_last_commit: fa070e3
git_last_commit_date: 2021-10-26 12:59:14 -0500
nebbiolo2Linux (Ubuntu 20.04.3 LTS) / x86_64  OK    OK    OK  UNNEEDED, same version is already published
tokay2Windows Server 2012 R2 Standard / x64  OK    OK    OK    OK  UNNEEDED, same version is already published
machv2macOS 10.14.6 Mojave / x86_64  OK    OK    OK    OK  UNNEEDED, same version is already published
Package 155/443HostnameOS / ArchINSTALLBUILDCHECKBUILD BIN
frma 1.46.0  (landing page)
Matthew N. McCall
git_last_commit: c00c4df
git_last_commit_date: 2021-10-26 11:55:11 -0500
nebbiolo2Linux (Ubuntu 20.04.3 LTS) / x86_64  OK    OK    OK  UNNEEDED, same version is already published
tokay2Windows Server 2012 R2 Standard / x64  OK    OK    OK    OK  UNNEEDED, same version is already published
machv2macOS 10.14.6 Mojave / x86_64  OK    OK    OK    OK  UNNEEDED, same version is already published
Package 156/443HostnameOS / ArchINSTALLBUILDCHECKBUILD BIN
GA4GHclient 1.18.0  (landing page)
Welliton Souza
git_last_commit: c427dfd
git_last_commit_date: 2021-10-26 12:34:05 -0500
nebbiolo2Linux (Ubuntu 20.04.3 LTS) / x86_64  OK    OK    OK  UNNEEDED, same version is already published
tokay2Windows Server 2012 R2 Standard / x64  OK    OK    OK    OK  UNNEEDED, same version is already published
machv2macOS 10.14.6 Mojave / x86_64  OK    OK    OK    OK  UNNEEDED, same version is already published
Package 157/443HostnameOS / ArchINSTALLBUILDCHECKBUILD BIN
GA4GHshiny 1.16.0  (landing page)
Welliton Souza
git_last_commit: 648de55
git_last_commit_date: 2021-10-26 12:35:32 -0500
nebbiolo2Linux (Ubuntu 20.04.3 LTS) / x86_64  OK    OK    OK  UNNEEDED, same version is already published
tokay2Windows Server 2012 R2 Standard / x64  OK    OK    OK    OK  UNNEEDED, same version is already published
machv2macOS 10.14.6 Mojave / x86_64  OK    OK    OK    OK  UNNEEDED, same version is already published
Package 158/443HostnameOS / ArchINSTALLBUILDCHECKBUILD BIN
gcapc 1.18.0  (landing page)
Mingxiang Teng
git_last_commit: 98b82d1
git_last_commit_date: 2021-10-26 12:31:55 -0500
nebbiolo2Linux (Ubuntu 20.04.3 LTS) / x86_64  OK    OK    OK  UNNEEDED, same version is already published
tokay2Windows Server 2012 R2 Standard / x64  OK    OK    OK    OK  UNNEEDED, same version is already published
machv2macOS 10.14.6 Mojave / x86_64  OK    OK    OK    OK  UNNEEDED, same version is already published
Package 159/443HostnameOS / ArchINSTALLBUILDCHECKBUILD BIN
GDSArray 1.14.0  (landing page)
Qian Liu
git_last_commit: 26fa732
git_last_commit_date: 2021-10-26 12:43:25 -0500
nebbiolo2Linux (Ubuntu 20.04.3 LTS) / x86_64  OK    OK    OK  UNNEEDED, same version is already published
tokay2Windows Server 2012 R2 Standard / x64  OK    OK    ERROR    OK  
machv2macOS 10.14.6 Mojave / x86_64  OK    OK    OK    OK  UNNEEDED, same version is already published
Package 160/443HostnameOS / ArchINSTALLBUILDCHECKBUILD BIN
genbankr 1.22.0  (landing page)
Gabriel Becker
git_last_commit: be3c635
git_last_commit_date: 2021-10-26 12:27:18 -0500
nebbiolo2Linux (Ubuntu 20.04.3 LTS) / x86_64  OK    OK    OK  UNNEEDED, same version is already published
tokay2Windows Server 2012 R2 Standard / x64  OK    OK    OK    OK  UNNEEDED, same version is already published
machv2macOS 10.14.6 Mojave / x86_64  OK    OK    OK    OK  UNNEEDED, same version is already published
Package 161/443HostnameOS / ArchINSTALLBUILDCHECKBUILD BIN
geneAttribution 1.20.0  (landing page)
Arthur Wuster
git_last_commit: 57613fe
git_last_commit_date: 2021-10-26 12:29:48 -0500
nebbiolo2Linux (Ubuntu 20.04.3 LTS) / x86_64  OK    OK    OK  UNNEEDED, same version is already published
tokay2Windows Server 2012 R2 Standard / x64  OK    OK    OK    OK  UNNEEDED, same version is already published
machv2macOS 10.14.6 Mojave / x86_64  OK    OK    OK    OK  UNNEEDED, same version is already published
Package 162/443HostnameOS / ArchINSTALLBUILDCHECKBUILD BIN
geneClassifiers 1.18.0  (landing page)
R Kuiper
git_last_commit: 72211ac
git_last_commit_date: 2021-10-26 12:32:55 -0500
nebbiolo2Linux (Ubuntu 20.04.3 LTS) / x86_64  OK    OK    OK  UNNEEDED, same version is already published
tokay2Windows Server 2012 R2 Standard / x64  OK    OK    OK    OK  UNNEEDED, same version is already published
machv2macOS 10.14.6 Mojave / x86_64  OK    OK    OK    OK  UNNEEDED, same version is already published
Package 163/443HostnameOS / ArchINSTALLBUILDCHECKBUILD BIN
genefilter 1.76.0  (landing page)
Bioconductor Package Maintainer
git_last_commit: 8d630fd
git_last_commit_date: 2021-10-26 11:45:31 -0500
nebbiolo2Linux (Ubuntu 20.04.3 LTS) / x86_64  OK    OK    WARNINGS  UNNEEDED, same version is already published
tokay2Windows Server 2012 R2 Standard / x64  OK    OK    WARNINGS    OK  UNNEEDED, same version is already published
machv2macOS 10.14.6 Mojave / x86_64  OK    OK    OK    OK  UNNEEDED, same version is already published
Package 164/443HostnameOS / ArchINSTALLBUILDCHECKBUILD BIN
geneplotter 1.72.0  (landing page)
Bioconductor Package Maintainer
git_last_commit: 57a1d83
git_last_commit_date: 2021-10-26 11:45:33 -0500
nebbiolo2Linux (Ubuntu 20.04.3 LTS) / x86_64  OK    OK    OK  UNNEEDED, same version is already published
tokay2Windows Server 2012 R2 Standard / x64  OK    OK    OK    OK  UNNEEDED, same version is already published
machv2macOS 10.14.6 Mojave / x86_64  OK    OK    OK    OK  UNNEEDED, same version is already published
Package 165/443HostnameOS / ArchINSTALLBUILDCHECKBUILD BIN
GENESIS 2.24.0  (landing page)
Stephanie M. Gogarten
git_last_commit: aeeb5d0
git_last_commit_date: 2021-10-26 12:19:20 -0500
nebbiolo2Linux (Ubuntu 20.04.3 LTS) / x86_64  OK    OK    OK  UNNEEDED, same version is already published
tokay2Windows Server 2012 R2 Standard / x64  OK    OK    OK    OK  UNNEEDED, same version is already published
machv2macOS 10.14.6 Mojave / x86_64  OK    OK    OK    OK  UNNEEDED, same version is already published
Package 166/443HostnameOS / ArchINSTALLBUILDCHECKBUILD BIN
GenomeInfoDb 1.30.0  (landing page)
Bioconductor Package Maintainer
git_last_commit: 8f1b851
git_last_commit_date: 2021-10-26 12:11:40 -0500
nebbiolo2Linux (Ubuntu 20.04.3 LTS) / x86_64  OK    OK    OK  UNNEEDED, same version is already published
tokay2Windows Server 2012 R2 Standard / x64  OK    OK    OK    OK  UNNEEDED, same version is already published
machv2macOS 10.14.6 Mojave / x86_64  OK    OK    OK    OK  UNNEEDED, same version is already published
Package 167/443HostnameOS / ArchINSTALLBUILDCHECKBUILD BIN
genomeIntervals 1.50.0  (landing page)
Julien Gagneur
git_last_commit: d91ab47
git_last_commit_date: 2021-10-26 11:53:39 -0500
nebbiolo2Linux (Ubuntu 20.04.3 LTS) / x86_64  OK    OK    OK  UNNEEDED, same version is already published
tokay2Windows Server 2012 R2 Standard / x64  OK    OK    OK    OK  UNNEEDED, same version is already published
machv2macOS 10.14.6 Mojave / x86_64  OK    OK    OK    OK  UNNEEDED, same version is already published
Package 168/443HostnameOS / ArchINSTALLBUILDCHECKBUILD BIN
GenomicAlignments 1.30.0  (landing page)
Bioconductor Package Maintainer
git_last_commit: 2d2c5fc
git_last_commit_date: 2021-10-27 09:04:48 -0500
nebbiolo2Linux (Ubuntu 20.04.3 LTS) / x86_64  OK    OK    OK  UNNEEDED, same version is already published
tokay2Windows Server 2012 R2 Standard / x64  OK    OK    OK    OK  UNNEEDED, same version is already published
machv2macOS 10.14.6 Mojave / x86_64  OK    OK    OK    OK  UNNEEDED, same version is already published
Package 169/443HostnameOS / ArchINSTALLBUILDCHECKBUILD BIN
GenomicFeatures 1.46.1  (landing page)
Bioconductor Package Maintainer
git_last_commit: 81a3bd9
git_last_commit_date: 2021-10-26 16:46:33 -0500
nebbiolo2Linux (Ubuntu 20.04.3 LTS) / x86_64  OK    OK    WARNINGS  UNNEEDED, same version is already published
tokay2Windows Server 2012 R2 Standard / x64  OK    OK    WARNINGS    OK  UNNEEDED, same version is already published
machv2macOS 10.14.6 Mojave / x86_64  OK    OK    WARNINGS    OK  UNNEEDED, same version is already published
Package 170/443HostnameOS / ArchINSTALLBUILDCHECKBUILD BIN
GenomicFiles 1.30.0  (landing page)
Bioconductor Package Maintainer
git_last_commit: 6cde8a0
git_last_commit_date: 2021-10-26 12:13:21 -0500
nebbiolo2Linux (Ubuntu 20.04.3 LTS) / x86_64  OK    OK    OK  UNNEEDED, same version is already published
tokay2Windows Server 2012 R2 Standard / x64  OK    OK    OK    OK  UNNEEDED, same version is already published
machv2macOS 10.14.6 Mojave / x86_64  OK    OK    OK    OK  UNNEEDED, same version is already published
Package 171/443HostnameOS / ArchINSTALLBUILDCHECKBUILD BIN
GenomicInteractions 1.28.0  (landing page)
Liz Ing-Simmons
git_last_commit: a4e55c9
git_last_commit_date: 2021-10-26 12:16:08 -0500
nebbiolo2Linux (Ubuntu 20.04.3 LTS) / x86_64  OK    OK    OK  UNNEEDED, same version is already published
tokay2Windows Server 2012 R2 Standard / x64  OK    OK    OK    OK  UNNEEDED, same version is already published
machv2macOS 10.14.6 Mojave / x86_64  OK    OK    OK    OK  UNNEEDED, same version is already published
Package 172/443HostnameOS / ArchINSTALLBUILDCHECKBUILD BIN
GenomicRanges 1.46.1  (landing page)
Bioconductor Package Maintainer
git_last_commit: e422642
git_last_commit_date: 2021-11-16 14:11:31 -0500
nebbiolo2Linux (Ubuntu 20.04.3 LTS) / x86_64  OK    OK    OK  UNNEEDED, same version is already published
tokay2Windows Server 2012 R2 Standard / x64  OK    OK    OK    OK  UNNEEDED, same version is already published
machv2macOS 10.14.6 Mojave / x86_64  OK    OK    OK    OK  UNNEEDED, same version is already published
Package 173/443HostnameOS / ArchINSTALLBUILDCHECKBUILD BIN
GenomicScores 2.6.0  (landing page)
Robert Castelo
git_last_commit: e76213e
git_last_commit_date: 2021-10-26 12:34:39 -0500
nebbiolo2Linux (Ubuntu 20.04.3 LTS) / x86_64  OK    OK    OK  UNNEEDED, same version is already published
tokay2Windows Server 2012 R2 Standard / x64  OK    OK    OK    OK  UNNEEDED, same version is already published
machv2macOS 10.14.6 Mojave / x86_64  OK    OK    OK    OK  UNNEEDED, same version is already published
Package 174/443HostnameOS / ArchINSTALLBUILDCHECKBUILD BIN
GenomicTuples 1.28.0  (landing page)
Peter Hickey
git_last_commit: 6527f88
git_last_commit_date: 2021-10-26 12:16:49 -0500
nebbiolo2Linux (Ubuntu 20.04.3 LTS) / x86_64  OK    OK    OK  UNNEEDED, same version is already published
tokay2Windows Server 2012 R2 Standard / x64  OK    OK    OK    OK  UNNEEDED, same version is already published
machv2macOS 10.14.6 Mojave / x86_64  OK    OK    OK    OK  UNNEEDED, same version is already published
Package 175/443HostnameOS / ArchINSTALLBUILDCHECKBUILD BIN
genotypeeval 1.26.0  (landing page)
Jennifer Tom
git_last_commit: 14bef66
git_last_commit_date: 2021-10-26 12:21:35 -0500
nebbiolo2Linux (Ubuntu 20.04.3 LTS) / x86_64  OK    OK    WARNINGS  UNNEEDED, same version is already published
tokay2Windows Server 2012 R2 Standard / x64  OK    OK    WARNINGS    OK  UNNEEDED, same version is already published
machv2macOS 10.14.6 Mojave / x86_64  OK    OK    WARNINGS    OK  UNNEEDED, same version is already published
Package 176/443HostnameOS / ArchINSTALLBUILDCHECKBUILD BIN
GenVisR 1.26.0  (landing page)
Zachary Skidmore
git_last_commit: 9bd43fb
git_last_commit_date: 2021-10-26 12:24:58 -0500
nebbiolo2Linux (Ubuntu 20.04.3 LTS) / x86_64  OK    OK    OK  UNNEEDED, same version is already published
tokay2Windows Server 2012 R2 Standard / x64  OK    OK    OK    OK  UNNEEDED, same version is already published
machv2macOS 10.14.6 Mojave / x86_64  OK    OK    OK    OK  UNNEEDED, same version is already published
Package 177/443HostnameOS / ArchINSTALLBUILDCHECKBUILD BIN
GeomxTools 2.0.0  (landing page)
Nicole Ortogero
git_last_commit: fee3ebb
git_last_commit_date: 2021-10-26 13:06:34 -0500
nebbiolo2Linux (Ubuntu 20.04.3 LTS) / x86_64  OK    OK    OK  UNNEEDED, same version is already published
tokay2Windows Server 2012 R2 Standard / x64  OK    OK    OK    OK  UNNEEDED, same version is already published
machv2macOS 10.14.6 Mojave / x86_64  OK    OK    OK    OK  UNNEEDED, same version is already published
Package 178/443HostnameOS / ArchINSTALLBUILDCHECKBUILD BIN
ggbio 1.42.0  (landing page)
Michael Lawrence
git_last_commit: 3540047
git_last_commit_date: 2021-10-27 10:07:29 -0500
nebbiolo2Linux (Ubuntu 20.04.3 LTS) / x86_64  OK    OK    WARNINGS  UNNEEDED, same version is already published
tokay2Windows Server 2012 R2 Standard / x64  OK    OK    WARNINGS    OK  UNNEEDED, same version is already published
machv2macOS 10.14.6 Mojave / x86_64  OK    OK    WARNINGS    OK  UNNEEDED, same version is already published
Package 179/443HostnameOS / ArchINSTALLBUILDCHECKBUILD BIN
girafe 1.46.0  (landing page)
J. Toedling
git_last_commit: 4803e9e
git_last_commit_date: 2021-10-26 11:55:45 -0500
nebbiolo2Linux (Ubuntu 20.04.3 LTS) / x86_64  OK    OK    OK  UNNEEDED, same version is already published
tokay2Windows Server 2012 R2 Standard / x64  OK    OK    OK    OK  UNNEEDED, same version is already published
machv2macOS 10.14.6 Mojave / x86_64  OK    OK    OK    OK  UNNEEDED, same version is already published
Package 180/443HostnameOS / ArchINSTALLBUILDCHECKBUILD BIN
glmGamPoi 1.6.0  (landing page)
Constantin Ahlmann-Eltze
git_last_commit: 03df1e1
git_last_commit_date: 2021-10-26 12:58:38 -0500
nebbiolo2Linux (Ubuntu 20.04.3 LTS) / x86_64  OK    OK    OK  UNNEEDED, same version is already published
tokay2Windows Server 2012 R2 Standard / x64  OK    OK    OK    OK  UNNEEDED, same version is already published
machv2macOS 10.14.6 Mojave / x86_64  OK    OK    OK    OK  UNNEEDED, same version is already published
Package 181/443HostnameOS / ArchINSTALLBUILDCHECKBUILD BIN
gmapR 1.36.0  (landing page)
Michael Lawrence
git_last_commit: 1e9cf9a
git_last_commit_date: 2021-10-26 12:03:53 -0500
nebbiolo2Linux (Ubuntu 20.04.3 LTS) / x86_64  OK    OK    WARNINGS  UNNEEDED, same version is already published
tokay2Windows Server 2012 R2 Standard / x64... NOT SUPPORTED ...
machv2macOS 10.14.6 Mojave / x86_64  OK    OK    WARNINGS    OK  UNNEEDED, same version is already published
Package 182/443HostnameOS / ArchINSTALLBUILDCHECKBUILD BIN
gmoviz 1.6.0  (landing page)
Kathleen Zeglinski
git_last_commit: 22e8f55
git_last_commit_date: 2021-10-26 12:58:11 -0500
nebbiolo2Linux (Ubuntu 20.04.3 LTS) / x86_64  OK    OK    OK  UNNEEDED, same version is already published
tokay2Windows Server 2012 R2 Standard / x64  OK    OK    OK    OK  UNNEEDED, same version is already published
machv2macOS 10.14.6 Mojave / x86_64  OK    OK    OK    OK  UNNEEDED, same version is already published
Package 183/443HostnameOS / ArchINSTALLBUILDCHECKBUILD BIN
goseq 1.46.0  (landing page)
Matthew Young , Nadia Davidson
git_last_commit: 1fb5626
git_last_commit_date: 2021-10-26 11:55:51 -0500
nebbiolo2Linux (Ubuntu 20.04.3 LTS) / x86_64  OK    OK    OK  UNNEEDED, same version is already published
tokay2Windows Server 2012 R2 Standard / x64  OK    OK    OK    OK  UNNEEDED, same version is already published
machv2macOS 10.14.6 Mojave / x86_64  OK    OK    OK    OK  UNNEEDED, same version is already published
Package 184/443HostnameOS / ArchINSTALLBUILDCHECKBUILD BIN
GOTHiC 1.30.0  (landing page)
Borbala Mifsud
git_last_commit: a2e9c22
git_last_commit_date: 2021-10-26 12:52:52 -0500
nebbiolo2Linux (Ubuntu 20.04.3 LTS) / x86_64  OK    OK    OK  UNNEEDED, same version is already published
tokay2Windows Server 2012 R2 Standard / x64  OK    OK    OK    OK  UNNEEDED, same version is already published
machv2macOS 10.14.6 Mojave / x86_64  OK    OK    OK    OK  UNNEEDED, same version is already published
Package 185/443HostnameOS / ArchINSTALLBUILDCHECKBUILD BIN
gpuMagic 1.10.0  (landing page)
Jiefei Wang
git_last_commit: d9b9915
git_last_commit_date: 2021-10-26 12:51:37 -0500
nebbiolo2Linux (Ubuntu 20.04.3 LTS) / x86_64  OK    OK    OK  UNNEEDED, same version is already published
tokay2Windows Server 2012 R2 Standard / x64  OK    OK    OK    OK  UNNEEDED, same version is already published
machv2macOS 10.14.6 Mojave / x86_64  OK    OK    OK    OK  UNNEEDED, same version is already published
Package 186/443HostnameOS / ArchINSTALLBUILDCHECKBUILD BIN
graph 1.72.0  (landing page)
Bioconductor Package Maintainer
git_last_commit: 7afbd26
git_last_commit_date: 2021-10-26 11:45:51 -0500
nebbiolo2Linux (Ubuntu 20.04.3 LTS) / x86_64  OK    OK    OK  UNNEEDED, same version is already published
tokay2Windows Server 2012 R2 Standard / x64  OK    OK    OK    OK  UNNEEDED, same version is already published
machv2macOS 10.14.6 Mojave / x86_64  OK    OK    OK    OK  UNNEEDED, same version is already published
Package 187/443HostnameOS / ArchINSTALLBUILDCHECKBUILD BIN
GSEABase 1.56.0  (landing page)
Bioconductor Package Maintainer
git_last_commit: ee7c3ca
git_last_commit_date: 2021-10-26 11:51:15 -0500
nebbiolo2Linux (Ubuntu 20.04.3 LTS) / x86_64  OK    OK    OK  UNNEEDED, same version is already published
tokay2Windows Server 2012 R2 Standard / x64  OK    OK    OK    OK  UNNEEDED, same version is already published
machv2macOS 10.14.6 Mojave / x86_64  OK    OK    OK    OK  UNNEEDED, same version is already published
Package 188/443HostnameOS / ArchINSTALLBUILDCHECKBUILD BIN
GUIDEseq 1.24.0  (landing page)
Lihua Julie Zhu
git_last_commit: 17cac6b
git_last_commit_date: 2021-10-26 12:23:20 -0500
nebbiolo2Linux (Ubuntu 20.04.3 LTS) / x86_64  OK    OK    OK  UNNEEDED, same version is already published
tokay2Windows Server 2012 R2 Standard / x64  OK    OK    OK    OK  UNNEEDED, same version is already published
machv2macOS 10.14.6 Mojave / x86_64  OK    OK    OK    OK  UNNEEDED, same version is already published
Package 189/443HostnameOS / ArchINSTALLBUILDCHECKBUILD BIN
Gviz 1.38.0  (landing page)
Robert Ivanek
git_last_commit: 2091331
git_last_commit_date: 2021-10-26 12:02:00 -0500
nebbiolo2Linux (Ubuntu 20.04.3 LTS) / x86_64  OK    OK    OK  UNNEEDED, same version is already published
tokay2Windows Server 2012 R2 Standard / x64  OK    OK    OK    OK  UNNEEDED, same version is already published
machv2macOS 10.14.6 Mojave / x86_64  OK    OK    OK    OK  UNNEEDED, same version is already published
Package 190/443HostnameOS / ArchINSTALLBUILDCHECKBUILD BIN
HDF5Array 1.22.1  (landing page)
Hervé Pagès
git_last_commit: b3f091f
git_last_commit_date: 2021-11-13 16:24:42 -0500
nebbiolo2Linux (Ubuntu 20.04.3 LTS) / x86_64  OK    OK    WARNINGS  UNNEEDED, same version is already published
tokay2Windows Server 2012 R2 Standard / x64  OK    OK    WARNINGS    OK  UNNEEDED, same version is already published
machv2macOS 10.14.6 Mojave / x86_64  OK    OK    WARNINGS    OK  UNNEEDED, same version is already published
Package 191/443HostnameOS / ArchINSTALLBUILDCHECKBUILD BIN
heatmaps 1.18.0  (landing page)
Malcolm Perry
git_last_commit: ea7317d
git_last_commit_date: 2021-10-26 12:35:08 -0500
nebbiolo2Linux (Ubuntu 20.04.3 LTS) / x86_64  OK    OK    OK  UNNEEDED, same version is already published
tokay2Windows Server 2012 R2 Standard / x64  OK    OK    OK    OK  UNNEEDED, same version is already published
machv2macOS 10.14.6 Mojave / x86_64  OK    OK    OK    OK  UNNEEDED, same version is already published
Package 192/443HostnameOS / ArchINSTALLBUILDCHECKBUILD BIN
HelloRanges 1.20.0  (landing page)
Michael Lawrence
git_last_commit: 5f4a86d
git_last_commit_date: 2021-10-26 12:30:55 -0500
nebbiolo2Linux (Ubuntu 20.04.3 LTS) / x86_64  OK    OK    WARNINGS  UNNEEDED, same version is already published
tokay2Windows Server 2012 R2 Standard / x64  OK    OK    WARNINGS    OK  UNNEEDED, same version is already published
machv2macOS 10.14.6 Mojave / x86_64  OK    OK    WARNINGS    OK  UNNEEDED, same version is already published
Package 193/443HostnameOS / ArchINSTALLBUILDCHECKBUILD BIN
HiLDA 1.8.0  (landing page)
Zhi Yang
git_last_commit: e333310
git_last_commit_date: 2021-10-26 12:53:08 -0500
nebbiolo2Linux (Ubuntu 20.04.3 LTS) / x86_64  OK    OK    OK  UNNEEDED, same version is already published
tokay2Windows Server 2012 R2 Standard / x64  OK    OK    OK    OK  UNNEEDED, same version is already published
machv2macOS 10.14.6 Mojave / x86_64  OK    OK    OK    OK  UNNEEDED, same version is already published
Package 194/443HostnameOS / ArchINSTALLBUILDCHECKBUILD BIN
hiReadsProcessor 1.30.0  (landing page)
Nirav V Malani
git_last_commit: 2f94596
git_last_commit_date: 2021-10-26 12:15:30 -0500
nebbiolo2Linux (Ubuntu 20.04.3 LTS) / x86_64  OK    OK    OK  UNNEEDED, same version is already published
tokay2Windows Server 2012 R2 Standard / x64... NOT SUPPORTED ...
machv2macOS 10.14.6 Mojave / x86_64  OK    OK    OK    OK  UNNEEDED, same version is already published
Package 195/443HostnameOS / ArchINSTALLBUILDCHECKBUILD BIN
hopach 2.54.0  (landing page)
Katherine S. Pollard
git_last_commit: 783c88d
git_last_commit_date: 2021-10-26 11:47:22 -0500
nebbiolo2Linux (Ubuntu 20.04.3 LTS) / x86_64  OK    OK    OK  UNNEEDED, same version is already published
tokay2Windows Server 2012 R2 Standard / x64  OK    OK    OK    OK  UNNEEDED, same version is already published
machv2macOS 10.14.6 Mojave / x86_64  OK    OK    OK    OK  UNNEEDED, same version is already published
Package 196/443HostnameOS / ArchINSTALLBUILDCHECKBUILD BIN
HTSeqGenie 4.24.0  (landing page)
Jens Reeder
git_last_commit: eb291fb
git_last_commit_date: 2021-10-26 12:05:03 -0500
nebbiolo2Linux (Ubuntu 20.04.3 LTS) / x86_64  OK    OK    OK  UNNEEDED, same version is already published
tokay2Windows Server 2012 R2 Standard / x64... NOT SUPPORTED ...
machv2macOS 10.14.6 Mojave / x86_64... NOT SUPPORTED ...
Package 197/443HostnameOS / ArchINSTALLBUILDCHECKBUILD BIN
icetea 1.12.0  (landing page)
Vivek Bhardwaj
git_last_commit: 133907b
git_last_commit_date: 2021-10-26 12:45:19 -0500
nebbiolo2Linux (Ubuntu 20.04.3 LTS) / x86_64  OK    OK    OK  UNNEEDED, same version is already published
tokay2Windows Server 2012 R2 Standard / x64  OK    OK    OK    OK  UNNEEDED, same version is already published
machv2macOS 10.14.6 Mojave / x86_64  OK    OK    OK    OK  UNNEEDED, same version is already published
Package 198/443HostnameOS / ArchINSTALLBUILDCHECKBUILD BIN
igvR 1.14.0  (landing page)
Paul Shannon
git_last_commit: 2d7b52a
git_last_commit_date: 2021-10-26 12:44:17 -0500
nebbiolo2Linux (Ubuntu 20.04.3 LTS) / x86_64  OK    OK    WARNINGS  UNNEEDED, same version is already published
tokay2Windows Server 2012 R2 Standard / x64  OK    OK    WARNINGS    OK  UNNEEDED, same version is already published
machv2macOS 10.14.6 Mojave / x86_64  OK    OK    WARNINGS    OK  UNNEEDED, same version is already published
Package 199/443HostnameOS / ArchINSTALLBUILDCHECKBUILD BIN
IHW 1.22.0  (landing page)
Nikos Ignatiadis
git_last_commit: 0d30505
git_last_commit_date: 2021-10-26 12:25:00 -0500
nebbiolo2Linux (Ubuntu 20.04.3 LTS) / x86_64  OK    OK    OK  UNNEEDED, same version is already published
tokay2Windows Server 2012 R2 Standard / x64  OK    OK    OK    OK  UNNEEDED, same version is already published
machv2macOS 10.14.6 Mojave / x86_64  OK    OK    OK    OK  UNNEEDED, same version is already published
Package 200/443HostnameOS / ArchINSTALLBUILDCHECKBUILD BIN
IMAS 1.18.0  (landing page)
Seonggyun Han
git_last_commit: b7c52db
git_last_commit_date: 2021-10-26 12:34:42 -0500
nebbiolo2Linux (Ubuntu 20.04.3 LTS) / x86_64  OK    OK    OK  UNNEEDED, same version is already published
tokay2Windows Server 2012 R2 Standard / x64  OK    OK    OK    OK  UNNEEDED, same version is already published
machv2macOS 10.14.6 Mojave / x86_64  OK    OK    OK    OK  UNNEEDED, same version is already published
Package 201/443HostnameOS / ArchINSTALLBUILDCHECKBUILD BIN
infercnv 1.10.1  (landing page)
Christophe Georgescu
git_last_commit: 1bc58d2
git_last_commit_date: 2021-11-08 13:00:48 -0500
nebbiolo2Linux (Ubuntu 20.04.3 LTS) / x86_64  OK    OK    OK  UNNEEDED, same version is already published
tokay2Windows Server 2012 R2 Standard / x64  OK    OK    OK    OK  UNNEEDED, same version is already published
machv2macOS 10.14.6 Mojave / x86_64  OK    OK    OK    OK  UNNEEDED, same version is already published
Package 202/443HostnameOS / ArchINSTALLBUILDCHECKBUILD BIN
INSPEcT 1.24.0  (landing page)
Stefano de Pretis
git_last_commit: ed551fb
git_last_commit_date: 2021-10-26 12:21:19 -0500
nebbiolo2Linux (Ubuntu 20.04.3 LTS) / x86_64  OK    OK    OK  UNNEEDED, same version is already published
tokay2Windows Server 2012 R2 Standard / x64  OK    OK    OK    OK  UNNEEDED, same version is already published
machv2macOS 10.14.6 Mojave / x86_64  OK    OK    OK    OK  UNNEEDED, same version is already published
Package 203/443HostnameOS / ArchINSTALLBUILDCHECKBUILD BIN
InTAD 1.14.0  (landing page)
Konstantin Okonechnikov
git_last_commit: 25795d0
git_last_commit_date: 2021-10-26 12:43:48 -0500
nebbiolo2Linux (Ubuntu 20.04.3 LTS) / x86_64  OK    OK    OK  UNNEEDED, same version is already published
tokay2Windows Server 2012 R2 Standard / x64  OK    OK    OK    OK  UNNEEDED, same version is already published
machv2macOS 10.14.6 Mojave / x86_64  OK    OK    OK    OK  UNNEEDED, same version is already published
Package 204/443HostnameOS / ArchINSTALLBUILDCHECKBUILD BIN
intansv 1.34.0  (landing page)
Wen Yao
git_last_commit: 499d4d8
git_last_commit_date: 2021-10-26 12:09:02 -0500
nebbiolo2Linux (Ubuntu 20.04.3 LTS) / x86_64  OK    OK    OK  UNNEEDED, same version is already published
tokay2Windows Server 2012 R2 Standard / x64  OK    OK    OK    OK  UNNEEDED, same version is already published
machv2macOS 10.14.6 Mojave / x86_64  OK    OK    OK    OK  UNNEEDED, same version is already published
Package 205/443HostnameOS / ArchINSTALLBUILDCHECKBUILD BIN
InteractionSet 1.22.0  (landing page)
Aaron Lun
git_last_commit: 82bf308
git_last_commit_date: 2021-10-26 12:27:23 -0500
nebbiolo2Linux (Ubuntu 20.04.3 LTS) / x86_64  OK    OK    OK  UNNEEDED, same version is already published
tokay2Windows Server 2012 R2 Standard / x64  OK    OK    OK    OK  UNNEEDED, same version is already published
machv2macOS 10.14.6 Mojave / x86_64  OK    OK    OK    OK  UNNEEDED, same version is already published
Package 206/443HostnameOS / ArchINSTALLBUILDCHECKBUILD BIN
interactiveDisplay 1.32.0  (landing page)
Bioconductor Package Maintainer
git_last_commit: 2851932
git_last_commit_date: 2021-10-26 12:10:45 -0500
nebbiolo2Linux (Ubuntu 20.04.3 LTS) / x86_64  OK    OK    OK  UNNEEDED, same version is already published
tokay2Windows Server 2012 R2 Standard / x64  OK    OK    OK    OK  UNNEEDED, same version is already published
machv2macOS 10.14.6 Mojave / x86_64  OK    OK    OK    OK  UNNEEDED, same version is already published
Package 207/443HostnameOS / ArchINSTALLBUILDCHECKBUILD BIN
interactiveDisplayBase 1.32.0  (landing page)
Bioconductor Package Maintainer
git_last_commit: 0f88b2a
git_last_commit_date: 2021-10-26 12:15:00 -0500
nebbiolo2Linux (Ubuntu 20.04.3 LTS) / x86_64  OK    OK    OK  UNNEEDED, same version is already published
tokay2Windows Server 2012 R2 Standard / x64  OK    OK    OK    OK  UNNEEDED, same version is already published
machv2macOS 10.14.6 Mojave / x86_64