Back to Multiple platform build/check report for BioC 3.14
A[B]CDEFGHIJKLMNOPQRSTUVWXYZ

This page was generated on 2021-10-25 14:06:06 -0400 (Mon, 25 Oct 2021).

BUILD BIN results for BiocFileCache on riesling1

To the developers/maintainers of the BiocFileCache package:
- Please allow up to 24 hours (and sometimes 48 hours) for your latest push to git@git.bioconductor.org:packages/BiocFileCache.git to
reflect on this report. See How and When does the builder pull? When will my changes propagate? here for more information.
- Make sure to use the following settings in order to reproduce any error or warning you see on this page.

raw results

Package 158/2083HostnameOS / ArchINSTALLBUILDCHECKBUILD BIN
BiocFileCache 2.1.1  (landing page)
Lori Shepherd
Snapshot Date: 2021-10-24 14:50:04 -0400 (Sun, 24 Oct 2021)
git_url: https://git.bioconductor.org/packages/BiocFileCache
git_branch: master
git_last_commit: cbc48d5
git_last_commit_date: 2021-06-23 09:31:44 -0400 (Wed, 23 Jun 2021)
nebbiolo2Linux (Ubuntu 20.04.2 LTS) / x86_64  OK    OK    OK  UNNEEDED, same version is already published
riesling1Windows Server 2019 Standard / x64  OK    OK    OK    OK  UNNEEDED, same version is already published
merida1macOS 10.14.6 Mojave / x86_64  OK    OK    OK    OK  UNNEEDED, same version is already published
machv2macOS 10.14.6 Mojave / x86_64  OK    OK    OK    OK  

Summary

Package: BiocFileCache
Version: 2.1.1
Command: rm -rf BiocFileCache.buildbin-libdir && mkdir BiocFileCache.buildbin-libdir && D:\biocbuild\bbs-3.14-bioc\R\bin\R.exe CMD INSTALL --merge-multiarch --build --library=BiocFileCache.buildbin-libdir BiocFileCache_2.1.1.tar.gz
StartedAt: 2021-10-25 04:35:41 -0400 (Mon, 25 Oct 2021)
EndedAt: 2021-10-25 04:39:36 -0400 (Mon, 25 Oct 2021)
EllapsedTime: 235.5 seconds
RetCode: 0
Status:   OK  
PackageFile: BiocFileCache_2.1.1.zip
PackageFileSize: 548.1 KiB

Command output

##############################################################################
##############################################################################
###
### Running command:
###
###   rm -rf BiocFileCache.buildbin-libdir && mkdir BiocFileCache.buildbin-libdir && D:\biocbuild\bbs-3.14-bioc\R\bin\R.exe CMD INSTALL --merge-multiarch --build --library=BiocFileCache.buildbin-libdir BiocFileCache_2.1.1.tar.gz
###
##############################################################################
##############################################################################



install for i386

* installing *source* package 'BiocFileCache' ...
** using staged installation
** R
** inst
** byte-compile and prepare package for lazy loading
** help
*** installing help indices
  converting help for package 'BiocFileCache'
    finding HTML links ... done
    BFCOption                               html  
    BiocFileCache-class                     html  
    makeBiocFileCacheFromDataFrame          html  
    makeCachedActiveBinding                 html  
** building package indices
** installing vignettes
** testing if installed package can be loaded from temporary location
** testing if installed package can be loaded from final location
** testing if installed package keeps a record of temporary installation path

install for x64

* installing *source* package 'BiocFileCache' ...
** testing if installed package can be loaded
* MD5 sums
packaged installation of 'BiocFileCache' as BiocFileCache_2.1.1.zip
* DONE (BiocFileCache)