Back to Multiple platform build/check report for BioC 3.14
A[B]CDEFGHIJKLMNOPQRSTUVWXYZ

This page was generated on 2021-10-26 14:05:28 -0400 (Tue, 26 Oct 2021).

All results for package BiocFileCache

To the developers/maintainers of the BiocFileCache package:
- Please allow up to 24 hours (and sometimes 48 hours) for your latest push to git@git.bioconductor.org:packages/BiocFileCache.git to
reflect on this report. See How and When does the builder pull? When will my changes propagate? here for more information.
- Make sure to use the following settings in order to reproduce any error or warning you see on this page.

raw results

Package 158/2083HostnameOS / ArchINSTALLBUILDCHECKBUILD BIN
BiocFileCache 2.1.1  (landing page)
Lori Shepherd
Snapshot Date: 2021-10-25 14:50:11 -0400 (Mon, 25 Oct 2021)
git_url: https://git.bioconductor.org/packages/BiocFileCache
git_branch: master
git_last_commit: cbc48d5
git_last_commit_date: 2021-06-23 09:31:44 -0400 (Wed, 23 Jun 2021)
nebbiolo2Linux (Ubuntu 20.04.2 LTS) / x86_64  OK    OK    OK  UNNEEDED, same version is already published
riesling1Windows Server 2019 Standard / x64  OK    OK    OK    OK  UNNEEDED, same version is already published
merida1macOS 10.14.6 Mojave / x86_64  OK    OK    OK    OK  UNNEEDED, same version is already published
machv2macOS 10.14.6 Mojave / x86_64  OK    OK    OK    OK  

Results for Bioconductor software packages that depend directly on package BiocFileCache

QUICK STATSOS / ArchINSTALLBUILDCHECKBUILD BIN
nebbiolo2Linux (Ubuntu 20.04.2 LTS) / x86_64
0053
0251
03444
riesling1Windows Server 2019 Standard / x64
0051
0348
04341
0048
merida1macOS 10.14.6 Mojave / x86_64
0053
0053
05543
0053
machv2macOS 10.14.6 Mojave / x86_64
0053
0053
04445
0053
Package 1/53HostnameOS / ArchINSTALLBUILDCHECKBUILD BIN
AMARETTO 1.9.0  (landing page)
Olivier Gevaert
git_last_commit: 934b8e3
git_last_commit_date: 2021-05-19 12:42:00 -0400
nebbiolo2Linux (Ubuntu 20.04.2 LTS) / x86_64  OK    OK    OK  UNNEEDED, same version is already published
riesling1Windows Server 2019 Standard / x64  OK    OK    OK    OK  UNNEEDED, same version is already published
merida1macOS 10.14.6 Mojave / x86_64  OK    OK    OK    OK  UNNEEDED, same version is already published
machv2macOS 10.14.6 Mojave / x86_64  OK    OK    OK    OK  
Package 2/53HostnameOS / ArchINSTALLBUILDCHECKBUILD BIN
AnnotationHub 3.1.7  (landing page)
Bioconductor Package Maintainer
git_last_commit: d827a3a
git_last_commit_date: 2021-10-21 10:23:04 -0400
nebbiolo2Linux (Ubuntu 20.04.2 LTS) / x86_64  OK    OK    WARNINGS  UNNEEDED, same version is already published
riesling1Windows Server 2019 Standard / x64  OK    OK    WARNINGS    OK  UNNEEDED, same version is already published
merida1macOS 10.14.6 Mojave / x86_64  OK    OK    WARNINGS    OK  UNNEEDED, same version is already published
machv2macOS 10.14.6 Mojave / x86_64  OK    OK    WARNINGS    OK  
Package 3/53HostnameOS / ArchINSTALLBUILDCHECKBUILD BIN
atSNP 1.9.0  (landing page)
Sunyoung Shin
git_last_commit: c6fdb0a
git_last_commit_date: 2021-05-19 12:41:05 -0400
nebbiolo2Linux (Ubuntu 20.04.2 LTS) / x86_64  OK    OK    OK  UNNEEDED, same version is already published
riesling1Windows Server 2019 Standard / x64  OK    OK    OK    OK  UNNEEDED, same version is already published
merida1macOS 10.14.6 Mojave / x86_64  OK    OK    OK    OK  UNNEEDED, same version is already published
machv2macOS 10.14.6 Mojave / x86_64  OK    OK    OK    OK  
Package 4/53HostnameOS / ArchINSTALLBUILDCHECKBUILD BIN
autonomics 1.1.7  (landing page)
Aditya Bhagwat
git_last_commit: 3bb339e
git_last_commit_date: 2021-06-04 06:39:40 -0400
nebbiolo2Linux (Ubuntu 20.04.2 LTS) / x86_64  OK    OK    WARNINGS  UNNEEDED, same version is already published
riesling1Windows Server 2019 Standard / x64  OK    OK    WARNINGS    OK  UNNEEDED, same version is already published
merida1macOS 10.14.6 Mojave / x86_64  OK    OK    WARNINGS    OK  UNNEEDED, same version is already published
machv2macOS 10.14.6 Mojave / x86_64  OK    OK    WARNINGS    OK  
Package 5/53HostnameOS / ArchINSTALLBUILDCHECKBUILD BIN
BayesSpace 1.3.1  (landing page)
Matt Stone
git_last_commit: f7aeef9
git_last_commit_date: 2021-10-06 10:38:23 -0400
nebbiolo2Linux (Ubuntu 20.04.2 LTS) / x86_64  OK    OK    OK  UNNEEDED, same version is already published
riesling1Windows Server 2019 Standard / x64  OK    OK    OK    OK  UNNEEDED, same version is already published
merida1macOS 10.14.6 Mojave / x86_64  OK    OK    OK    OK  UNNEEDED, same version is already published
machv2macOS 10.14.6 Mojave / x86_64  OK    OK    OK    OK  
Package 6/53HostnameOS / ArchINSTALLBUILDCHECKBUILD BIN
BiocPkgTools 1.11.20  (landing page)
Sean Davis
git_last_commit: c1340af
git_last_commit_date: 2021-10-25 13:49:11 -0400
nebbiolo2Linux (Ubuntu 20.04.2 LTS) / x86_64  OK    OK    OK  YES
riesling1Windows Server 2019 Standard / x64  OK    OK    OK    OK  YES
merida1macOS 10.14.6 Mojave / x86_64  OK    OK    OK    OK  YES
machv2macOS 10.14.6 Mojave / x86_64  OK    OK    OK    OK  
Package 7/53HostnameOS / ArchINSTALLBUILDCHECKBUILD BIN
biodb 1.1.16  (landing page)
Pierrick Roger
git_last_commit: c231763
git_last_commit_date: 2021-10-19 06:21:44 -0400
nebbiolo2Linux (Ubuntu 20.04.2 LTS) / x86_64  OK    OK    OK  UNNEEDED, same version is already published
riesling1Windows Server 2019 Standard / x64  OK    OK    OK    OK  UNNEEDED, same version is already published
merida1macOS 10.14.6 Mojave / x86_64  OK    OK    OK    OK  UNNEEDED, same version is already published
machv2macOS 10.14.6 Mojave / x86_64  OK    OK    OK    OK  
Package 8/53HostnameOS / ArchINSTALLBUILDCHECKBUILD BIN
biomaRt 2.49.7  (landing page)
Mike Smith
git_last_commit: e0b0a39
git_last_commit_date: 2021-10-19 08:54:33 -0400
nebbiolo2Linux (Ubuntu 20.04.2 LTS) / x86_64  OK    OK    OK  UNNEEDED, same version is already published
riesling1Windows Server 2019 Standard / x64  OK    OK    OK    OK  UNNEEDED, same version is already published
merida1macOS 10.14.6 Mojave / x86_64  OK    OK    OK    OK  UNNEEDED, same version is already published
machv2macOS 10.14.6 Mojave / x86_64  OK    OK    OK    OK  
Package 9/53HostnameOS / ArchINSTALLBUILDCHECKBUILD BIN
BioPlex 0.99.14  (landing page)
Ludwig Geistlinger
git_last_commit: 4acc1ed
git_last_commit_date: 2021-08-31 14:55:42 -0400
nebbiolo2Linux (Ubuntu 20.04.2 LTS) / x86_64  OK    OK    OK  UNNEEDED, same version is already published
riesling1Windows Server 2019 Standard / x64  OK    ERROR  skippedskipped
merida1macOS 10.14.6 Mojave / x86_64  OK    OK    OK    OK  UNNEEDED, same version is already published
machv2macOS 10.14.6 Mojave / x86_64  OK    OK    OK    OK  
Package 10/53HostnameOS / ArchINSTALLBUILDCHECKBUILD BIN
BrainSABER 1.3.3  (landing page)
USD Biomedical Engineering
git_last_commit: 5536aa1
git_last_commit_date: 2021-10-06 19:29:21 -0400
nebbiolo2Linux (Ubuntu 20.04.2 LTS) / x86_64  OK    OK    OK  UNNEEDED, same version is already published
riesling1Windows Server 2019 Standard / x64  OK    OK    OK    OK  UNNEEDED, same version is already published
merida1macOS 10.14.6 Mojave / x86_64  OK    OK    OK    OK  UNNEEDED, same version is already published
machv2macOS 10.14.6 Mojave / x86_64  OK    OK    OK    OK  
Package 11/53HostnameOS / ArchINSTALLBUILDCHECKBUILD BIN
brendaDb 1.7.2  (landing page)
Yi Zhou
git_last_commit: 6837a38
git_last_commit_date: 2021-08-25 23:45:48 -0400
nebbiolo2Linux (Ubuntu 20.04.2 LTS) / x86_64  OK    OK    OK  UNNEEDED, same version is already published
riesling1Windows Server 2019 Standard / x64  OK    OK    OK    OK  UNNEEDED, same version is already published
merida1macOS 10.14.6 Mojave / x86_64  OK    OK    OK    OK  UNNEEDED, same version is already published
machv2macOS 10.14.6 Mojave / x86_64  OK    OK    OK    OK  
Package 12/53HostnameOS / ArchINSTALLBUILDCHECKBUILD BIN
bugsigdbr 0.99.8  (landing page)
Ludwig Geistlinger
git_last_commit: 64faa46
git_last_commit_date: 2021-09-12 17:27:21 -0400
nebbiolo2Linux (Ubuntu 20.04.2 LTS) / x86_64  OK    OK    OK  UNNEEDED, same version is already published
riesling1Windows Server 2019 Standard / x64  OK    OK    OK    OK  UNNEEDED, same version is already published
merida1macOS 10.14.6 Mojave / x86_64  OK    OK    OK    OK  UNNEEDED, same version is already published
machv2macOS 10.14.6 Mojave / x86_64  OK    OK    OK    OK  
Package 13/53HostnameOS / ArchINSTALLBUILDCHECKBUILD BIN
cbaf 1.15.1  (landing page)
Arman Shahrisa
git_last_commit: e2211cd
git_last_commit_date: 2021-10-13 17:43:05 -0400
nebbiolo2Linux (Ubuntu 20.04.2 LTS) / x86_64  OK    OK    OK  UNNEEDED, same version is already published
riesling1Windows Server 2019 Standard / x64  OK    OK    OK    OK  UNNEEDED, same version is already published
merida1macOS 10.14.6 Mojave / x86_64  OK    OK    OK    OK  UNNEEDED, same version is already published
machv2macOS 10.14.6 Mojave / x86_64  OK    OK    OK    OK  
Package 14/53HostnameOS / ArchINSTALLBUILDCHECKBUILD BIN
cBioPortalData 2.5.13  (landing page)
Marcel Ramos
git_last_commit: bf871e1
git_last_commit_date: 2021-10-14 12:05:38 -0400
nebbiolo2Linux (Ubuntu 20.04.2 LTS) / x86_64  OK    OK    WARNINGS  UNNEEDED, same version is already published
riesling1Windows Server 2019 Standard / x64  OK    OK    WARNINGS    OK  UNNEEDED, same version is already published
merida1macOS 10.14.6 Mojave / x86_64  OK    OK    WARNINGS    OK  UNNEEDED, same version is already published
machv2macOS 10.14.6 Mojave / x86_64  OK    OK    WARNINGS    OK  
Package 15/53HostnameOS / ArchINSTALLBUILDCHECKBUILD BIN
CellBench 1.9.0  (landing page)
Shian Su
git_last_commit: 64c3323
git_last_commit_date: 2021-05-19 12:41:27 -0400
nebbiolo2Linux (Ubuntu 20.04.2 LTS) / x86_64  OK    OK    OK  UNNEEDED, same version is already published
riesling1Windows Server 2019 Standard / x64  OK    OK    OK    OK  UNNEEDED, same version is already published
merida1macOS 10.14.6 Mojave / x86_64  OK    OK    OK    OK  UNNEEDED, same version is already published
machv2macOS 10.14.6 Mojave / x86_64  OK    OK    OK    OK  
Package 16/53HostnameOS / ArchINSTALLBUILDCHECKBUILD BIN
conclus 1.1.002  (landing page)
Ilyess Rachedi
git_last_commit: 9f01658
git_last_commit_date: 2021-08-31 07:26:43 -0400
nebbiolo2Linux (Ubuntu 20.04.2 LTS) / x86_64  OK    OK    OK  UNNEEDED, same version is already published
riesling1Windows Server 2019 Standard / x64  OK    OK    OK    OK  UNNEEDED, same version is already published
merida1macOS 10.14.6 Mojave / x86_64  OK    OK    OK    OK  UNNEEDED, same version is already published
machv2macOS 10.14.6 Mojave / x86_64  OK    OK    OK    OK  
Package 17/53HostnameOS / ArchINSTALLBUILDCHECKBUILD BIN
CTDquerier 2.1.0  (landing page)
Xavier EscribĂ -Montagut
git_last_commit: 75cff27
git_last_commit_date: 2021-05-19 13:00:36 -0400
nebbiolo2Linux (Ubuntu 20.04.2 LTS) / x86_64  OK    OK    WARNINGS  UNNEEDED, same version is already published
riesling1Windows Server 2019 Standard / x64  OK    OK    ERROR    OK  
merida1macOS 10.14.6 Mojave / x86_64  OK    OK    WARNINGS    OK  UNNEEDED, same version is already published
machv2macOS 10.14.6 Mojave / x86_64  OK    OK    WARNINGS    OK  
Package 18/53HostnameOS / ArchINSTALLBUILDCHECKBUILD BIN
customCMPdb 1.3.0  (landing page)
Yuzhu Duan
git_last_commit: 393219b
git_last_commit_date: 2021-05-19 12:56:23 -0400
nebbiolo2Linux (Ubuntu 20.04.2 LTS) / x86_64  OK    OK    OK  UNNEEDED, same version is already published
riesling1Windows Server 2019 Standard / x64  OK    OK    OK    OK  UNNEEDED, same version is already published
merida1macOS 10.14.6 Mojave / x86_64  OK    OK    OK    OK  UNNEEDED, same version is already published
machv2macOS 10.14.6 Mojave / x86_64  OK    OK    OK    OK  
Package 19/53HostnameOS / ArchINSTALLBUILDCHECKBUILD BIN
dasper 1.3.7  (landing page)
David Zhang
git_last_commit: a8e9e2b
git_last_commit_date: 2021-09-21 10:07:53 -0400
nebbiolo2Linux (Ubuntu 20.04.2 LTS) / x86_64  OK    OK    OK  UNNEEDED, same version is already published
riesling1Windows Server 2019 Standard / x64  OK    OK    OK    OK  UNNEEDED, same version is already published
merida1macOS 10.14.6 Mojave / x86_64  OK    OK    OK    OK  UNNEEDED, same version is already published
machv2macOS 10.14.6 Mojave / x86_64  OK    OK    ERROR    OK  
Package 20/53HostnameOS / ArchINSTALLBUILDCHECKBUILD BIN
drugTargetInteractions 1.1.2  (landing page)
Thomas Girke
git_last_commit: 92d269a
git_last_commit_date: 2021-08-26 14:35:37 -0400
nebbiolo2Linux (Ubuntu 20.04.2 LTS) / x86_64  OK    OK    OK  UNNEEDED, same version is already published
riesling1Windows Server 2019 Standard / x64  OK    OK    OK    OK  NO, package depends on 'UniProt.ws' which is not available
merida1macOS 10.14.6 Mojave / x86_64  OK    OK    WARNINGS    OK  UNNEEDED, same version is already published
machv2macOS 10.14.6 Mojave / x86_64  OK    OK    OK    OK  
Package 21/53HostnameOS / ArchINSTALLBUILDCHECKBUILD BIN
easyRNASeq 2.29.0  (landing page)
Nicolas Delhomme
git_last_commit: 23e7b94
git_last_commit_date: 2021-05-19 11:51:10 -0400
nebbiolo2Linux (Ubuntu 20.04.2 LTS) / x86_64  OK    OK    ERROR  
riesling1Windows Server 2019 Standard / x64  OK    OK    OK    OK  UNNEEDED, same version is already published
merida1macOS 10.14.6 Mojave / x86_64  OK    OK    ERROR    OK  
machv2macOS 10.14.6 Mojave / x86_64  OK    OK    OK    OK  
Package 22/53HostnameOS / ArchINSTALLBUILDCHECKBUILD BIN
enhancerHomologSearch 0.99.17  (landing page)
Jianhong Ou
git_last_commit: c3bb473
git_last_commit_date: 2021-09-29 14:05:38 -0400
nebbiolo2Linux (Ubuntu 20.04.2 LTS) / x86_64  OK    OK    OK  UNNEEDED, same version is already published
riesling1Windows Server 2019 Standard / x64  OK    OK    OK    OK  UNNEEDED, same version is already published
merida1macOS 10.14.6 Mojave / x86_64  OK    OK    OK    OK  UNNEEDED, same version is already published
machv2macOS 10.14.6 Mojave / x86_64  OK    OK    OK    OK  
Package 23/53HostnameOS / ArchINSTALLBUILDCHECKBUILD BIN
EnrichmentBrowser 2.23.4  (landing page)
Ludwig Geistlinger
git_last_commit: b60c892
git_last_commit_date: 2021-07-21 08:55:09 -0400
nebbiolo2Linux (Ubuntu 20.04.2 LTS) / x86_64  OK    OK    OK  UNNEEDED, same version is already published
riesling1Windows Server 2019 Standard / x64  OK    OK    OK    OK  UNNEEDED, same version is already published
merida1macOS 10.14.6 Mojave / x86_64  OK    OK    OK    OK  UNNEEDED, same version is already published
machv2macOS 10.14.6 Mojave / x86_64  OK    OK    OK    OK  
Package 24/53HostnameOS / ArchINSTALLBUILDCHECKBUILD BIN
EpiTxDb 1.5.0  (landing page)
Felix G.M. Ernst
git_last_commit: 277b25d
git_last_commit_date: 2021-05-19 12:50:24 -0400
nebbiolo2Linux (Ubuntu 20.04.2 LTS) / x86_64  OK    OK    OK  UNNEEDED, same version is already published
riesling1Windows Server 2019 Standard / x64  OK    OK    OK    OK  UNNEEDED, same version is already published
merida1macOS 10.14.6 Mojave / x86_64  OK    OK    OK    OK  UNNEEDED, same version is already published
machv2macOS 10.14.6 Mojave / x86_64  OK    OK    OK    OK  
Package 25/53HostnameOS / ArchINSTALLBUILDCHECKBUILD BIN
ExperimentHub 2.1.4  (landing page)
Bioconductor Package Maintainer
git_last_commit: 36d665b
git_last_commit_date: 2021-07-26 14:40:37 -0400
nebbiolo2Linux (Ubuntu 20.04.2 LTS) / x86_64  OK    OK    OK  UNNEEDED, same version is already published
riesling1Windows Server 2019 Standard / x64  OK    OK    OK    OK  UNNEEDED, same version is already published
merida1macOS 10.14.6 Mojave / x86_64  OK    OK    OK    OK  UNNEEDED, same version is already published
machv2macOS 10.14.6 Mojave / x86_64  OK    OK    OK    OK  
Package 26/53HostnameOS / ArchINSTALLBUILDCHECKBUILD BIN
fgga 1.1.0  (landing page)
Spetale Flavio
git_last_commit: 3037f1e
git_last_commit_date: 2021-05-19 13:03:00 -0400
nebbiolo2Linux (Ubuntu 20.04.2 LTS) / x86_64  OK    OK    OK  UNNEEDED, same version is already published
riesling1Windows Server 2019 Standard / x64  OK    OK    OK    OK  UNNEEDED, same version is already published
merida1macOS 10.14.6 Mojave / x86_64  OK    OK    OK    OK  UNNEEDED, same version is already published
machv2macOS 10.14.6 Mojave / x86_64  OK    OK    OK    OK  
Package 27/53HostnameOS / ArchINSTALLBUILDCHECKBUILD BIN
GAPGOM 1.9.0  (landing page)
Rezvan Ehsani
git_last_commit: c8c74ff
git_last_commit_date: 2021-05-19 12:40:41 -0400
nebbiolo2Linux (Ubuntu 20.04.2 LTS) / x86_64  OK    OK    OK  UNNEEDED, same version is already published
riesling1Windows Server 2019 Standard / x64  OK    OK    OK    OK  UNNEEDED, same version is already published
merida1macOS 10.14.6 Mojave / x86_64  OK    OK    OK    OK  UNNEEDED, same version is already published
machv2macOS 10.14.6 Mojave / x86_64  OK    OK    OK    OK  
Package 28/53HostnameOS / ArchINSTALLBUILDCHECKBUILD BIN
GenomicScores 2.5.1  (landing page)
Robert Castelo
git_last_commit: 0824b01
git_last_commit_date: 2021-07-28 11:37:34 -0400
nebbiolo2Linux (Ubuntu 20.04.2 LTS) / x86_64  OK    OK    OK  UNNEEDED, same version is already published
riesling1Windows Server 2019 Standard / x64  OK    OK    OK    OK  UNNEEDED, same version is already published
merida1macOS 10.14.6 Mojave / x86_64  OK    OK    OK    OK  UNNEEDED, same version is already published
machv2macOS 10.14.6 Mojave / x86_64  OK    OK    OK    OK  
Package 29/53HostnameOS / ArchINSTALLBUILDCHECKBUILD BIN
GenomicSuperSignature 1.1.8  (landing page)
Sehyun Oh
git_last_commit: a8ee901
git_last_commit_date: 2021-10-21 11:49:05 -0400
nebbiolo2Linux (Ubuntu 20.04.2 LTS) / x86_64  OK    OK    OK  UNNEEDED, same version is already published
riesling1Windows Server 2019 Standard / x64  OK    OK    OK    OK  UNNEEDED, same version is already published
merida1macOS 10.14.6 Mojave / x86_64  OK    OK    OK    OK  UNNEEDED, same version is already published
machv2macOS 10.14.6 Mojave / x86_64  OK    OK    OK    OK  
Package 30/53HostnameOS / ArchINSTALLBUILDCHECKBUILD BIN
GSEABenchmarkeR 1.13.5  (landing page)
Ludwig Geistlinger
git_last_commit: 911c64d
git_last_commit_date: 2021-07-16 17:18:59 -0400
nebbiolo2Linux (Ubuntu 20.04.2 LTS) / x86_64  OK    OK    OK  UNNEEDED, same version is already published
riesling1Windows Server 2019 Standard / x64  OK    OK    OK    OK  UNNEEDED, same version is already published
merida1macOS 10.14.6 Mojave / x86_64  OK    OK    OK    OK  UNNEEDED, same version is already published
machv2macOS 10.14.6 Mojave / x86_64  OK    OK    OK    OK  
Package 31/53HostnameOS / ArchINSTALLBUILDCHECKBUILD BIN
gwascat 2.25.0  (landing page)
VJ Carey
git_last_commit: 046f349
git_last_commit_date: 2021-05-19 11:51:31 -0400
nebbiolo2Linux (Ubuntu 20.04.2 LTS) / x86_64  OK    OK    OK  UNNEEDED, same version is already published
riesling1Windows Server 2019 Standard / x64  OK    OK    OK    OK  UNNEEDED, same version is already published
merida1macOS 10.14.6 Mojave / x86_64  OK    OK    OK    OK  UNNEEDED, same version is already published
machv2macOS 10.14.6 Mojave / x86_64  OK    OK    OK    OK  
Package 32/53HostnameOS / ArchINSTALLBUILDCHECKBUILD BIN
hca 1.1.5  (landing page)
Martin Morgan
git_last_commit: 8d5dee2
git_last_commit_date: 2021-10-04 17:47:39 -0400
nebbiolo2Linux (Ubuntu 20.04.2 LTS) / x86_64  OK    OK    OK  UNNEEDED, same version is already published
riesling1Windows Server 2019 Standard / x64  OK    OK    OK    OK  UNNEEDED, same version is already published
merida1macOS 10.14.6 Mojave / x86_64  OK    OK    OK    OK  UNNEEDED, same version is already published
machv2macOS 10.14.6 Mojave / x86_64  OK    OK    OK    OK  
Package 33/53HostnameOS / ArchINSTALLBUILDCHECKBUILD BIN
MBQN 2.5.3  (landing page)
Ariane Schad
git_last_commit: deb92b3
git_last_commit_date: 2021-10-21 06:51:09 -0400
nebbiolo2Linux (Ubuntu 20.04.2 LTS) / x86_64  OK    ERROR  skipped
riesling1Windows Server 2019 Standard / x64  OK    ERROR  skippedskipped
merida1macOS 10.14.6 Mojave / x86_64  OK    OK    OK    OK  UNNEEDED, same version is already published
machv2macOS 10.14.6 Mojave / x86_64  OK    OK    OK    OK  
Package 34/53HostnameOS / ArchINSTALLBUILDCHECKBUILD BIN
netDx 1.5.8  (landing page)
Shraddha Pai
git_last_commit: 42e1afc
git_last_commit_date: 2021-10-14 22:05:27 -0400
nebbiolo2Linux (Ubuntu 20.04.2 LTS) / x86_64  OK    OK    OK  UNNEEDED, same version is already published
riesling1Windows Server 2019 Standard / x64... NOT SUPPORTED ...
merida1macOS 10.14.6 Mojave / x86_64  OK    OK    OK    OK  UNNEEDED, same version is already published
machv2macOS 10.14.6 Mojave / x86_64  OK    OK    OK    OK  
Package 35/53HostnameOS / ArchINSTALLBUILDCHECKBUILD BIN
NxtIRFcore 0.99.11  (landing page)
Alex Chit Hei Wong
git_last_commit: 482dc38
git_last_commit_date: 2021-10-22 18:01:11 -0400
nebbiolo2Linux (Ubuntu 20.04.2 LTS) / x86_64  OK    OK    OK  UNNEEDED, same version is already published
riesling1Windows Server 2019 Standard / x64  OK    OK    OK    OK  UNNEEDED, same version is already published
merida1macOS 10.14.6 Mojave / x86_64  OK    OK    OK    OK  UNNEEDED, same version is already published
machv2macOS 10.14.6 Mojave / x86_64  OK    OK    OK    OK  
Package 36/53HostnameOS / ArchINSTALLBUILDCHECKBUILD BIN
ODER 0.99.31  (landing page)
David Zhang
git_last_commit: c5d3346
git_last_commit_date: 2021-10-08 11:40:56 -0400
nebbiolo2Linux (Ubuntu 20.04.2 LTS) / x86_64  OK    OK    OK  UNNEEDED, same version is already published
riesling1Windows Server 2019 Standard / x64  OK    OK    OK    OK  UNNEEDED, same version is already published
merida1macOS 10.14.6 Mojave / x86_64  OK    OK    OK    OK  UNNEEDED, same version is already published
machv2macOS 10.14.6 Mojave / x86_64  OK    OK    OK    OK  
Package 37/53HostnameOS / ArchINSTALLBUILDCHECKBUILD BIN
ontoProc 1.15.1  (landing page)
VJ Carey
git_last_commit: b19b568
git_last_commit_date: 2021-10-21 15:41:52 -0400
nebbiolo2Linux (Ubuntu 20.04.2 LTS) / x86_64  OK    OK    OK  UNNEEDED, same version is already published
riesling1Windows Server 2019 Standard / x64  OK    OK    OK    OK  UNNEEDED, same version is already published
merida1macOS 10.14.6 Mojave / x86_64  OK    OK    OK    OK  UNNEEDED, same version is already published
machv2macOS 10.14.6 Mojave / x86_64  OK    OK    OK    OK  
Package 38/53HostnameOS / ArchINSTALLBUILDCHECKBUILD BIN
Organism.dplyr 1.21.0  (landing page)
Martin Morgan
git_last_commit: 859deb3
git_last_commit_date: 2021-05-19 12:26:12 -0400
nebbiolo2Linux (Ubuntu 20.04.2 LTS) / x86_64  OK    OK    ERROR  
riesling1Windows Server 2019 Standard / x64  OK    OK    ERROR    OK  
merida1macOS 10.14.6 Mojave / x86_64  OK    OK    ERROR    OK  
machv2macOS 10.14.6 Mojave / x86_64  OK    OK    ERROR    OK  
Package 39/53HostnameOS / ArchINSTALLBUILDCHECKBUILD BIN
psichomics 1.19.7  (landing page)
Nuno Saraiva-Agostinho
git_last_commit: 68bbd6b
git_last_commit_date: 2021-10-19 12:30:37 -0400
nebbiolo2Linux (Ubuntu 20.04.2 LTS) / x86_64  OK    OK    OK  UNNEEDED, same version is already published
riesling1Windows Server 2019 Standard / x64  OK    OK    OK    OK  UNNEEDED, same version is already published
merida1macOS 10.14.6 Mojave / x86_64  OK    OK    OK    OK  UNNEEDED, same version is already published
machv2macOS 10.14.6 Mojave / x86_64  OK    OK    OK    OK  
Package 40/53HostnameOS / ArchINSTALLBUILDCHECKBUILD BIN
RcwlPipelines 1.9.1  (landing page)
Qiang Hu
git_last_commit: f973ca0
git_last_commit_date: 2021-09-08 17:50:49 -0400
nebbiolo2Linux (Ubuntu 20.04.2 LTS) / x86_64  OK    OK    OK  UNNEEDED, same version is already published
riesling1Windows Server 2019 Standard / x64... NOT SUPPORTED ...
merida1macOS 10.14.6 Mojave / x86_64  OK    OK    OK    OK  UNNEEDED, same version is already published
machv2macOS 10.14.6 Mojave / x86_64  OK    OK    OK    OK  
Package 41/53HostnameOS / ArchINSTALLBUILDCHECKBUILD BIN
recount3 1.3.9  (landing page)
Leonardo Collado-Torres
git_last_commit: 6287863
git_last_commit_date: 2021-09-27 10:15:20 -0400
nebbiolo2Linux (Ubuntu 20.04.2 LTS) / x86_64  OK    ERROR  skipped
riesling1Windows Server 2019 Standard / x64  OK    OK    ERROR    OK  
merida1macOS 10.14.6 Mojave / x86_64  OK    OK    ERROR    OK  
machv2macOS 10.14.6 Mojave / x86_64  OK    OK    ERROR    OK  
Package 42/53HostnameOS / ArchINSTALLBUILDCHECKBUILD BIN
recountmethylation 1.3.4  (landing page)
Sean K Maden
git_last_commit: 45ad504
git_last_commit_date: 2021-10-11 14:06:45 -0400
nebbiolo2Linux (Ubuntu 20.04.2 LTS) / x86_64  OK    OK    OK  UNNEEDED, same version is already published
riesling1Windows Server 2019 Standard / x64  OK    OK    OK    OK  UNNEEDED, same version is already published
merida1macOS 10.14.6 Mojave / x86_64  OK    OK    OK    OK  UNNEEDED, same version is already published
machv2macOS 10.14.6 Mojave / x86_64  OK    OK    OK    OK  
Package 43/53HostnameOS / ArchINSTALLBUILDCHECKBUILD BIN
regutools 1.5.1  (landing page)
Joselyn Chavez
git_last_commit: 11e37e9
git_last_commit_date: 2021-08-09 20:14:56 -0400
nebbiolo2Linux (Ubuntu 20.04.2 LTS) / x86_64  OK    OK    OK  UNNEEDED, same version is already published
riesling1Windows Server 2019 Standard / x64  OK    OK    OK    OK  UNNEEDED, same version is already published
merida1macOS 10.14.6 Mojave / x86_64  OK    OK    OK    OK  UNNEEDED, same version is already published
machv2macOS 10.14.6 Mojave / x86_64  OK    OK    OK    OK  
Package 44/53HostnameOS / ArchINSTALLBUILDCHECKBUILD BIN
RiboDiPA 1.1.0  (landing page)
Ji-Ping Wang
git_last_commit: 7a819c5
git_last_commit_date: 2021-05-19 12:59:17 -0400
nebbiolo2Linux (Ubuntu 20.04.2 LTS) / x86_64  OK    OK    OK  UNNEEDED, same version is already published
riesling1Windows Server 2019 Standard / x64  OK    OK    OK    OK  UNNEEDED, same version is already published
merida1macOS 10.14.6 Mojave / x86_64  OK    OK    OK    OK  UNNEEDED, same version is already published
machv2macOS 10.14.6 Mojave / x86_64  OK    OK    OK    OK  
Package 45/53HostnameOS / ArchINSTALLBUILDCHECKBUILD BIN
rpx 2.1.12  (landing page)
Laurent Gatto
git_last_commit: b40872c
git_last_commit_date: 2021-10-07 00:41:08 -0400
nebbiolo2Linux (Ubuntu 20.04.2 LTS) / x86_64  OK    OK    ERROR  
riesling1Windows Server 2019 Standard / x64  OK    OK    ERROR    OK  
merida1macOS 10.14.6 Mojave / x86_64  OK    OK    ERROR    OK  
machv2macOS 10.14.6 Mojave / x86_64  OK    OK    ERROR    OK  
Package 46/53HostnameOS / ArchINSTALLBUILDCHECKBUILD BIN
SpatialExperiment 1.3.4  (landing page)
Dario Righelli
git_last_commit: 6536b04
git_last_commit_date: 2021-08-31 10:16:48 -0400
nebbiolo2Linux (Ubuntu 20.04.2 LTS) / x86_64  OK    OK    OK  UNNEEDED, same version is already published
riesling1Windows Server 2019 Standard / x64  OK    OK    OK    OK  UNNEEDED, same version is already published
merida1macOS 10.14.6 Mojave / x86_64  OK    OK    OK    OK  UNNEEDED, same version is already published
machv2macOS 10.14.6 Mojave / x86_64  OK    OK    OK    OK  
Package 47/53HostnameOS / ArchINSTALLBUILDCHECKBUILD BIN
spatialHeatmap 1.99.1  (landing page)
Jianhai Zhang
git_last_commit: 638b47e
git_last_commit_date: 2021-10-19 01:42:16 -0400
nebbiolo2Linux (Ubuntu 20.04.2 LTS) / x86_64  OK    OK    OK  UNNEEDED, same version is already published
riesling1Windows Server 2019 Standard / x64  OK    OK    OK    OK  UNNEEDED, same version is already published
merida1macOS 10.14.6 Mojave / x86_64  OK    OK    OK    OK  UNNEEDED, same version is already published
machv2macOS 10.14.6 Mojave / x86_64  OK    OK    OK    OK  
Package 48/53HostnameOS / ArchINSTALLBUILDCHECKBUILD BIN
TFutils 1.13.4  (landing page)
Vincent Carey
git_last_commit: a4192a8
git_last_commit_date: 2021-10-21 20:33:51 -0400
nebbiolo2Linux (Ubuntu 20.04.2 LTS) / x86_64  OK    OK    OK  UNNEEDED, same version is already published
riesling1Windows Server 2019 Standard / x64  OK    OK    OK    OK  UNNEEDED, same version is already published
merida1macOS 10.14.6 Mojave / x86_64  OK    OK    OK    OK  UNNEEDED, same version is already published
machv2macOS 10.14.6 Mojave / x86_64  OK    OK    OK    OK  
Package 49/53HostnameOS / ArchINSTALLBUILDCHECKBUILD BIN
tximeta 1.11.3  (landing page)
Michael Love
git_last_commit: 65ecf44
git_last_commit_date: 2021-08-30 09:53:30 -0400
nebbiolo2Linux (Ubuntu 20.04.2 LTS) / x86_64  OK    OK    OK  UNNEEDED, same version is already published
riesling1Windows Server 2019 Standard / x64  OK    OK    OK    OK  UNNEEDED, same version is already published
merida1macOS 10.14.6 Mojave / x86_64  OK    OK    OK    OK  UNNEEDED, same version is already published
machv2macOS 10.14.6 Mojave / x86_64  OK    OK    OK    OK  
Package 50/53HostnameOS / ArchINSTALLBUILDCHECKBUILD BIN
UMI4Cats 1.3.1  (landing page)
Mireia Ramos-Rodriguez
git_last_commit: d3a7908
git_last_commit_date: 2021-06-11 08:57:40 -0400
nebbiolo2Linux (Ubuntu 20.04.2 LTS) / x86_64  OK    OK    OK  UNNEEDED, same version is already published
riesling1Windows Server 2019 Standard / x64  OK    OK    OK    OK  UNNEEDED, same version is already published
merida1macOS 10.14.6 Mojave / x86_64  OK    OK    OK    OK  UNNEEDED, same version is already published
machv2macOS 10.14.6 Mojave / x86_64  OK    OK    OK    OK  
Package 51/53HostnameOS / ArchINSTALLBUILDCHECKBUILD BIN
uncoverappLib 1.3.0  (landing page)
Emanuela Iovino
git_last_commit: 6de931b
git_last_commit_date: 2021-05-19 12:54:28 -0400
nebbiolo2Linux (Ubuntu 20.04.2 LTS) / x86_64  OK    OK    OK  UNNEEDED, same version is already published
riesling1Windows Server 2019 Standard / x64  OK    OK    OK    OK  UNNEEDED, same version is already published
merida1macOS 10.14.6 Mojave / x86_64  OK    OK    OK    OK  UNNEEDED, same version is already published
machv2macOS 10.14.6 Mojave / x86_64  OK    OK    OK    OK  
Package 52/53HostnameOS / ArchINSTALLBUILDCHECKBUILD BIN
UniProt.ws 2.33.0  (landing page)
Bioconductor Package Maintainer
git_last_commit: 5062003
git_last_commit_date: 2021-05-19 11:54:41 -0400
nebbiolo2Linux (Ubuntu 20.04.2 LTS) / x86_64  OK    OK    OK  UNNEEDED, same version is already published
riesling1Windows Server 2019 Standard / x64  OK    ERROR  skippedskipped
merida1macOS 10.14.6 Mojave / x86_64  OK    OK    OK    OK  UNNEEDED, same version is already published
machv2macOS 10.14.6 Mojave / x86_64  OK    OK    OK    OK  
Package 53/53HostnameOS / ArchINSTALLBUILDCHECKBUILD BIN
waddR 1.7.1  (landing page)
Julian Flesch
git_last_commit: 1668d99
git_last_commit_date: 2021-05-28 17:27:18 -0400
nebbiolo2Linux (Ubuntu 20.04.2 LTS) / x86_64  OK    OK    OK  UNNEEDED, same version is already published
riesling1Windows Server 2019 Standard / x64  OK    OK    OK    OK  UNNEEDED, same version is already published
merida1macOS 10.14.6 Mojave / x86_64  OK    OK    ERROR    OK  
machv2macOS 10.14.6 Mojave / x86_64  OK    OK    OK    OK