Back to Multiple platform build/check report for BioC 3.14
A[B]CDEFGHIJKLMNOPQRSTUVWXYZ

This page was generated on 2021-10-23 14:06:19 -0400 (Sat, 23 Oct 2021).

BUILD BIN results for BiocDockerManager on riesling1

To the developers/maintainers of the BiocDockerManager package:
- Please allow up to 24 hours (and sometimes 48 hours) for your latest push to git@git.bioconductor.org:packages/BiocDockerManager.git to
reflect on this report. See How and When does the builder pull? When will my changes propagate? here for more information.
- Make sure to use the following settings in order to reproduce any error or warning you see on this page.

raw results

Package 157/2083HostnameOS / ArchINSTALLBUILDCHECKBUILD BIN
BiocDockerManager 1.5.0  (landing page)
Bioconductor Package Maintainer
Snapshot Date: 2021-10-22 14:50:11 -0400 (Fri, 22 Oct 2021)
git_url: https://git.bioconductor.org/packages/BiocDockerManager
git_branch: master
git_last_commit: 360d9e9
git_last_commit_date: 2021-05-19 12:50:55 -0400 (Wed, 19 May 2021)
nebbiolo2Linux (Ubuntu 20.04.2 LTS) / x86_64  OK    OK    OK  UNNEEDED, same version is already published
riesling1Windows Server 2019 Standard / x64  OK    OK    OK    OK  UNNEEDED, same version is already published
merida1macOS 10.14.6 Mojave / x86_64  OK    OK    OK    OK  UNNEEDED, same version is already published

Summary

Package: BiocDockerManager
Version: 1.5.0
Command: rm -rf BiocDockerManager.buildbin-libdir && mkdir BiocDockerManager.buildbin-libdir && D:\biocbuild\bbs-3.14-bioc\R\bin\R.exe CMD INSTALL --merge-multiarch --build --library=BiocDockerManager.buildbin-libdir BiocDockerManager_1.5.0.tar.gz
StartedAt: 2021-10-23 09:46:46 -0400 (Sat, 23 Oct 2021)
EndedAt: 2021-10-23 09:50:43 -0400 (Sat, 23 Oct 2021)
EllapsedTime: 237.5 seconds
RetCode: 0
Status:   OK  
PackageFile: BiocDockerManager_1.5.0.zip
PackageFileSize: 335.9 KiB

Command output

##############################################################################
##############################################################################
###
### Running command:
###
###   rm -rf BiocDockerManager.buildbin-libdir && mkdir BiocDockerManager.buildbin-libdir && D:\biocbuild\bbs-3.14-bioc\R\bin\R.exe CMD INSTALL --merge-multiarch --build --library=BiocDockerManager.buildbin-libdir BiocDockerManager_1.5.0.tar.gz
###
##############################################################################
##############################################################################



install for i386

* installing *source* package 'BiocDockerManager' ...
** using staged installation
** R
** inst
** byte-compile and prepare package for lazy loading
** help
*** installing help indices
  converting help for package 'BiocDockerManager'
    finding HTML links ... done
    BiocDockerManager                       html  
    available                               html  
    help                                    html  
    install                                 html  
    installed                               html  
    maintainer                              html  
    use_dockerfile                          html  
    valid                                   html  
    version                                 html  
** building package indices
** installing vignettes
** testing if installed package can be loaded from temporary location
** testing if installed package can be loaded from final location
** testing if installed package keeps a record of temporary installation path

install for x64

* installing *source* package 'BiocDockerManager' ...
** testing if installed package can be loaded
* MD5 sums
packaged installation of 'BiocDockerManager' as BiocDockerManager_1.5.0.zip
* DONE (BiocDockerManager)