Back to Multiple platform build/check report for BioC 3.14
A[B]CDEFGHIJKLMNOPQRSTUVWXYZ

This page was generated on 2021-10-20 12:05:33 -0400 (Wed, 20 Oct 2021).

BUILD results for BiocCheck on merida1

To the developers/maintainers of the BiocCheck package:
- Please allow up to 24 hours (and sometimes 48 hours) for your latest push to git@git.bioconductor.org:packages/BiocCheck.git to
reflect on this report. See How and When does the builder pull? When will my changes propagate? here for more information.
- Make sure to use the following settings in order to reproduce any error or warning you see on this page.

raw results

Package 156/2072HostnameOS / ArchINSTALLBUILDCHECKBUILD BIN
BiocCheck 1.29.16  (landing page)
Bioconductor Package Maintainer
Snapshot Date: 2021-10-19 14:50:04 -0400 (Tue, 19 Oct 2021)
git_url: https://git.bioconductor.org/packages/BiocCheck
git_branch: master
git_last_commit: b379b4f
git_last_commit_date: 2021-10-14 18:04:12 -0400 (Thu, 14 Oct 2021)
nebbiolo2Linux (Ubuntu 20.04.2 LTS) / x86_64  OK    OK    OK  UNNEEDED, same version is already published
riesling1Windows Server 2019 Standard / x64  OK    OK    OK    OK  UNNEEDED, same version is already published
merida1macOS 10.14.6 Mojave / x86_64  OK    OK    OK    OK  UNNEEDED, same version is already published

Summary

Package: BiocCheck
Version: 1.29.16
Command: /Library/Frameworks/R.framework/Resources/bin/R CMD build --keep-empty-dirs --no-resave-data BiocCheck
StartedAt: 2021-10-19 18:43:41 -0400 (Tue, 19 Oct 2021)
EndedAt: 2021-10-19 18:44:04 -0400 (Tue, 19 Oct 2021)
EllapsedTime: 22.7 seconds
RetCode: 0
Status:   OK  
PackageFile: BiocCheck_1.29.16.tar.gz
PackageFileSize: 4.159 MiB

Command output

##############################################################################
##############################################################################
###
### Running command:
###
###   /Library/Frameworks/R.framework/Resources/bin/R CMD build --keep-empty-dirs --no-resave-data BiocCheck
###
##############################################################################
##############################################################################


* checking for file ‘BiocCheck/DESCRIPTION’ ... OK
* preparing ‘BiocCheck’:
* checking DESCRIPTION meta-information ... OK
* installing the package to build vignettes
* creating vignettes ... OK
* checking for LF line-endings in source and make files and shell scripts
* checking for empty or unneeded directories
* building ‘BiocCheck_1.29.16.tar.gz’