Back to Multiple platform build/check report for BioC 3.14
A[B]CDEFGHIJKLMNOPQRSTUVWXYZ

This page was generated on 2021-10-22 12:04:51 -0400 (Fri, 22 Oct 2021).

BUILD BIN results for BiocCheck on merida1

To the developers/maintainers of the BiocCheck package:
- Please allow up to 24 hours (and sometimes 48 hours) for your latest push to git@git.bioconductor.org:packages/BiocCheck.git to
reflect on this report. See How and When does the builder pull? When will my changes propagate? here for more information.
- Make sure to use the following settings in order to reproduce any error or warning you see on this page.

raw results

Package 156/2075HostnameOS / ArchINSTALLBUILDCHECKBUILD BIN
BiocCheck 1.29.16  (landing page)
Bioconductor Package Maintainer
Snapshot Date: 2021-10-21 14:50:08 -0400 (Thu, 21 Oct 2021)
git_url: https://git.bioconductor.org/packages/BiocCheck
git_branch: master
git_last_commit: b379b4f
git_last_commit_date: 2021-10-14 18:04:12 -0400 (Thu, 14 Oct 2021)
nebbiolo2Linux (Ubuntu 20.04.2 LTS) / x86_64  OK    OK    OK  UNNEEDED, same version is already published
riesling1Windows Server 2019 Standard / x64  OK    OK    OK    OK  UNNEEDED, same version is already published
merida1macOS 10.14.6 Mojave / x86_64  OK    OK    OK    OK  UNNEEDED, same version is already published

Summary

Package: BiocCheck
Version: 1.29.16
Command: rm -rf BiocCheck.buildbin-libdir && mkdir BiocCheck.buildbin-libdir && /Users/biocbuild/BBS/utils/build-universal.sh BiocCheck_1.29.16.tar.gz /Library/Frameworks/R.framework/Resources/bin/R BiocCheck.buildbin-libdir
StartedAt: 2021-10-22 11:28:49 -0400 (Fri, 22 Oct 2021)
EndedAt: 2021-10-22 11:29:49 -0400 (Fri, 22 Oct 2021)
EllapsedTime: 60.2 seconds
RetCode: 0
Status:   OK  
PackageFile: BiocCheck_1.29.16.tgz
PackageFileSize: 4.385 MiB

Command output

##############################################################################
##############################################################################
###
### Running command:
###
###   rm -rf BiocCheck.buildbin-libdir && mkdir BiocCheck.buildbin-libdir && /Users/biocbuild/BBS/utils/build-universal.sh BiocCheck_1.29.16.tar.gz /Library/Frameworks/R.framework/Resources/bin/R BiocCheck.buildbin-libdir
###
##############################################################################
##############################################################################


>>>>>>> 
>>>>>>> INSTALLATION WITH 'R CMD INSTALL --preclean --no-multiarch --library=BiocCheck.buildbin-libdir BiocCheck_1.29.16.tar.gz'
>>>>>>> 

* installing *source* package ‘BiocCheck’ ...
** using staged installation
** R
** inst
** byte-compile and prepare package for lazy loading
** help
*** installing help indices
** building package indices
** installing vignettes
** testing if installed package can be loaded from temporary location
** testing if installed package can be loaded from final location
** testing if installed package keeps a record of temporary installation path
* DONE (BiocCheck)