Index of /checkResults/3.14/bioc-LATEST/Biobase/raw-results/machv2

[ICO]NameLast modifiedSizeDescription

[DIR]Parent Directory  -  
[TXT]buildbin-out.txt22-Jan-2022 03:07 3.4K 
[   ]buildbin-summary.dcf22-Jan-2022 03:07 530  
[TXT]buildsrc-out.txt22-Jan-2022 03:07 909  
[   ]buildsrc-summary.dcf22-Jan-2022 03:07 427  
[TXT]checksrc-out.txt22-Jan-2022 03:07 3.4K 
[   ]checksrc-summary.dcf22-Jan-2022 03:07 444  
[TXT]install-out.txt22-Jan-2022 03:07 2.5K 
[   ]install-summary.dcf22-Jan-2022 03:07 269