Back to Multiple platform build/check report for BioC 3.14
A[B]CDEFGHIJKLMNOPQRSTUVWXYZ

This page was generated on 2021-10-18 12:03:59 -0400 (Mon, 18 Oct 2021).

BUILD results for BioTIP on riesling1

To the developers/maintainers of the BioTIP package:
- Please allow up to 24 hours (and sometimes 48 hours) for your latest push to git@git.bioconductor.org:packages/BioTIP.git to
reflect on this report. See How and When does the builder pull? When will my changes propagate? here for more information.
- Make sure to use the following settings in order to reproduce any error or warning you see on this page.

raw results

Package 190/2060HostnameOS / ArchINSTALLBUILDCHECKBUILD BIN
BioTIP 1.7.0  (landing page)
Yuxi (Jennifer) Sun , Zhezhen Wang , and X Holly Yang
Snapshot Date: 2021-10-17 14:50:03 -0400 (Sun, 17 Oct 2021)
git_url: https://git.bioconductor.org/packages/BioTIP
git_branch: master
git_last_commit: ebad957
git_last_commit_date: 2021-05-19 12:46:34 -0400 (Wed, 19 May 2021)
nebbiolo2Linux (Ubuntu 20.04.2 LTS) / x86_64  OK    OK    WARNINGS  UNNEEDED, same version is already published
riesling1Windows Server 2019 Standard / x64  OK    OK    WARNINGS    OK  UNNEEDED, same version is already published
merida1macOS 10.14.6 Mojave / x86_64  OK    OK    WARNINGS    OK  UNNEEDED, same version is already published

Summary

Package: BioTIP
Version: 1.7.0
Command: chmod a+r BioTIP -R && D:\biocbuild\bbs-3.14-bioc\R\bin\R.exe CMD build --keep-empty-dirs --no-resave-data BioTIP
StartedAt: 2021-10-17 19:48:29 -0400 (Sun, 17 Oct 2021)
EndedAt: 2021-10-17 19:53:00 -0400 (Sun, 17 Oct 2021)
EllapsedTime: 270.8 seconds
RetCode: 0
Status:   OK  
PackageFile: BioTIP_1.7.0.tar.gz
PackageFileSize: 8.104 MiB

Command output

##############################################################################
##############################################################################
###
### Running command:
###
###   chmod a+r BioTIP -R && D:\biocbuild\bbs-3.14-bioc\R\bin\R.exe CMD build --keep-empty-dirs --no-resave-data BioTIP
###
##############################################################################
##############################################################################


* checking for file 'BioTIP/DESCRIPTION' ... OK
* preparing 'BioTIP':
* checking DESCRIPTION meta-information ... OK
* installing the package to build vignettes
* creating vignettes ... OK
* excluding invalid files
Subdirectory 'R' contains invalid file names:
  '.RData'
* checking for LF line-endings in source and make files and shell scripts
* checking for empty or unneeded directories
* building 'BioTIP_1.7.0.tar.gz'