Back to Multiple platform build/check report for BioC 3.14
A[B]CDEFGHIJKLMNOPQRSTUVWXYZ

This page was generated on 2021-10-22 12:04:19 -0400 (Fri, 22 Oct 2021).

BUILD BIN results for BioTIP on riesling1

To the developers/maintainers of the BioTIP package:
- Please allow up to 24 hours (and sometimes 48 hours) for your latest push to git@git.bioconductor.org:packages/BioTIP.git to
reflect on this report. See How and When does the builder pull? When will my changes propagate? here for more information.
- Make sure to use the following settings in order to reproduce any error or warning you see on this page.

raw results

Package 192/2075HostnameOS / ArchINSTALLBUILDCHECKBUILD BIN
BioTIP 1.7.0  (landing page)
Yuxi (Jennifer) Sun , Zhezhen Wang , and X Holly Yang
Snapshot Date: 2021-10-21 14:50:08 -0400 (Thu, 21 Oct 2021)
git_url: https://git.bioconductor.org/packages/BioTIP
git_branch: master
git_last_commit: ebad957
git_last_commit_date: 2021-05-19 12:46:34 -0400 (Wed, 19 May 2021)
nebbiolo2Linux (Ubuntu 20.04.2 LTS) / x86_64  OK    OK    WARNINGS  UNNEEDED, same version is already published
riesling1Windows Server 2019 Standard / x64  OK    OK    WARNINGS    OK  UNNEEDED, same version is already published
merida1macOS 10.14.6 Mojave / x86_64  OK    OK    WARNINGS    OK  UNNEEDED, same version is already published

Summary

Package: BioTIP
Version: 1.7.0
Command: rm -rf BioTIP.buildbin-libdir && mkdir BioTIP.buildbin-libdir && D:\biocbuild\bbs-3.14-bioc\R\bin\R.exe CMD INSTALL --merge-multiarch --build --library=BioTIP.buildbin-libdir BioTIP_1.7.0.tar.gz
StartedAt: 2021-10-22 04:36:38 -0400 (Fri, 22 Oct 2021)
EndedAt: 2021-10-22 04:40:42 -0400 (Fri, 22 Oct 2021)
EllapsedTime: 244.4 seconds
RetCode: 0
Status:   OK  
PackageFile: BioTIP_1.7.0.zip
PackageFileSize: 6.095 MiB

Command output

##############################################################################
##############################################################################
###
### Running command:
###
###   rm -rf BioTIP.buildbin-libdir && mkdir BioTIP.buildbin-libdir && D:\biocbuild\bbs-3.14-bioc\R\bin\R.exe CMD INSTALL --merge-multiarch --build --library=BioTIP.buildbin-libdir BioTIP_1.7.0.tar.gz
###
##############################################################################
##############################################################################



install for i386

* installing *source* package 'BioTIP' ...
** using staged installation
** R
** data
*** moving datasets to lazyload DB
** inst
** byte-compile and prepare package for lazy loading
** help
*** installing help indices
  converting help for package 'BioTIP'
    finding HTML links ... done
    BioTIP-package                          html  
    GSE6136_cli                             html  
    GSE6136_matrix                          html  
    ILEF                                    html  
    avg.cor.shrink                          html  
    cod                                     html  
    cor.shrink                              html  
    gencode                                 html  
    getBiotypes                             html  
    getCTS                                  html  
    getCluster_methods                      html  
    getIc                                   html  
    getIc.new                               html  
    getMCI                                  html  
    finding level-2 HTML links ... done

    getMCI_inner                            html  
    getMaxMCImember                         html  
    getMaxStats                             html  
    getNetwork                              html  
    getReadthrough                          html  
    intron                                  html  
    optimize.sd_selection                   html  
    plotBar_MCI                             html  
    plotIc                                  html  
    plotMaxMCI                              html  
    plot_Ic_Simulation                      html  
    plot_MCI_Simulation                     html  
    plot_SS_Simulation                      html  
    sd_selection                            html  
    simulationMCI                           html  
    simulation_Ic                           html  
    simulation_Ic_sample                    html  
** building package indices
** installing vignettes
** testing if installed package can be loaded from temporary location
** testing if installed package can be loaded from final location
** testing if installed package keeps a record of temporary installation path

install for x64

* installing *source* package 'BioTIP' ...
** testing if installed package can be loaded
* MD5 sums
packaged installation of 'BioTIP' as BioTIP_1.7.0.zip
* DONE (BioTIP)