Back to Multiple platform build/check report for BioC 3.14
A[B]CDEFGHIJKLMNOPQRSTUVWXYZ

This page was generated on 2021-10-19 12:04:48 -0400 (Tue, 19 Oct 2021).

BUILD results for BioQC on riesling1

To the developers/maintainers of the BioQC package:
- Please allow up to 24 hours (and sometimes 48 hours) for your latest push to git@git.bioconductor.org:packages/BioQC.git to
reflect on this report. See How and When does the builder pull? When will my changes propagate? here for more information.
- Make sure to use the following settings in order to reproduce any error or warning you see on this page.

raw results

Package 187/2060HostnameOS / ArchINSTALLBUILDCHECKBUILD BIN
BioQC 1.21.4  (landing page)
Jitao David Zhang
Snapshot Date: 2021-10-18 14:50:10 -0400 (Mon, 18 Oct 2021)
git_url: https://git.bioconductor.org/packages/BioQC
git_branch: master
git_last_commit: 91a7127
git_last_commit_date: 2021-08-18 08:15:12 -0400 (Wed, 18 Aug 2021)
nebbiolo2Linux (Ubuntu 20.04.2 LTS) / x86_64  OK    OK    OK  UNNEEDED, same version is already published
riesling1Windows Server 2019 Standard / x64  OK    OK    OK    OK  UNNEEDED, same version is already published
merida1macOS 10.14.6 Mojave / x86_64  OK    OK    OK    OK  UNNEEDED, same version is already published

Summary

Package: BioQC
Version: 1.21.4
Command: chmod a+r BioQC -R && D:\biocbuild\bbs-3.14-bioc\R\bin\R.exe CMD build --keep-empty-dirs --no-resave-data BioQC
StartedAt: 2021-10-18 19:52:27 -0400 (Mon, 18 Oct 2021)
EndedAt: 2021-10-18 19:56:59 -0400 (Mon, 18 Oct 2021)
EllapsedTime: 271.6 seconds
RetCode: 0
Status:   OK  
PackageFile: BioQC_1.21.4.tar.gz
PackageFileSize: 4.302 MiB

Command output

##############################################################################
##############################################################################
###
### Running command:
###
###   chmod a+r BioQC -R && D:\biocbuild\bbs-3.14-bioc\R\bin\R.exe CMD build --keep-empty-dirs --no-resave-data BioQC
###
##############################################################################
##############################################################################


* checking for file 'BioQC/DESCRIPTION' ... OK
* preparing 'BioQC':
* checking DESCRIPTION meta-information ... OK
* cleaning src
* installing the package to build vignettes
* creating vignettes ... OK
* cleaning src
* checking for LF line-endings in source and make files and shell scripts
* checking for empty or unneeded directories
* building 'BioQC_1.21.4.tar.gz'