Back to Multiple platform build/check report for BioC 3.14
A[B]CDEFGHIJKLMNOPQRSTUVWXYZ

This page was generated on 2021-12-06 13:04:53 -0500 (Mon, 06 Dec 2021).

CHECK results for BioQC on nebbiolo2

To the developers/maintainers of the BioQC package:
- Please allow up to 24 hours (and sometimes 48 hours) for your latest push to git@git.bioconductor.org:packages/BioQC.git to
reflect on this report. See How and When does the builder pull? When will my changes propagate? here for more information.
- Make sure to use the following settings in order to reproduce any error or warning you see on this page.

raw results

Package 191/2083HostnameOS / ArchINSTALLBUILDCHECKBUILD BIN
BioQC 1.22.0  (landing page)
Jitao David Zhang
Snapshot Date: 2021-12-05 01:55:05 -0500 (Sun, 05 Dec 2021)
git_url: https://git.bioconductor.org/packages/BioQC
git_branch: RELEASE_3_14
git_last_commit: ed54d1a
git_last_commit_date: 2021-10-26 12:24:03 -0500 (Tue, 26 Oct 2021)
nebbiolo2Linux (Ubuntu 20.04.3 LTS) / x86_64  OK    OK    OK  UNNEEDED, same version is already published
tokay2Windows Server 2012 R2 Standard / x64  OK    OK    OK    OK  UNNEEDED, same version is already published
machv2macOS 10.14.6 Mojave / x86_64  OK    OK    OK    OK  UNNEEDED, same version is already published

Summary

Package: BioQC
Version: 1.22.0
Command: /home/biocbuild/bbs-3.14-bioc/R/bin/R CMD check --install=check:BioQC.install-out.txt --library=/home/biocbuild/bbs-3.14-bioc/R/library --no-vignettes --timings BioQC_1.22.0.tar.gz
StartedAt: 2021-12-05 07:05:14 -0500 (Sun, 05 Dec 2021)
EndedAt: 2021-12-05 07:05:54 -0500 (Sun, 05 Dec 2021)
EllapsedTime: 40.6 seconds
RetCode: 0
Status:   OK  
CheckDir: BioQC.Rcheck
Warnings: 0

Command output

##############################################################################
##############################################################################
###
### Running command:
###
###   /home/biocbuild/bbs-3.14-bioc/R/bin/R CMD check --install=check:BioQC.install-out.txt --library=/home/biocbuild/bbs-3.14-bioc/R/library --no-vignettes --timings BioQC_1.22.0.tar.gz
###
##############################################################################
##############################################################################


* using log directory ‘/home/biocbuild/bbs-3.14-bioc/meat/BioQC.Rcheck’
* using R version 4.1.2 (2021-11-01)
* using platform: x86_64-pc-linux-gnu (64-bit)
* using session charset: UTF-8
* using option ‘--no-vignettes’
* checking for file ‘BioQC/DESCRIPTION’ ... OK
* checking extension type ... Package
* this is package ‘BioQC’ version ‘1.22.0’
* package encoding: UTF-8
* checking package namespace information ... OK
* checking package dependencies ... OK
* checking if this is a source package ... OK
* checking if there is a namespace ... OK
* checking for hidden files and directories ... OK
* checking for portable file names ... OK
* checking for sufficient/correct file permissions ... OK
* checking whether package ‘BioQC’ can be installed ... OK
* checking installed package size ... NOTE
  installed size is  5.5Mb
  sub-directories of 1Mb or more:
    extdata   3.9Mb
    libs      1.0Mb
* checking package directory ... OK
* checking ‘build’ directory ... OK
* checking DESCRIPTION meta-information ... OK
* checking top-level files ... OK
* checking for left-over files ... OK
* checking index information ... OK
* checking package subdirectories ... OK
* checking R files for non-ASCII characters ... OK
* checking R files for syntax errors ... OK
* checking whether the package can be loaded ... OK
* checking whether the package can be loaded with stated dependencies ... OK
* checking whether the package can be unloaded cleanly ... OK
* checking whether the namespace can be loaded with stated dependencies ... OK
* checking whether the namespace can be unloaded cleanly ... OK
* checking dependencies in R code ... OK
* checking S3 generic/method consistency ... OK
* checking replacement functions ... OK
* checking foreign function calls ... OK
* checking R code for possible problems ... OK
* checking Rd files ... OK
* checking Rd metadata ... OK
* checking Rd cross-references ... OK
* checking for missing documentation entries ... OK
* checking for code/documentation mismatches ... OK
* checking Rd \usage sections ... OK
* checking Rd contents ... OK
* checking for unstated dependencies in examples ... OK
* checking line endings in C/C++/Fortran sources/headers ... OK
* checking line endings in Makefiles ... OK
* checking compilation flags in Makevars ... OK
* checking for GNU extensions in Makefiles ... OK
* checking for portable use of $(BLAS_LIBS) and $(LAPACK_LIBS) ... OK
* checking use of PKG_*FLAGS in Makefiles ... OK
* checking compiled code ... NOTE
Note: information on .o files is not available
* checking files in ‘vignettes’ ... OK
* checking examples ... OK
* checking for unstated dependencies in ‘tests’ ... OK
* checking tests ...
  Running ‘testthat.R’
 OK
* checking for unstated dependencies in vignettes ... OK
* checking package vignettes in ‘inst/doc’ ... OK
* checking running R code from vignettes ... SKIPPED
* checking re-building of vignette outputs ... SKIPPED
* checking PDF version of manual ... OK
* DONE

Status: 2 NOTEs
See
  ‘/home/biocbuild/bbs-3.14-bioc/meat/BioQC.Rcheck/00check.log’
for details.



Installation output

BioQC.Rcheck/00install.out

##############################################################################
##############################################################################
###
### Running command:
###
###   /home/biocbuild/bbs-3.14-bioc/R/bin/R CMD INSTALL BioQC
###
##############################################################################
##############################################################################


* installing to library ‘/home/biocbuild/bbs-3.14-bioc/R/library’
* installing *source* package ‘BioQC’ ...
** using staged installation
** libs
gcc -I"/home/biocbuild/bbs-3.14-bioc/R/include" -DNDEBUG `/home/biocbuild/bbs-3.14-bioc/R/bin/Rscript -e 'Rcpp:::CxxFlags()'` -I'/home/biocbuild/bbs-3.14-bioc/R/library/Rcpp/include' -I/usr/local/include   -fpic  -g -O2  -Wall -c gini.c -o gini.o
gcc -I"/home/biocbuild/bbs-3.14-bioc/R/include" -DNDEBUG `/home/biocbuild/bbs-3.14-bioc/R/bin/Rscript -e 'Rcpp:::CxxFlags()'` -I'/home/biocbuild/bbs-3.14-bioc/R/library/Rcpp/include' -I/usr/local/include   -fpic  -g -O2  -Wall -c init.c -o init.o
g++ -std=gnu++14 -I"/home/biocbuild/bbs-3.14-bioc/R/include" -DNDEBUG `/home/biocbuild/bbs-3.14-bioc/R/bin/Rscript -e 'Rcpp:::CxxFlags()'` -I'/home/biocbuild/bbs-3.14-bioc/R/library/Rcpp/include' -I/usr/local/include   -fpic  -g -O2  -Wall -c read_gmt.cpp -o read_gmt.o
gcc -I"/home/biocbuild/bbs-3.14-bioc/R/include" -DNDEBUG `/home/biocbuild/bbs-3.14-bioc/R/bin/Rscript -e 'Rcpp:::CxxFlags()'` -I'/home/biocbuild/bbs-3.14-bioc/R/library/Rcpp/include' -I/usr/local/include   -fpic  -g -O2  -Wall -c stat_rank.c -o stat_rank.o
gcc -I"/home/biocbuild/bbs-3.14-bioc/R/include" -DNDEBUG `/home/biocbuild/bbs-3.14-bioc/R/bin/Rscript -e 'Rcpp:::CxxFlags()'` -I'/home/biocbuild/bbs-3.14-bioc/R/library/Rcpp/include' -I/usr/local/include   -fpic  -g -O2  -Wall -c wmw_test.c -o wmw_test.o
wmw_test.c: In function ‘wmw_test_list’:
wmw_test.c:118: warning: ignoring #pragma omp parallel [-Wunknown-pragmas]
  118 | #pragma omp parallel for
      | 
wmw_test.c: In function ‘wmw_test’:
wmw_test.c:168: warning: ignoring #pragma omp parallel [-Wunknown-pragmas]
  168 | #pragma omp parallel for
      | 
wmw_test.c: In function ‘signed_wmw_test_list’:
wmw_test.c:201: warning: ignoring #pragma omp parallel [-Wunknown-pragmas]
  201 | #pragma omp parallel for
      | 
wmw_test.c: In function ‘signed_wmw_test’:
wmw_test.c:270: warning: ignoring #pragma omp parallel [-Wunknown-pragmas]
  270 | #pragma omp parallel for
      | 
g++ -std=gnu++14 -shared -L/home/biocbuild/bbs-3.14-bioc/R/lib -L/usr/local/lib -o BioQC.so gini.o init.o read_gmt.o stat_rank.o wmw_test.o -L/home/biocbuild/bbs-3.14-bioc/R/lib -lR
installing to /home/biocbuild/bbs-3.14-bioc/R/library/00LOCK-BioQC/00new/BioQC/libs
** R
** inst
** byte-compile and prepare package for lazy loading
** help
*** installing help indices
*** copying figures
** building package indices
** installing vignettes
** testing if installed package can be loaded from temporary location
** checking absolute paths in shared objects and dynamic libraries
** testing if installed package can be loaded from final location
** testing if installed package keeps a record of temporary installation path
* DONE (BioQC)

Tests output

BioQC.Rcheck/tests/testthat.Rout


R version 4.1.2 (2021-11-01) -- "Bird Hippie"
Copyright (C) 2021 The R Foundation for Statistical Computing
Platform: x86_64-pc-linux-gnu (64-bit)

R is free software and comes with ABSOLUTELY NO WARRANTY.
You are welcome to redistribute it under certain conditions.
Type 'license()' or 'licence()' for distribution details.

R is a collaborative project with many contributors.
Type 'contributors()' for more information and
'citation()' on how to cite R or R packages in publications.

Type 'demo()' for some demos, 'help()' for on-line help, or
'help.start()' for an HTML browser interface to help.
Type 'q()' to quit R.

> library(testthat)
> library(BioQC)
Loading required package: Biobase
Loading required package: BiocGenerics

Attaching package: 'BiocGenerics'

The following objects are masked from 'package:stats':

    IQR, mad, sd, var, xtabs

The following objects are masked from 'package:base':

    Filter, Find, Map, Position, Reduce, anyDuplicated, append,
    as.data.frame, basename, cbind, colnames, dirname, do.call,
    duplicated, eval, evalq, get, grep, grepl, intersect, is.unsorted,
    lapply, mapply, match, mget, order, paste, pmax, pmax.int, pmin,
    pmin.int, rank, rbind, rownames, sapply, setdiff, sort, table,
    tapply, union, unique, unsplit, which.max, which.min

Welcome to Bioconductor

    Vignettes contain introductory material; view with
    'browseVignettes()'. To cite Bioconductor, see
    'citation("Biobase")', and for packages 'citation("pkgname")'.

> 
> test_check("BioQC")
[ FAIL 0 | WARN 0 | SKIP 0 | PASS 125 ]
> 
> proc.time()
   user  system elapsed 
  6.904   0.180   7.071 

Example timings

BioQC.Rcheck/BioQC-Ex.timings

nameusersystemelapsed
GmtList0.0020.0010.002
IndexList0.0040.0000.003
SignedGenesets0.0000.0000.001
SignedIndexList0.0020.0000.003
absLog10p0.0010.0000.001
appendGmtList0.0040.0000.004
as.GmtList0.0010.0000.000
entropy0.0010.0000.001
entropyDiversity0.0020.0000.003
entropySpecificity0.0030.0000.003
filterPmat0.0010.0000.000
getLeadingEdgeIndexFromVector0.0020.0000.002
gini000
gmtlist2signedGenesets0.0040.0000.003
matchGenes0.0740.0000.074
offset-set0.0010.0000.001
offset0.0000.0000.001
prettySigNames0.0510.0000.051
readCurrentSignatures0.0510.0030.055
readGmt0.0810.0000.082
readSignedGmt0.0050.0000.005
sampleSpecialization0.0040.0000.003
setNamespace0.0050.0000.005
simplifyMatrix000
sub-.GmtList0.0020.0000.001
sub-sub-.GmtList0.0010.0000.000
uniqGenesetsByNamespace0.0060.0000.006
wmwLeadingEdge0.0070.0000.007
wmwTest0.180.000.18
wmwTestInR0.0030.0000.004