Back to Multiple platform build/check report for BioC 3.14
A[B]CDEFGHIJKLMNOPQRSTUVWXYZ

This page was generated on 2021-10-22 12:04:19 -0400 (Fri, 22 Oct 2021).

INSTALL results for BioPlex on riesling1

To the developers/maintainers of the BioPlex package:
- Please allow up to 24 hours (and sometimes 48 hours) for your latest push to git@git.bioconductor.org:packages/BioPlex.git to
reflect on this report. See How and When does the builder pull? When will my changes propagate? here for more information.
- Make sure to use the following settings in order to reproduce any error or warning you see on this page.

raw results

Package 188/2075HostnameOS / ArchINSTALLBUILDCHECKBUILD BIN
BioPlex 0.99.14  (landing page)
Ludwig Geistlinger
Snapshot Date: 2021-10-21 14:50:08 -0400 (Thu, 21 Oct 2021)
git_url: https://git.bioconductor.org/packages/BioPlex
git_branch: master
git_last_commit: 4acc1ed
git_last_commit_date: 2021-08-31 14:55:42 -0400 (Tue, 31 Aug 2021)
nebbiolo2Linux (Ubuntu 20.04.2 LTS) / x86_64  OK    OK    OK  UNNEEDED, same version is already published
riesling1Windows Server 2019 Standard / x64  OK    ERROR  skippedskipped
merida1macOS 10.14.6 Mojave / x86_64  OK    OK    OK    OK  UNNEEDED, same version is already published

Summary

Package: BioPlex
Version: 0.99.14
Command: C:\cygwin\bin\curl.exe -O http://155.52.207.166/BBS/3.14/bioc/src/contrib/BioPlex_0.99.14.tar.gz && rm -rf BioPlex.buildbin-libdir && mkdir BioPlex.buildbin-libdir && D:\biocbuild\bbs-3.14-bioc\R\bin\R.exe CMD INSTALL --merge-multiarch --build --library=BioPlex.buildbin-libdir BioPlex_0.99.14.tar.gz && D:\biocbuild\bbs-3.14-bioc\R\bin\R.exe CMD INSTALL BioPlex_0.99.14.zip && rm BioPlex_0.99.14.tar.gz BioPlex_0.99.14.zip
StartedAt: 2021-10-21 18:38:29 -0400 (Thu, 21 Oct 2021)
EndedAt: 2021-10-21 18:41:28 -0400 (Thu, 21 Oct 2021)
EllapsedTime: 179.2 seconds
RetCode: 0
Status:   OK  

Command output

##############################################################################
##############################################################################
###
### Running command:
###
###   C:\cygwin\bin\curl.exe -O http://155.52.207.166/BBS/3.14/bioc/src/contrib/BioPlex_0.99.14.tar.gz && rm -rf BioPlex.buildbin-libdir && mkdir BioPlex.buildbin-libdir && D:\biocbuild\bbs-3.14-bioc\R\bin\R.exe CMD INSTALL --merge-multiarch --build --library=BioPlex.buildbin-libdir BioPlex_0.99.14.tar.gz && D:\biocbuild\bbs-3.14-bioc\R\bin\R.exe CMD INSTALL BioPlex_0.99.14.zip && rm BioPlex_0.99.14.tar.gz BioPlex_0.99.14.zip
###
##############################################################################
##############################################################################


  % Total    % Received % Xferd  Average Speed   Time    Time     Time  Current
                                 Dload  Upload   Total   Spent    Left  Speed

  0     0    0     0    0     0      0      0 --:--:-- --:--:-- --:--:--     0
100 20110  100 20110    0     0   170k      0 --:--:-- --:--:-- --:--:--  170k

install for i386

* installing *source* package 'BioPlex' ...
** using staged installation
** R
** inst
** byte-compile and prepare package for lazy loading
** help
*** installing help indices
  converting help for package 'BioPlex'
    finding HTML links ... done
    annotatePFAM                            html  
    finding level-2 HTML links ... done

    bioplex2graph                           html  
    ccleProteome2SummarizedExperiment       html  
    corum2graphlist                         html  
    corum2list                              html  
    getBioPlex                              html  
    getBioplexProteome                      html  
    getCorum                                html  
    getGSE122425                            html  
    hasSubunit                              html  
    mapSummarizedExperimentOntoGraph        html  
** building package indices
** installing vignettes
** testing if installed package can be loaded from temporary location
** testing if installed package can be loaded from final location
** testing if installed package keeps a record of temporary installation path

install for x64

* installing *source* package 'BioPlex' ...
** testing if installed package can be loaded
* MD5 sums
packaged installation of 'BioPlex' as BioPlex_0.99.14.zip
* DONE (BioPlex)
* installing to library 'D:/biocbuild/bbs-3.14-bioc/R/library'
package 'BioPlex' successfully unpacked and MD5 sums checked