Back to Multiple platform build/check report for BioC 3.14
A[B]CDEFGHIJKLMNOPQRSTUVWXYZ

This page was generated on 2021-10-25 14:06:51 -0400 (Mon, 25 Oct 2021).

BUILD BIN results for BioPlex on merida1

To the developers/maintainers of the BioPlex package:
- Please allow up to 24 hours (and sometimes 48 hours) for your latest push to git@git.bioconductor.org:packages/BioPlex.git to
reflect on this report. See How and When does the builder pull? When will my changes propagate? here for more information.
- Make sure to use the following settings in order to reproduce any error or warning you see on this page.

raw results

Package 190/2083HostnameOS / ArchINSTALLBUILDCHECKBUILD BIN
BioPlex 0.99.14  (landing page)
Ludwig Geistlinger
Snapshot Date: 2021-10-24 14:50:04 -0400 (Sun, 24 Oct 2021)
git_url: https://git.bioconductor.org/packages/BioPlex
git_branch: master
git_last_commit: 4acc1ed
git_last_commit_date: 2021-08-31 14:55:42 -0400 (Tue, 31 Aug 2021)
nebbiolo2Linux (Ubuntu 20.04.2 LTS) / x86_64  OK    OK    OK  UNNEEDED, same version is already published
riesling1Windows Server 2019 Standard / x64  OK    ERROR  skippedskipped
merida1macOS 10.14.6 Mojave / x86_64  OK    OK    OK    OK  UNNEEDED, same version is already published
machv2macOS 10.14.6 Mojave / x86_64  OK    OK    OK    OK  

Summary

Package: BioPlex
Version: 0.99.14
Command: rm -rf BioPlex.buildbin-libdir && mkdir BioPlex.buildbin-libdir && /Users/biocbuild/BBS/utils/build-universal.sh BioPlex_0.99.14.tar.gz /Library/Frameworks/R.framework/Resources/bin/R BioPlex.buildbin-libdir
StartedAt: 2021-10-25 10:51:39 -0400 (Mon, 25 Oct 2021)
EndedAt: 2021-10-25 10:52:45 -0400 (Mon, 25 Oct 2021)
EllapsedTime: 65.3 seconds
RetCode: 0
Status:   OK  
PackageFile: BioPlex_0.99.14.tgz
PackageFileSize: 717.4 KiB

Command output

##############################################################################
##############################################################################
###
### Running command:
###
###   rm -rf BioPlex.buildbin-libdir && mkdir BioPlex.buildbin-libdir && /Users/biocbuild/BBS/utils/build-universal.sh BioPlex_0.99.14.tar.gz /Library/Frameworks/R.framework/Resources/bin/R BioPlex.buildbin-libdir
###
##############################################################################
##############################################################################


>>>>>>> 
>>>>>>> INSTALLATION WITH 'R CMD INSTALL --preclean --no-multiarch --library=BioPlex.buildbin-libdir BioPlex_0.99.14.tar.gz'
>>>>>>> 

* installing *source* package ‘BioPlex’ ...
** using staged installation
** R
** inst
** byte-compile and prepare package for lazy loading
** help
*** installing help indices
** building package indices
** installing vignettes
** testing if installed package can be loaded from temporary location
** testing if installed package can be loaded from final location
** testing if installed package keeps a record of temporary installation path
* DONE (BioPlex)