Back to Multiple platform build/check report for BioC 3.14
A[B]CDEFGHIJKLMNOPQRSTUVWXYZ

This page was generated on 2021-10-19 12:03:57 -0400 (Tue, 19 Oct 2021).

All results for package BioPlex

To the developers/maintainers of the BioPlex package:
- Please allow up to 24 hours (and sometimes 48 hours) for your latest push to git@git.bioconductor.org:packages/BioPlex.git to
reflect on this report. See How and When does the builder pull? When will my changes propagate? here for more information.
- Make sure to use the following settings in order to reproduce any error or warning you see on this page.

raw results

Package 186/2060HostnameOS / ArchINSTALLBUILDCHECKBUILD BIN
BioPlex 0.99.14  (landing page)
Ludwig Geistlinger
Snapshot Date: 2021-10-18 14:50:10 -0400 (Mon, 18 Oct 2021)
git_url: https://git.bioconductor.org/packages/BioPlex
git_branch: master
git_last_commit: 4acc1ed
git_last_commit_date: 2021-08-31 14:55:42 -0400 (Tue, 31 Aug 2021)
nebbiolo2Linux (Ubuntu 20.04.2 LTS) / x86_64  OK    OK    OK  UNNEEDED, same version is already published
riesling1Windows Server 2019 Standard / x64  OK    ERROR  skippedskipped
merida1macOS 10.14.6 Mojave / x86_64  OK    OK    OK    OK  UNNEEDED, same version is already published