Back to Multiple platform build/check report for BioC 3.14
A[B]CDEFGHIJKLMNOPQRSTUVWXYZ

This page was generated on 2021-10-21 12:04:13 -0400 (Thu, 21 Oct 2021).

BUILD results for BioNetStat on nebbiolo2

To the developers/maintainers of the BioNetStat package:
- Please allow up to 24 hours (and sometimes 48 hours) for your latest push to git@git.bioconductor.org:packages/BioNetStat.git to
reflect on this report. See How and When does the builder pull? When will my changes propagate? here for more information.
- Make sure to use the following settings in order to reproduce any error or warning you see on this page.

raw results

Package 187/2075HostnameOS / ArchINSTALLBUILDCHECKBUILD BIN
BioNetStat 1.13.0  (landing page)
Vinicius Jardim
Snapshot Date: 2021-10-20 14:50:05 -0400 (Wed, 20 Oct 2021)
git_url: https://git.bioconductor.org/packages/BioNetStat
git_branch: master
git_last_commit: 85644a4
git_last_commit_date: 2021-05-19 12:35:18 -0400 (Wed, 19 May 2021)
nebbiolo2Linux (Ubuntu 20.04.2 LTS) / x86_64  OK    OK    OK  UNNEEDED, same version is already published
riesling1Windows Server 2019 Standard / x64  OK    OK    OK    OK  UNNEEDED, same version is already published
merida1macOS 10.14.6 Mojave / x86_64  OK    OK    OK    OK  UNNEEDED, same version is already published

Summary

Package: BioNetStat
Version: 1.13.0
Command: /home/biocbuild/bbs-3.14-bioc/R/bin/R CMD build --keep-empty-dirs --no-resave-data BioNetStat
StartedAt: 2021-10-20 16:52:32 -0400 (Wed, 20 Oct 2021)
EndedAt: 2021-10-20 16:52:55 -0400 (Wed, 20 Oct 2021)
EllapsedTime: 22.3 seconds
RetCode: 0
Status:   OK  
PackageFile: BioNetStat_1.13.0.tar.gz
PackageFileSize: 2.879 MiB

Command output

##############################################################################
##############################################################################
###
### Running command:
###
###   /home/biocbuild/bbs-3.14-bioc/R/bin/R CMD build --keep-empty-dirs --no-resave-data BioNetStat
###
##############################################################################
##############################################################################


* checking for file ‘BioNetStat/DESCRIPTION’ ... OK
* preparing ‘BioNetStat’:
* checking DESCRIPTION meta-information ... OK
* installing the package to build vignettes
* creating vignettes ... OK
* checking for LF line-endings in source and make files and shell scripts
* checking for empty or unneeded directories
* looking to see if a ‘data/datalist’ file should be added
* building ‘BioNetStat_1.13.0.tar.gz’