Back to Multiple platform build/check report for BioC 3.14
A[B]CDEFGHIJKLMNOPQRSTUVWXYZ

This page was generated on 2021-10-20 12:05:34 -0400 (Wed, 20 Oct 2021).

BUILD BIN results for BioNetStat on merida1

To the developers/maintainers of the BioNetStat package:
- Please allow up to 24 hours (and sometimes 48 hours) for your latest push to git@git.bioconductor.org:packages/BioNetStat.git to
reflect on this report. See How and When does the builder pull? When will my changes propagate? here for more information.
- Make sure to use the following settings in order to reproduce any error or warning you see on this page.

raw results

Package 187/2072HostnameOS / ArchINSTALLBUILDCHECKBUILD BIN
BioNetStat 1.13.0  (landing page)
Vinicius Jardim
Snapshot Date: 2021-10-19 14:50:04 -0400 (Tue, 19 Oct 2021)
git_url: https://git.bioconductor.org/packages/BioNetStat
git_branch: master
git_last_commit: 85644a4
git_last_commit_date: 2021-05-19 12:35:18 -0400 (Wed, 19 May 2021)
nebbiolo2Linux (Ubuntu 20.04.2 LTS) / x86_64  OK    OK    OK  UNNEEDED, same version is already published
riesling1Windows Server 2019 Standard / x64  OK    OK    OK    OK  UNNEEDED, same version is already published
merida1macOS 10.14.6 Mojave / x86_64  OK    OK    OK    OK  UNNEEDED, same version is already published

Summary

Package: BioNetStat
Version: 1.13.0
Command: rm -rf BioNetStat.buildbin-libdir && mkdir BioNetStat.buildbin-libdir && /Users/biocbuild/BBS/utils/build-universal.sh BioNetStat_1.13.0.tar.gz /Library/Frameworks/R.framework/Resources/bin/R BioNetStat.buildbin-libdir
StartedAt: 2021-10-20 11:08:18 -0400 (Wed, 20 Oct 2021)
EndedAt: 2021-10-20 11:09:13 -0400 (Wed, 20 Oct 2021)
EllapsedTime: 55.6 seconds
RetCode: 0
Status:   OK  
PackageFile: BioNetStat_1.13.0.tgz
PackageFileSize: 3.003 MiB

Command output

##############################################################################
##############################################################################
###
### Running command:
###
###   rm -rf BioNetStat.buildbin-libdir && mkdir BioNetStat.buildbin-libdir && /Users/biocbuild/BBS/utils/build-universal.sh BioNetStat_1.13.0.tar.gz /Library/Frameworks/R.framework/Resources/bin/R BioNetStat.buildbin-libdir
###
##############################################################################
##############################################################################


>>>>>>> 
>>>>>>> INSTALLATION WITH 'R CMD INSTALL --preclean --no-multiarch --library=BioNetStat.buildbin-libdir BioNetStat_1.13.0.tar.gz'
>>>>>>> 

* installing *source* package ‘BioNetStat’ ...
** using staged installation
** R
** data
** inst
** byte-compile and prepare package for lazy loading
** help
*** installing help indices
** building package indices
** installing vignettes
** testing if installed package can be loaded from temporary location
** testing if installed package can be loaded from final location
** testing if installed package keeps a record of temporary installation path
* DONE (BioNetStat)