Back to Multiple platform build/check report for BioC 3.14
A[B]CDEFGHIJKLMNOPQRSTUVWXYZ

This page was generated on 2021-10-22 12:04:19 -0400 (Fri, 22 Oct 2021).

BUILD BIN results for BioNet on riesling1

To the developers/maintainers of the BioNet package:
- Please allow up to 24 hours (and sometimes 48 hours) for your latest push to git@git.bioconductor.org:packages/BioNet.git to
reflect on this report. See How and When does the builder pull? When will my changes propagate? here for more information.
- Make sure to use the following settings in order to reproduce any error or warning you see on this page.

raw results

Package 186/2075HostnameOS / ArchINSTALLBUILDCHECKBUILD BIN
BioNet 1.53.0  (landing page)
Marcus Dittrich
Snapshot Date: 2021-10-21 14:50:08 -0400 (Thu, 21 Oct 2021)
git_url: https://git.bioconductor.org/packages/BioNet
git_branch: master
git_last_commit: 03b89bc
git_last_commit_date: 2021-05-19 11:46:01 -0400 (Wed, 19 May 2021)
nebbiolo2Linux (Ubuntu 20.04.2 LTS) / x86_64  OK    OK    OK  UNNEEDED, same version is already published
riesling1Windows Server 2019 Standard / x64  OK    OK    OK    OK  UNNEEDED, same version is already published
merida1macOS 10.14.6 Mojave / x86_64  OK    OK    OK    OK  UNNEEDED, same version is already published

Summary

Package: BioNet
Version: 1.53.0
Command: rm -rf BioNet.buildbin-libdir && mkdir BioNet.buildbin-libdir && D:\biocbuild\bbs-3.14-bioc\R\bin\R.exe CMD INSTALL --merge-multiarch --build --library=BioNet.buildbin-libdir BioNet_1.53.0.tar.gz
StartedAt: 2021-10-22 04:36:04 -0400 (Fri, 22 Oct 2021)
EndedAt: 2021-10-22 04:40:00 -0400 (Fri, 22 Oct 2021)
EllapsedTime: 236.8 seconds
RetCode: 0
Status:   OK  
PackageFile: BioNet_1.53.0.zip
PackageFileSize: 1.458 MiB

Command output

##############################################################################
##############################################################################
###
### Running command:
###
###   rm -rf BioNet.buildbin-libdir && mkdir BioNet.buildbin-libdir && D:\biocbuild\bbs-3.14-bioc\R\bin\R.exe CMD INSTALL --merge-multiarch --build --library=BioNet.buildbin-libdir BioNet_1.53.0.tar.gz
###
##############################################################################
##############################################################################



install for i386

* installing *source* package 'BioNet' ...
** using staged installation
** R
** data
** inst
** byte-compile and prepare package for lazy loading
** help
*** installing help indices
  converting help for package 'BioNet'
    finding HTML links ... done
    BioNet-package                          html  
    aggrPvals                               html  
    bumOptim                                html  
    compareNetworks                         html  
    consensusScores                         html  
    fbum                                    html  
    fbumLL                                  html  
    fdrThreshold                            html  
    fitBumModel                             html  
    getCompScores                           html  
    getEdgeList                             html  
    hist.bum                                html  
    largestComp                             html  
    largestScoreComp                        html  
    loadNetwork.sif                         html  
    loadNetwork.tab                         html  
    makeNetwork                             html  
    mapByVar                                html  
    permutateNodes                          html  
    piUpper                                 html  
    plot.bum                                html  
    plot3dModule                            html  
    plotLLSurface                           html  
    plotModule                              html  
    print.bum                               html  
    pvaluesExample                          html  
    readHeinzGraph                          html  
    readHeinzTree                           html  
    resamplingPvalues                       html  
    rmSelfLoops                             html  
    runFastHeinz                            html  
    runHeinz                                html  
    save3dModule                            html  
    saveNetwork                             html  
    scanFDR                                 html  
    scoreFunction                           html  
    scoreNodes                              html  
    scoreOffset                             html  
    sortedEdgeList                          html  
    subNetwork                              html  
    summary.bum                             html  
    writeHeinz                              html  
    writeHeinzEdges                         html  
    writeHeinzNodes                         html  
** building package indices
** installing vignettes
** testing if installed package can be loaded from temporary location
** testing if installed package can be loaded from final location
** testing if installed package keeps a record of temporary installation path

install for x64

* installing *source* package 'BioNet' ...
** testing if installed package can be loaded
* MD5 sums
packaged installation of 'BioNet' as BioNet_1.53.0.zip
* DONE (BioNet)