Back to Multiple platform build/check report for BioC 3.14
A[B]CDEFGHIJKLMNOPQRSTUVWXYZ

This page was generated on 2021-10-20 12:05:34 -0400 (Wed, 20 Oct 2021).

BUILD results for BioNet on merida1

To the developers/maintainers of the BioNet package:
- Please allow up to 24 hours (and sometimes 48 hours) for your latest push to git@git.bioconductor.org:packages/BioNet.git to
reflect on this report. See How and When does the builder pull? When will my changes propagate? here for more information.
- Make sure to use the following settings in order to reproduce any error or warning you see on this page.

raw results

Package 186/2072HostnameOS / ArchINSTALLBUILDCHECKBUILD BIN
BioNet 1.53.0  (landing page)
Marcus Dittrich
Snapshot Date: 2021-10-19 14:50:04 -0400 (Tue, 19 Oct 2021)
git_url: https://git.bioconductor.org/packages/BioNet
git_branch: master
git_last_commit: 03b89bc
git_last_commit_date: 2021-05-19 11:46:01 -0400 (Wed, 19 May 2021)
nebbiolo2Linux (Ubuntu 20.04.2 LTS) / x86_64  OK    OK    OK  UNNEEDED, same version is already published
riesling1Windows Server 2019 Standard / x64  OK    OK    OK    OK  UNNEEDED, same version is already published
merida1macOS 10.14.6 Mojave / x86_64  OK    OK    OK    OK  UNNEEDED, same version is already published

Summary

Package: BioNet
Version: 1.53.0
Command: /Library/Frameworks/R.framework/Resources/bin/R CMD build --keep-empty-dirs --no-resave-data BioNet
StartedAt: 2021-10-19 18:47:21 -0400 (Tue, 19 Oct 2021)
EndedAt: 2021-10-19 18:48:50 -0400 (Tue, 19 Oct 2021)
EllapsedTime: 89.6 seconds
RetCode: 0
Status:   OK  
PackageFile: BioNet_1.53.0.tar.gz
PackageFileSize: 1.699 MiB

Command output

##############################################################################
##############################################################################
###
### Running command:
###
###   /Library/Frameworks/R.framework/Resources/bin/R CMD build --keep-empty-dirs --no-resave-data BioNet
###
##############################################################################
##############################################################################


* checking for file ‘BioNet/DESCRIPTION’ ... OK
* preparing ‘BioNet’:
* checking DESCRIPTION meta-information ... OK
* installing the package to build vignettes
* creating vignettes ... OK
* checking for LF line-endings in source and make files and shell scripts
* checking for empty or unneeded directories
* looking to see if a ‘data/datalist’ file should be added
* building ‘BioNet_1.53.0.tar.gz’