Back to Multiple platform build/check report for BioC 3.14
A[B]CDEFGHIJKLMNOPQRSTUVWXYZ

This page was generated on 2021-10-22 12:04:19 -0400 (Fri, 22 Oct 2021).

BUILD BIN results for BioNERO on riesling1

To the developers/maintainers of the BioNERO package:
- Please allow up to 24 hours (and sometimes 48 hours) for your latest push to git@git.bioconductor.org:packages/BioNERO.git to
reflect on this report. See How and When does the builder pull? When will my changes propagate? here for more information.
- Make sure to use the following settings in order to reproduce any error or warning you see on this page.

raw results

Package 185/2075HostnameOS / ArchINSTALLBUILDCHECKBUILD BIN
BioNERO 1.1.7  (landing page)
Fabricio Almeida-Silva
Snapshot Date: 2021-10-21 14:50:08 -0400 (Thu, 21 Oct 2021)
git_url: https://git.bioconductor.org/packages/BioNERO
git_branch: master
git_last_commit: 2d7b1c1
git_last_commit_date: 2021-10-20 21:30:07 -0400 (Wed, 20 Oct 2021)
nebbiolo2Linux (Ubuntu 20.04.2 LTS) / x86_64  OK    OK    OK  YES
riesling1Windows Server 2019 Standard / x64  OK    OK    OK    OK  YES
merida1macOS 10.14.6 Mojave / x86_64  OK    OK    OK    OK  YES

Summary

Package: BioNERO
Version: 1.1.7
Command: rm -rf BioNERO.buildbin-libdir && mkdir BioNERO.buildbin-libdir && D:\biocbuild\bbs-3.14-bioc\R\bin\R.exe CMD INSTALL --merge-multiarch --build --library=BioNERO.buildbin-libdir BioNERO_1.1.7.tar.gz
StartedAt: 2021-10-22 04:35:55 -0400 (Fri, 22 Oct 2021)
EndedAt: 2021-10-22 04:39:54 -0400 (Fri, 22 Oct 2021)
EllapsedTime: 239.0 seconds
RetCode: 0
Status:   OK  
PackageFile: BioNERO_1.1.7.zip
PackageFileSize: 3.857 MiB

Command output

##############################################################################
##############################################################################
###
### Running command:
###
###   rm -rf BioNERO.buildbin-libdir && mkdir BioNERO.buildbin-libdir && D:\biocbuild\bbs-3.14-bioc\R\bin\R.exe CMD INSTALL --merge-multiarch --build --library=BioNERO.buildbin-libdir BioNERO_1.1.7.tar.gz
###
##############################################################################
##############################################################################



install for i386

* installing *source* package 'BioNERO' ...
** using staged installation
** R
** data
** inst
** byte-compile and prepare package for lazy loading
** help
*** installing help indices
  converting help for package 'BioNERO'
    finding HTML links ... done
    PC_correction                           html  
    SFT_fit                                 html  
    ZKfiltering                             html  
    check_SFT                               html  
    consensus_SFT_fit                       html  
    consensus_modules                       html  
    consensus_trait_cor                     html  
    cormat_to_edgelist                      html  
    detect_communities                      html  
    dfs2one                                 html  
    enrichment_analysis                     html  
    exp2gcn                                 html  
    exp2grn                                 html  
    exp_genes2orthogroups                   html  
    exp_preprocess                          html  
    filt.se                                 html  
    filter_by_variance                      html  
    gene_significance                       html  
    get_HK                                  html  
    get_edge_list                           html  
    get_hubs_gcn                            html  
    get_hubs_grn                            html  
    get_neighbors                           html  
    grn_average_rank                        html  
    grn_combined                            html  
    grn_filter                              html  
    grn_infer                               html  
    is_singleton                            html  
    modPres_WGCNA                           html  
    modPres_netrep                          html  
    module_enrichment                       html  
    module_preservation                     html  
    module_stability                        html  
    module_trait_cor                        html  
    net_stats                               html  
    og.zma.osa                              html  
    osa.se                                  html  
    parse_orthofinder                       html  
    plot_PCA                                html  
    plot_dendro_and_colors                  html  
    plot_dendro_and_cons_colors             html  
    plot_eigengene_network                  html  
    plot_expression_profile                 html  
    plot_gcn                                html  
    plot_grn                                html  
    plot_heatmap                            html  
    plot_ngenes_per_module                  html  
    plot_ppi                                html  
    q_normalize                             html  
    remove_nonexp                           html  
    replace_na                              html  
    zma.interpro                            html  
    zma.se                                  html  
    zma.tfs                                 html  
*** copying figures
** building package indices
** installing vignettes
** testing if installed package can be loaded from temporary location
** testing if installed package can be loaded from final location
** testing if installed package keeps a record of temporary installation path

install for x64

* installing *source* package 'BioNERO' ...
** testing if installed package can be loaded
* MD5 sums
packaged installation of 'BioNERO' as BioNERO_1.1.7.zip
* DONE (BioNERO)