Back to Multiple platform build/check report for BioC 3.14
A[B]CDEFGHIJKLMNOPQRSTUVWXYZ

This page was generated on 2021-10-25 14:06:51 -0400 (Mon, 25 Oct 2021).

BUILD results for BioNERO on merida1

To the developers/maintainers of the BioNERO package:
- Please allow up to 24 hours (and sometimes 48 hours) for your latest push to git@git.bioconductor.org:packages/BioNERO.git to
reflect on this report. See How and When does the builder pull? When will my changes propagate? here for more information.
- Make sure to use the following settings in order to reproduce any error or warning you see on this page.

raw results

Package 187/2083HostnameOS / ArchINSTALLBUILDCHECKBUILD BIN
BioNERO 1.1.7  (landing page)
Fabricio Almeida-Silva
Snapshot Date: 2021-10-24 14:50:04 -0400 (Sun, 24 Oct 2021)
git_url: https://git.bioconductor.org/packages/BioNERO
git_branch: master
git_last_commit: 2d7b1c1
git_last_commit_date: 2021-10-20 21:30:07 -0400 (Wed, 20 Oct 2021)
nebbiolo2Linux (Ubuntu 20.04.2 LTS) / x86_64  OK    OK    OK  UNNEEDED, same version is already published
riesling1Windows Server 2019 Standard / x64  OK    OK    OK    OK  UNNEEDED, same version is already published
merida1macOS 10.14.6 Mojave / x86_64  OK    OK    OK    OK  UNNEEDED, same version is already published
machv2macOS 10.14.6 Mojave / x86_64  OK    OK    OK    OK  

Summary

Package: BioNERO
Version: 1.1.7
Command: /Library/Frameworks/R.framework/Resources/bin/R CMD build --keep-empty-dirs --no-resave-data BioNERO
StartedAt: 2021-10-24 18:47:02 -0400 (Sun, 24 Oct 2021)
EndedAt: 2021-10-24 18:54:09 -0400 (Sun, 24 Oct 2021)
EllapsedTime: 426.8 seconds
RetCode: 0
Status:   OK  
PackageFile: BioNERO_1.1.7.tar.gz
PackageFileSize: 4.335 MiB

Command output

##############################################################################
##############################################################################
###
### Running command:
###
###   /Library/Frameworks/R.framework/Resources/bin/R CMD build --keep-empty-dirs --no-resave-data BioNERO
###
##############################################################################
##############################################################################


* checking for file ‘BioNERO/DESCRIPTION’ ... OK
* preparing ‘BioNERO’:
* checking DESCRIPTION meta-information ... OK
* installing the package to build vignettes
* creating vignettes ... OK
* checking for LF line-endings in source and make files and shell scripts
* checking for empty or unneeded directories
* looking to see if a ‘data/datalist’ file should be added
* building ‘BioNERO_1.1.7.tar.gz’