Back to Multiple platform build/check report for BioC 3.14
A[B]CDEFGHIJKLMNOPQRSTUVWXYZ

This page was generated on 2021-10-19 12:05:20 -0400 (Tue, 19 Oct 2021).

BUILD results for BioMVCClass on merida1

To the developers/maintainers of the BioMVCClass package:
- Please allow up to 24 hours (and sometimes 48 hours) for your latest push to git@git.bioconductor.org:packages/BioMVCClass.git to
reflect on this report. See How and When does the builder pull? When will my changes propagate? here for more information.
- Make sure to use the following settings in order to reproduce any error or warning you see on this page.

raw results

Package 181/2060HostnameOS / ArchINSTALLBUILDCHECKBUILD BIN
BioMVCClass 1.61.0  (landing page)
Elizabeth Whalen
Snapshot Date: 2021-10-18 14:50:10 -0400 (Mon, 18 Oct 2021)
git_url: https://git.bioconductor.org/packages/BioMVCClass
git_branch: master
git_last_commit: 0590fa5
git_last_commit_date: 2021-05-19 11:37:57 -0400 (Wed, 19 May 2021)
nebbiolo2Linux (Ubuntu 20.04.2 LTS) / x86_64  OK    OK    OK  UNNEEDED, same version is already published
riesling1Windows Server 2019 Standard / x64  OK    OK    OK    OK  UNNEEDED, same version is already published
merida1macOS 10.14.6 Mojave / x86_64  OK    OK    OK    OK  UNNEEDED, same version is already published

Summary

Package: BioMVCClass
Version: 1.61.0
Command: /Library/Frameworks/R.framework/Resources/bin/R CMD build --keep-empty-dirs --no-resave-data BioMVCClass
StartedAt: 2021-10-18 18:43:26 -0400 (Mon, 18 Oct 2021)
EndedAt: 2021-10-18 18:43:37 -0400 (Mon, 18 Oct 2021)
EllapsedTime: 11.4 seconds
RetCode: 0
Status:   OK  
PackageFile: BioMVCClass_1.61.0.tar.gz
PackageFileSize: 161.9 KiB

Command output

##############################################################################
##############################################################################
###
### Running command:
###
###   /Library/Frameworks/R.framework/Resources/bin/R CMD build --keep-empty-dirs --no-resave-data BioMVCClass
###
##############################################################################
##############################################################################


* checking for file ‘BioMVCClass/DESCRIPTION’ ... OK
* preparing ‘BioMVCClass’:
* checking DESCRIPTION meta-information ... OK
* installing the package to build vignettes
* creating vignettes ... OK
* checking for LF line-endings in source and make files and shell scripts
* checking for empty or unneeded directories
* building ‘BioMVCClass_1.61.0.tar.gz’