Back to Multiple platform build/check report for BioC 3.14
A[B]CDEFGHIJKLMNOPQRSTUVWXYZ

This page was generated on 2021-12-03 13:05:40 -0500 (Fri, 03 Dec 2021).

INSTALL results for BioMVCClass on machv2

To the developers/maintainers of the BioMVCClass package:
- Please allow up to 24 hours (and sometimes 48 hours) for your latest push to git@git.bioconductor.org:packages/BioMVCClass.git to
reflect on this report. See How and When does the builder pull? When will my changes propagate? here for more information.
- Make sure to use the following settings in order to reproduce any error or warning you see on this page.

raw results

Package 185/2083HostnameOS / ArchINSTALLBUILDCHECKBUILD BIN
BioMVCClass 1.62.0  (landing page)
Elizabeth Whalen
Snapshot Date: 2021-12-02 01:55:06 -0500 (Thu, 02 Dec 2021)
git_url: https://git.bioconductor.org/packages/BioMVCClass
git_branch: RELEASE_3_14
git_last_commit: 346bc9e
git_last_commit_date: 2021-10-26 11:50:10 -0500 (Tue, 26 Oct 2021)
nebbiolo2Linux (Ubuntu 20.04.3 LTS) / x86_64  OK    OK    OK  UNNEEDED, same version is already published
tokay2Windows Server 2012 R2 Standard / x64  OK    OK    OK    OK  UNNEEDED, same version is already published
machv2macOS 10.14.6 Mojave / x86_64  OK    OK    OK    OK  UNNEEDED, same version is already published

Summary

Package: BioMVCClass
Version: 1.62.0
Command: /Library/Frameworks/R.framework/Resources/bin/R CMD INSTALL BioMVCClass
StartedAt: 2021-12-02 03:47:12 -0500 (Thu, 02 Dec 2021)
EndedAt: 2021-12-02 03:48:07 -0500 (Thu, 02 Dec 2021)
EllapsedTime: 55.2 seconds
RetCode: 0
Status:   OK  

Command output

##############################################################################
##############################################################################
###
### Running command:
###
###   /Library/Frameworks/R.framework/Resources/bin/R CMD INSTALL BioMVCClass
###
##############################################################################
##############################################################################


* installing to library ‘/Library/Frameworks/R.framework/Versions/4.1/Resources/library’
* installing *source* package ‘BioMVCClass’ ...
** using staged installation
** R
** byte-compile and prepare package for lazy loading
** help
*** installing help indices
** building package indices
** installing vignettes
** testing if installed package can be loaded from temporary location
** testing if installed package can be loaded from final location
** testing if installed package keeps a record of temporary installation path
* DONE (BioMVCClass)