Back to Multiple platform build/check report for BioC 3.14
A[B]CDEFGHIJKLMNOPQRSTUVWXYZ

This page was generated on 2021-10-25 14:06:07 -0400 (Mon, 25 Oct 2021).

BUILD BIN results for BioMM on riesling1

To the developers/maintainers of the BioMM package:
- Please allow up to 24 hours (and sometimes 48 hours) for your latest push to git@git.bioconductor.org:packages/BioMM.git to
reflect on this report. See How and When does the builder pull? When will my changes propagate? here for more information.
- Make sure to use the following settings in order to reproduce any error or warning you see on this page.

raw results

Package 184/2083HostnameOS / ArchINSTALLBUILDCHECKBUILD BIN
BioMM 1.9.0  (landing page)
Junfang Chen
Snapshot Date: 2021-10-24 14:50:04 -0400 (Sun, 24 Oct 2021)
git_url: https://git.bioconductor.org/packages/BioMM
git_branch: master
git_last_commit: 8ca46fd
git_last_commit_date: 2021-05-19 12:41:03 -0400 (Wed, 19 May 2021)
nebbiolo2Linux (Ubuntu 20.04.2 LTS) / x86_64  OK    OK    OK  UNNEEDED, same version is already published
riesling1Windows Server 2019 Standard / x64  OK    OK    OK    OK  UNNEEDED, same version is already published
merida1macOS 10.14.6 Mojave / x86_64  OK    OK    OK    OK  UNNEEDED, same version is already published
machv2macOS 10.14.6 Mojave / x86_64  OK    OK    OK    OK  

Summary

Package: BioMM
Version: 1.9.0
Command: rm -rf BioMM.buildbin-libdir && mkdir BioMM.buildbin-libdir && D:\biocbuild\bbs-3.14-bioc\R\bin\R.exe CMD INSTALL --merge-multiarch --build --library=BioMM.buildbin-libdir BioMM_1.9.0.tar.gz
StartedAt: 2021-10-25 04:38:36 -0400 (Mon, 25 Oct 2021)
EndedAt: 2021-10-25 04:42:40 -0400 (Mon, 25 Oct 2021)
EllapsedTime: 244.0 seconds
RetCode: 0
Status:   OK  
PackageFile: BioMM_1.9.0.zip
PackageFileSize: 2.954 MiB

Command output

##############################################################################
##############################################################################
###
### Running command:
###
###   rm -rf BioMM.buildbin-libdir && mkdir BioMM.buildbin-libdir && D:\biocbuild\bbs-3.14-bioc\R\bin\R.exe CMD INSTALL --merge-multiarch --build --library=BioMM.buildbin-libdir BioMM_1.9.0.tar.gz
###
##############################################################################
##############################################################################



install for i386

* installing *source* package 'BioMM' ...
** using staged installation
** R
** inst
** byte-compile and prepare package for lazy loading
** help
*** installing help indices
  converting help for package 'BioMM'
    finding HTML links ... done
    BioMM                                   html  
    BioMMstage2pred                         html  
    baseGLMnet                              html  
    baseModel                               html  
    baseRandForest                          html  
    baseSVM                                 html  
    cirPlot4pathway                         html  
    classifiACC                             html  
    getDataByFilter                         html  
    getMetrics                              html  
    omics2pathlist                          html  
    plotRankedFeature                       html  
    plotVarExplained                        html  
    predByBS                                html  
    predByCV                                html  
    predByFS                                html  
    reconBySupervised                       html  
    reconByUnsupervised                     html  
** building package indices
** installing vignettes
** testing if installed package can be loaded from temporary location
** testing if installed package can be loaded from final location
** testing if installed package keeps a record of temporary installation path

install for x64

* installing *source* package 'BioMM' ...
** testing if installed package can be loaded
* MD5 sums
packaged installation of 'BioMM' as BioMM_1.9.0.zip
* DONE (BioMM)