Back to Multiple platform build/check report for BioC 3.14
A[B]CDEFGHIJKLMNOPQRSTUVWXYZ

This page was generated on 2022-01-24 13:07:20 -0500 (Mon, 24 Jan 2022).

HostnameOSArch (*)R versionInstalled pkgs
nebbiolo2Linux (Ubuntu 20.04.4 LTS)x86_644.1.2 (2021-11-01) -- "Bird Hippie" 4329
tokay2Windows Server 2012 R2 Standardx644.1.2 (2021-11-01) -- "Bird Hippie" 4080
machv2macOS 10.14.6 Mojavex86_644.1.2 (2021-11-01) -- "Bird Hippie" 4141
Click on any hostname to see more info about the system (e.g. compilers)      (*) as reported by 'uname -p', except on Windows and Mac OS X

BUILD BIN results for BioMM on machv2


To the developers/maintainers of the BioMM package:
- Please allow up to 24 hours (and sometimes 48 hours) for your latest push to git@git.bioconductor.org:packages/BioMM.git to
reflect on this report. See How and When does the builder pull? When will my changes propagate? here for more information.
- Make sure to use the following settings in order to reproduce any error or warning you see on this page.

raw results

Package 184/2083HostnameOS / ArchINSTALLBUILDCHECKBUILD BIN
BioMM 1.10.0  (landing page)
Junfang Chen
Snapshot Date: 2022-01-23 01:55:04 -0500 (Sun, 23 Jan 2022)
git_url: https://git.bioconductor.org/packages/BioMM
git_branch: RELEASE_3_14
git_last_commit: 861a791
git_last_commit_date: 2021-10-26 12:49:29 -0500 (Tue, 26 Oct 2021)
nebbiolo2Linux (Ubuntu 20.04.4 LTS) / x86_64  OK    OK    OK  UNNEEDED, same version is already published
tokay2Windows Server 2012 R2 Standard / x64  OK    OK    OK    OK  UNNEEDED, same version is already published
machv2macOS 10.14.6 Mojave / x86_64  OK    OK    OK    OK  UNNEEDED, same version is already published

Summary

Package: BioMM
Version: 1.10.0
Command: rm -rf BioMM.buildbin-libdir && mkdir BioMM.buildbin-libdir && /Users/biocbuild/BBS/utils/build-universal.sh BioMM_1.10.0.tar.gz /Library/Frameworks/R.framework/Resources/bin/R BioMM.buildbin-libdir
StartedAt: 2022-01-23 20:01:52 -0500 (Sun, 23 Jan 2022)
EndedAt: 2022-01-23 20:02:17 -0500 (Sun, 23 Jan 2022)
EllapsedTime: 25.1 seconds
RetCode: 0
Status:   OK  
PackageFile: BioMM_1.10.0.tgz
PackageFileSize: 2.929 MiB

Command output

##############################################################################
##############################################################################
###
### Running command:
###
###   rm -rf BioMM.buildbin-libdir && mkdir BioMM.buildbin-libdir && /Users/biocbuild/BBS/utils/build-universal.sh BioMM_1.10.0.tar.gz /Library/Frameworks/R.framework/Resources/bin/R BioMM.buildbin-libdir
###
##############################################################################
##############################################################################


>>>>>>> 
>>>>>>> INSTALLATION WITH 'R CMD INSTALL --preclean --no-multiarch --library=BioMM.buildbin-libdir BioMM_1.10.0.tar.gz'
>>>>>>> 

* installing *source* package ‘BioMM’ ...
** using staged installation
** R
** inst
** byte-compile and prepare package for lazy loading
** help
*** installing help indices
** building package indices
** installing vignettes
** testing if installed package can be loaded from temporary location
** testing if installed package can be loaded from final location
** testing if installed package keeps a record of temporary installation path
* DONE (BioMM)