Back to Multiple platform build/check report for BioC 3.14
A[B]CDEFGHIJKLMNOPQRSTUVWXYZ

This page was generated on 2021-10-22 12:04:19 -0400 (Fri, 22 Oct 2021).

BUILD BIN results for BioCor on riesling1

To the developers/maintainers of the BioCor package:
- Please allow up to 24 hours (and sometimes 48 hours) for your latest push to git@git.bioconductor.org:packages/BioCor.git to
reflect on this report. See How and When does the builder pull? When will my changes propagate? here for more information.
- Make sure to use the following settings in order to reproduce any error or warning you see on this page.

raw results

Package 164/2075HostnameOS / ArchINSTALLBUILDCHECKBUILD BIN
BioCor 1.17.0  (landing page)
LluĂ­s Revilla Sancho
Snapshot Date: 2021-10-21 14:50:08 -0400 (Thu, 21 Oct 2021)
git_url: https://git.bioconductor.org/packages/BioCor
git_branch: master
git_last_commit: 51bb200
git_last_commit_date: 2021-05-19 12:26:34 -0400 (Wed, 19 May 2021)
nebbiolo2Linux (Ubuntu 20.04.2 LTS) / x86_64  OK    OK    OK  UNNEEDED, same version is already published
riesling1Windows Server 2019 Standard / x64  OK    OK    OK    OK  UNNEEDED, same version is already published
merida1macOS 10.14.6 Mojave / x86_64  OK    OK    OK    OK  UNNEEDED, same version is already published

Summary

Package: BioCor
Version: 1.17.0
Command: rm -rf BioCor.buildbin-libdir && mkdir BioCor.buildbin-libdir && D:\biocbuild\bbs-3.14-bioc\R\bin\R.exe CMD INSTALL --merge-multiarch --build --library=BioCor.buildbin-libdir BioCor_1.17.0.tar.gz
StartedAt: 2021-10-22 04:33:33 -0400 (Fri, 22 Oct 2021)
EndedAt: 2021-10-22 04:37:33 -0400 (Fri, 22 Oct 2021)
EllapsedTime: 240.2 seconds
RetCode: 0
Status:   OK  
PackageFile: BioCor_1.17.0.zip
PackageFileSize: 1.099 MiB

Command output

##############################################################################
##############################################################################
###
### Running command:
###
###   rm -rf BioCor.buildbin-libdir && mkdir BioCor.buildbin-libdir && D:\biocbuild\bbs-3.14-bioc\R\bin\R.exe CMD INSTALL --merge-multiarch --build --library=BioCor.buildbin-libdir BioCor_1.17.0.tar.gz
###
##############################################################################
##############################################################################



install for i386

* installing *source* package 'BioCor' ...
** using staged installation
** R
** inst
** byte-compile and prepare package for lazy loading
Creating a generic function from function 'clusterGeneSim' in package 'BioCor'
Creating a generic function from function 'clusterSim' in package 'BioCor'
Creating a generic function from function 'geneSim' in package 'BioCor'
Creating a generic function from function 'mclusterGeneSim' in package 'BioCor'
Creating a generic function from function 'mclusterSim' in package 'BioCor'
Creating a generic function from function 'mgeneSim' in package 'BioCor'
Creating a generic function from function 'mpathSim' in package 'BioCor'
Creating a generic function from function 'pathSim' in package 'BioCor'
** help
*** installing help indices
  converting help for package 'BioCor'
    finding HTML links ... done
    AintoB                                  html  
    BioCor-package                          html  
    addSimilarities                         html  
    clusterGeneSim                          html  
    clusterSim                              html  
    combinadic                              html  
    combineScores                           html  
    combineSources                          html  
    conversions                             html  
    diceSim                                 html  
    duplicateIndices                        html  
    geneSim                                 html  
    incidence-list-method                   html  
    inverseList                             html  
    mclusterGeneSim                         html  
    mclusterSim                             html  
    mgeneSim                                html  
    mpathSim                                html  
    pathSim                                 html  
    removeDup                               html  
    seq2mat                                 html  
    similarities                            html  
    weighted                                html  
*** copying figures
** building package indices
** installing vignettes
** testing if installed package can be loaded from temporary location
** testing if installed package can be loaded from final location
** testing if installed package keeps a record of temporary installation path

install for x64

* installing *source* package 'BioCor' ...
** testing if installed package can be loaded
* MD5 sums
packaged installation of 'BioCor' as BioCor_1.17.0.zip
* DONE (BioCor)