Back to Multiple platform build/check report for BioC 3.14
A[B]CDEFGHIJKLMNOPQRSTUVWXYZ

This page was generated on 2022-01-19 13:07:42 -0500 (Wed, 19 Jan 2022).

HostnameOSArch (*)R versionInstalled pkgs
nebbiolo2Linux (Ubuntu 20.04.4 LTS)x86_644.1.2 (2021-11-01) -- "Bird Hippie" 4328
tokay2Windows Server 2012 R2 Standardx644.1.2 (2021-11-01) -- "Bird Hippie" 4077
machv2macOS 10.14.6 Mojavex86_644.1.2 (2021-11-01) -- "Bird Hippie" 4138
Click on any hostname to see more info about the system (e.g. compilers)      (*) as reported by 'uname -p', except on Windows and Mac OS X

BUILD BIN results for BioCor on machv2


To the developers/maintainers of the BioCor package:
- Please allow up to 24 hours (and sometimes 48 hours) for your latest push to git@git.bioconductor.org:packages/BioCor.git to
reflect on this report. See How and When does the builder pull? When will my changes propagate? here for more information.
- Make sure to use the following settings in order to reproduce any error or warning you see on this page.

raw results

Package 164/2083HostnameOS / ArchINSTALLBUILDCHECKBUILD BIN
BioCor 1.18.0  (landing page)
Lluís Revilla Sancho
Snapshot Date: 2022-01-18 01:55:07 -0500 (Tue, 18 Jan 2022)
git_url: https://git.bioconductor.org/packages/BioCor
git_branch: RELEASE_3_14
git_last_commit: 867e619
git_last_commit_date: 2021-10-26 12:33:55 -0500 (Tue, 26 Oct 2021)
nebbiolo2Linux (Ubuntu 20.04.4 LTS) / x86_64  OK    OK    OK  UNNEEDED, same version is already published
tokay2Windows Server 2012 R2 Standard / x64  OK    OK    OK    OK  UNNEEDED, same version is already published
machv2macOS 10.14.6 Mojave / x86_64  OK    OK    OK    OK  UNNEEDED, same version is already published

Summary

Package: BioCor
Version: 1.18.0
Command: rm -rf BioCor.buildbin-libdir && mkdir BioCor.buildbin-libdir && /Users/biocbuild/BBS/utils/build-universal.sh BioCor_1.18.0.tar.gz /Library/Frameworks/R.framework/Resources/bin/R BioCor.buildbin-libdir
StartedAt: 2022-01-18 19:56:55 -0500 (Tue, 18 Jan 2022)
EndedAt: 2022-01-18 19:57:33 -0500 (Tue, 18 Jan 2022)
EllapsedTime: 37.6 seconds
RetCode: 0
Status:   OK  
PackageFile: BioCor_1.18.0.tgz
PackageFileSize: 1.387 MiB

Command output

##############################################################################
##############################################################################
###
### Running command:
###
###   rm -rf BioCor.buildbin-libdir && mkdir BioCor.buildbin-libdir && /Users/biocbuild/BBS/utils/build-universal.sh BioCor_1.18.0.tar.gz /Library/Frameworks/R.framework/Resources/bin/R BioCor.buildbin-libdir
###
##############################################################################
##############################################################################


>>>>>>> 
>>>>>>> INSTALLATION WITH 'R CMD INSTALL --preclean --no-multiarch --library=BioCor.buildbin-libdir BioCor_1.18.0.tar.gz'
>>>>>>> 

* installing *source* package ‘BioCor’ ...
** using staged installation
** R
** inst
** byte-compile and prepare package for lazy loading
Creating a generic function from function ‘clusterGeneSim’ in package ‘BioCor’
Creating a generic function from function ‘clusterSim’ in package ‘BioCor’
Creating a generic function from function ‘geneSim’ in package ‘BioCor’
Creating a generic function from function ‘mclusterGeneSim’ in package ‘BioCor’
Creating a generic function from function ‘mclusterSim’ in package ‘BioCor’
Creating a generic function from function ‘mgeneSim’ in package ‘BioCor’
Creating a generic function from function ‘mpathSim’ in package ‘BioCor’
Creating a generic function from function ‘pathSim’ in package ‘BioCor’
** help
*** installing help indices
*** copying figures
** building package indices
** installing vignettes
** testing if installed package can be loaded from temporary location
** testing if installed package can be loaded from final location
** testing if installed package keeps a record of temporary installation path
* DONE (BioCor)