Back to Multiple platform build/check report for BioC 3.14
A[B]CDEFGHIJKLMNOPQRSTUVWXYZ

This page was generated on 2022-01-21 13:06:00 -0500 (Fri, 21 Jan 2022).

HostnameOSArch (*)R versionInstalled pkgs
nebbiolo2Linux (Ubuntu 20.04.4 LTS)x86_644.1.2 (2021-11-01) -- "Bird Hippie" 4329
tokay2Windows Server 2012 R2 Standardx644.1.2 (2021-11-01) -- "Bird Hippie" 4079
machv2macOS 10.14.6 Mojavex86_644.1.2 (2021-11-01) -- "Bird Hippie" 4140
Click on any hostname to see more info about the system (e.g. compilers)      (*) as reported by 'uname -p', except on Windows and Mac OS X

BUILD BIN results for BindingSiteFinder on tokay2


To the developers/maintainers of the BindingSiteFinder package:
- Please allow up to 24 hours (and sometimes 48 hours) for your latest push to git@git.bioconductor.org:packages/BindingSiteFinder.git to
reflect on this report. See How and When does the builder pull? When will my changes propagate? here for more information.
- Make sure to use the following settings in order to reproduce any error or warning you see on this page.

raw results

Package 150/2083HostnameOS / ArchINSTALLBUILDCHECKBUILD BIN
BindingSiteFinder 1.0.0  (landing page)
Mirko Br├╝ggemann
Snapshot Date: 2022-01-20 01:55:04 -0500 (Thu, 20 Jan 2022)
git_url: https://git.bioconductor.org/packages/BindingSiteFinder
git_branch: RELEASE_3_14
git_last_commit: be6256c
git_last_commit_date: 2021-10-26 13:11:23 -0500 (Tue, 26 Oct 2021)
nebbiolo2Linux (Ubuntu 20.04.4 LTS) / x86_64  OK    OK    OK  UNNEEDED, same version is already published
tokay2Windows Server 2012 R2 Standard / x64  OK    OK    OK    OK  UNNEEDED, same version is already published
machv2macOS 10.14.6 Mojave / x86_64  OK    OK    OK    OK  UNNEEDED, same version is already published

Summary

Package: BindingSiteFinder
Version: 1.0.0
Command: rm -rf BindingSiteFinder.buildbin-libdir && mkdir BindingSiteFinder.buildbin-libdir && C:\Users\biocbuild\bbs-3.14-bioc\R\bin\R.exe CMD INSTALL --merge-multiarch --build --library=BindingSiteFinder.buildbin-libdir BindingSiteFinder_1.0.0.tar.gz
StartedAt: 2022-01-21 05:36:41 -0500 (Fri, 21 Jan 2022)
EndedAt: 2022-01-21 05:37:46 -0500 (Fri, 21 Jan 2022)
EllapsedTime: 65.3 seconds
RetCode: 0
Status:   OK  
PackageFile: BindingSiteFinder_1.0.0.zip
PackageFileSize: 2.734 MiB

Command output

##############################################################################
##############################################################################
###
### Running command:
###
###   rm -rf BindingSiteFinder.buildbin-libdir && mkdir BindingSiteFinder.buildbin-libdir && C:\Users\biocbuild\bbs-3.14-bioc\R\bin\R.exe CMD INSTALL --merge-multiarch --build --library=BindingSiteFinder.buildbin-libdir BindingSiteFinder_1.0.0.tar.gz
###
##############################################################################
##############################################################################



install for i386

* installing *source* package 'BindingSiteFinder' ...
** using staged installation
** R
** inst
** byte-compile and prepare package for lazy loading
** help
*** installing help indices
  converting help for package 'BindingSiteFinder'
    finding HTML links ... done
    BSFDataSet                              html  
    annotateWithScore                       html  
    coverageOverRanges                      html  
    getMeta                                 html  
    getRanges                               html  
    getSignal                               html  
    getSummary                              html  
    makeBindingSites                        html  
    mergeSummaryPlot                        html  
    rangeCoveragePlot                       html  
    reproducibilityFilter                   html  
    reproducibiliyCutoffPlot                html  
    setRanges                               html  
    setSignal                               html  
    setSummary                              html  
    show                                    html  
    supportRatio                            html  
    supportRatioPlot                        html  
** building package indices
** installing vignettes
** testing if installed package can be loaded from temporary location
** testing if installed package can be loaded from final location
** testing if installed package keeps a record of temporary installation path

install for x64

* installing *source* package 'BindingSiteFinder' ...
** testing if installed package can be loaded
* MD5 sums
packaged installation of 'BindingSiteFinder' as BindingSiteFinder_1.0.0.zip
* DONE (BindingSiteFinder)